BEGIN:VCALENDAR
VERSION:2.0
PRODID:-//McDougal Sewing Center - ECPv6.15.17.1//NONSGML v1.0//EN
CALSCALE:GREGORIAN
METHOD:PUBLISH
X-ORIGINAL-URL:https://mcdougalsewing.com
X-WR-CALDESC:Events for McDougal Sewing Center
REFRESH-INTERVAL;VALUE=DURATION:PT1H
X-Robots-Tag:noindex
X-PUBLISHED-TTL:PT1H
BEGIN:VTIMEZONE
TZID:America/Chicago
BEGIN:DAYLIGHT
TZOFFSETFROM:-0600
TZOFFSETTO:-0500
TZNAME:CDT
DTSTART:20230312T080000
END:DAYLIGHT
BEGIN:STANDARD
TZOFFSETFROM:-0500
TZOFFSETTO:-0600
TZNAME:CST
DTSTART:20231105T070000
END:STANDARD
BEGIN:DAYLIGHT
TZOFFSETFROM:-0600
TZOFFSETTO:-0500
TZNAME:CDT
DTSTART:20240310T080000
END:DAYLIGHT
BEGIN:STANDARD
TZOFFSETFROM:-0500
TZOFFSETTO:-0600
TZNAME:CST
DTSTART:20241103T070000
END:STANDARD
BEGIN:DAYLIGHT
TZOFFSETFROM:-0600
TZOFFSETTO:-0500
TZNAME:CDT
DTSTART:20250309T080000
END:DAYLIGHT
BEGIN:STANDARD
TZOFFSETFROM:-0500
TZOFFSETTO:-0600
TZNAME:CST
DTSTART:20251102T070000
END:STANDARD
END:VTIMEZONE
BEGIN:VEVENT
DTSTART;TZID=America/Chicago:20240614T110000
DTEND;TZID=America/Chicago:20240614T130000
DTSTAMP:20260423T135301
CREATED:20240304T195829Z
LAST-MODIFIED:20240509T105036Z
UID:10002979-1718362800-1718370000@mcdougalsewing.com
SUMMARY:Feet Fetish - Sewing Machine Cover
DESCRIPTION:Use the measurements from your sewing machine or Serger or Embroidery arm and create a nice\, lined cover with piping and decorative stitches! \nDownload Supply List: June 2024 Feet Fetish Club \nor read the following. \nSupplies needed: \n\nOne yard cotton fabric for the outer layer and one yard cotton fabric for lining.\nOne package fusible batting.\nOne package bias tape for pockets.\nOne-two packages of piping.\nFlexible tape measure.\nChalk or fabric marking pen.\nCutting mat\, rotary cutter\, ruler for rotary cutting. We do have these at the store if needed.\nA few decorative threads\, pretty buttons or specialty cords or yarns to decorate your cover. Cotton thread for top and bobbin for\nNeedles- 90/14 Quilting or Microtex needles.\n\n\nPresser feet- Piping foot to fit your packaged piping\, decorative stitch foot\, regular sewing foot\, button sewing foot if you use buttons\, yarn or cording feet if you want to use that option.\nSewing machine complete with basic sewing supplies. Only bring supplies needed for your project PLEASE!\nUsual basic sewing supplies.\nIf you are doing a Serger or embroidery arm cover and you are not pre-cutting fabric before class\, then you’ll be bringing your machine to sew it and the other machine or Embroidery arm for measurements.\nYour Math Brain!\n\nPre-Cut Option: \nIf you want to have all your fabric pre-cut before class\, here are the measurements needed: \n\nMain cover & lining & fusible batting: Length = sewing machine depth + 2x the sewing machine height; Width = sewing machine width + 1 1/2 inches \nSides & lining & fusible batting (cut 2 of each): Length = sewing machine height + 1/2 inch; Width = sewing machine depth + 1 inch \nPocket: Length = 2x (foot control width + 2.5 inches); Width = sewing machine width + 1 1/2 inches \nHandle opening facing & fusible batting: Length = handle length + \n\n 4 inches; Width = handle width + 4 inches \n\n 
URL:https://mcdougalsewing.com/event/feet-fetish-sewing-machine-cover-6-6/
LOCATION:McDougal Main Store\, 20141 Park Row\, Katy\, TX\, 77449\, United States
CATEGORIES:Main Store
ORGANIZER;CN="McDougal Sewing Center":MAILTO:karen.welch@mcdougalsewing.com
GEO:29.789449;-95.7261697
X-APPLE-STRUCTURED-LOCATION;VALUE=URI;X-ADDRESS=McDougal Main Store 20141 Park Row Katy TX 77449 United States;X-APPLE-RADIUS=500;X-TITLE=20141 Park Row:geo:-95.7261697,29.789449
END:VEVENT
END:VCALENDAR