BEGIN:VCALENDAR
VERSION:2.0
PRODID:-//McDougal Sewing Center - ECPv6.15.17.1//NONSGML v1.0//EN
CALSCALE:GREGORIAN
METHOD:PUBLISH
X-ORIGINAL-URL:https://mcdougalsewing.com
X-WR-CALDESC:Events for McDougal Sewing Center
REFRESH-INTERVAL;VALUE=DURATION:PT1H
X-Robots-Tag:noindex
X-PUBLISHED-TTL:PT1H
BEGIN:VTIMEZONE
TZID:America/Chicago
BEGIN:DAYLIGHT
TZOFFSETFROM:-0600
TZOFFSETTO:-0500
TZNAME:CDT
DTSTART:20230312T080000
END:DAYLIGHT
BEGIN:STANDARD
TZOFFSETFROM:-0500
TZOFFSETTO:-0600
TZNAME:CST
DTSTART:20231105T070000
END:STANDARD
BEGIN:DAYLIGHT
TZOFFSETFROM:-0600
TZOFFSETTO:-0500
TZNAME:CDT
DTSTART:20240310T080000
END:DAYLIGHT
BEGIN:STANDARD
TZOFFSETFROM:-0500
TZOFFSETTO:-0600
TZNAME:CST
DTSTART:20241103T070000
END:STANDARD
BEGIN:DAYLIGHT
TZOFFSETFROM:-0600
TZOFFSETTO:-0500
TZNAME:CDT
DTSTART:20250309T080000
END:DAYLIGHT
BEGIN:STANDARD
TZOFFSETFROM:-0500
TZOFFSETTO:-0600
TZNAME:CST
DTSTART:20251102T070000
END:STANDARD
END:VTIMEZONE
BEGIN:VEVENT
DTSTART;TZID=America/Chicago:20240625T103000
DTEND;TZID=America/Chicago:20240625T130000
DTSTAMP:20260421T213431
CREATED:20240308T174621Z
LAST-MODIFIED:20240426T010855Z
UID:10003447-1719311400-1719320400@mcdougalsewing.com
SUMMARY:Crossbody Bag Camp Day (2)
DESCRIPTION:Camp Dates: June 24-26     Ages 8 & up\nPurchase Ticket: Crossbody Bag Camp Day (1)\nAll camps are limited to 6 students and start by completing a small practice project which most sewers can take home on the first day. Sewers then complete the main project and time permitting another small project. \nAll campers are expected to thread and operate their machines independently. \nProjects include a Crossbody bag\, coin purse\, and time permitting\, a zippered earbud holder. \nSupply List:  2024CrossBody-SupplyList
URL:https://mcdougalsewing.com/event/crossbody-bag-camp-day-2/
LOCATION:McDougal Main Store\, 20141 Park Row\, Katy\, TX\, 77449\, United States
CATEGORIES:Main Store
ATTACH;FMTTYPE=image/jpeg:https://mcdougalsewing.com/wp-content/uploads/2024/03/crossbody.jpg
ORGANIZER;CN="McDougal Sewing Center":MAILTO:karen.welch@mcdougalsewing.com
GEO:29.789449;-95.7261697
X-APPLE-STRUCTURED-LOCATION;VALUE=URI;X-ADDRESS=McDougal Main Store 20141 Park Row Katy TX 77449 United States;X-APPLE-RADIUS=500;X-TITLE=20141 Park Row:geo:-95.7261697,29.789449
END:VEVENT
BEGIN:VEVENT
DTSTART;TZID=America/Chicago:20240625T140000
DTEND;TZID=America/Chicago:20240625T163000
DTSTAMP:20260421T213431
CREATED:20240612T031204Z
LAST-MODIFIED:20240614T175628Z
UID:10003559-1719324000-1719333000@mcdougalsewing.com
SUMMARY:CrossBody Bag Camps (Day 2)
DESCRIPTION:Camp Dates: June 24-26    All Ages\nPurchase Ticket: Crossbody Bag Camp Day (1)\nAll camps are limited to 6 students and start by completing a small practice project which most sewers can take home on the first day. Sewers then complete the main project and time permitting another small project. \nAll campers are expected to thread and operate their machines independently. \nProjects include a Crossbody bag\, coin purse\, and time permitting\, a zippered earbud holder. \nSupply List:  2024CrossBody-SupplyList
URL:https://mcdougalsewing.com/event/crossbody-bag-camps-day-2/
LOCATION:McDougal Main Store\, 20141 Park Row\, Katy\, TX\, 77449\, United States
CATEGORIES:Main Store
ATTACH;FMTTYPE=image/jpeg:https://mcdougalsewing.com/wp-content/uploads/2024/03/crossbody.jpg
ORGANIZER;CN="McDougal Sewing Center":MAILTO:karen.welch@mcdougalsewing.com
GEO:29.789449;-95.7261697
X-APPLE-STRUCTURED-LOCATION;VALUE=URI;X-ADDRESS=McDougal Main Store 20141 Park Row Katy TX 77449 United States;X-APPLE-RADIUS=500;X-TITLE=20141 Park Row:geo:-95.7261697,29.789449
END:VEVENT
END:VCALENDAR