BEGIN:VCALENDAR
VERSION:2.0
PRODID:-//McDougal Sewing Center - ECPv6.15.17.1//NONSGML v1.0//EN
CALSCALE:GREGORIAN
METHOD:PUBLISH
X-WR-CALNAME:McDougal Sewing Center
X-ORIGINAL-URL:https://mcdougalsewing.com
X-WR-CALDESC:Events for McDougal Sewing Center
REFRESH-INTERVAL;VALUE=DURATION:PT1H
X-Robots-Tag:noindex
X-PUBLISHED-TTL:PT1H
BEGIN:VTIMEZONE
TZID:America/Chicago
BEGIN:DAYLIGHT
TZOFFSETFROM:-0600
TZOFFSETTO:-0500
TZNAME:CDT
DTSTART:20230312T080000
END:DAYLIGHT
BEGIN:STANDARD
TZOFFSETFROM:-0500
TZOFFSETTO:-0600
TZNAME:CST
DTSTART:20231105T070000
END:STANDARD
BEGIN:DAYLIGHT
TZOFFSETFROM:-0600
TZOFFSETTO:-0500
TZNAME:CDT
DTSTART:20240310T080000
END:DAYLIGHT
BEGIN:STANDARD
TZOFFSETFROM:-0500
TZOFFSETTO:-0600
TZNAME:CST
DTSTART:20241103T070000
END:STANDARD
BEGIN:DAYLIGHT
TZOFFSETFROM:-0600
TZOFFSETTO:-0500
TZNAME:CDT
DTSTART:20250309T080000
END:DAYLIGHT
BEGIN:STANDARD
TZOFFSETFROM:-0500
TZOFFSETTO:-0600
TZNAME:CST
DTSTART:20251102T070000
END:STANDARD
END:VTIMEZONE
BEGIN:VEVENT
DTSTART;TZID=America/Chicago:20240702T103000
DTEND;TZID=America/Chicago:20240702T130000
DTSTAMP:20260423T152951
CREATED:20240307T024616Z
LAST-MODIFIED:20240612T033845Z
UID:10003408-1719916200-1719925200@mcdougalsewing.com
SUMMARY:Beginner Sleep Accessories AM (Day 2)
DESCRIPTION:Camp Dates – July 1-3   Age 8 & up\nPurchase Tickets on Beginner Sleep Accessories AM (Day 1)\n \nAll camps are limited to 6 students and start by completing a small practice project which most sewers can take home on the first day. Sewers then complete the main project and time permitting another small project. \nThis camp is for Beginners with little or no experience. Campers learn to thread and operate the machine and are guided through cutting and stitching a standard-size pillowcase and a sleep mask. A complete sewing kit is included. \nProjects include Drawstring Bag\, Sleep Mask\, and a Pillowcase. \nSupply List: 2024BeginnerSleepAccessories-SupplyList \n 
URL:https://mcdougalsewing.com/event/beginner-sleep-accessories-2/
LOCATION:McDougal Main Store\, 20141 Park Row\, Katy\, TX\, 77449\, United States
CATEGORIES:Main Store
ATTACH;FMTTYPE=image/jpeg:https://mcdougalsewing.com/wp-content/uploads/2024/03/sleep-accessory.jpg
ORGANIZER;CN="McDougal Sewing Center":MAILTO:karen.welch@mcdougalsewing.com
GEO:29.789449;-95.7261697
X-APPLE-STRUCTURED-LOCATION;VALUE=URI;X-ADDRESS=McDougal Main Store 20141 Park Row Katy TX 77449 United States;X-APPLE-RADIUS=500;X-TITLE=20141 Park Row:geo:-95.7261697,29.789449
END:VEVENT
BEGIN:VEVENT
DTSTART;TZID=America/Chicago:20240702T133000
DTEND;TZID=America/Chicago:20240702T153000
DTSTAMP:20260423T152951
CREATED:20240307T025521Z
LAST-MODIFIED:20240612T033858Z
UID:10003410-1719927000-1719934200@mcdougalsewing.com
SUMMARY:Beginner Sleep Accessories PM (Day 2)
DESCRIPTION:Camp Dates – July 1-3   Age 13 & up\nPurchase Tickets on Beginner Sleep Accessories PM (Day 1)\n \nAll camps are limited to 6 students and start by completing a small practice project which most sewers can take home on the first day. Sewers then complete the main project and time permitting another small project. \nThis camp is for Beginners with little or no experience. Campers learn to thread and operate the machine and are guided through cutting and stitching a standard-size pillowcase and a sleep mask. A complete sewing kit is included. \nProjects include Drawstring Bag\, Sleep Mask\, and a Pillowcase. \nSupply List: 2024BeginnerSleepAccessories-SupplyList \n 
URL:https://mcdougalsewing.com/event/beginner-sleep-accessories-4/
LOCATION:McDougal Main Store\, 20141 Park Row\, Katy\, TX\, 77449\, United States
CATEGORIES:Main Store
ATTACH;FMTTYPE=image/jpeg:https://mcdougalsewing.com/wp-content/uploads/2024/03/sleep-accessory.jpg
ORGANIZER;CN="McDougal Sewing Center":MAILTO:karen.welch@mcdougalsewing.com
GEO:29.789449;-95.7261697
X-APPLE-STRUCTURED-LOCATION;VALUE=URI;X-ADDRESS=McDougal Main Store 20141 Park Row Katy TX 77449 United States;X-APPLE-RADIUS=500;X-TITLE=20141 Park Row:geo:-95.7261697,29.789449
END:VEVENT
END:VCALENDAR