BEGIN:VCALENDAR
VERSION:2.0
PRODID:-//McDougal Sewing Center - ECPv6.15.17.1//NONSGML v1.0//EN
CALSCALE:GREGORIAN
METHOD:PUBLISH
X-WR-CALNAME:McDougal Sewing Center
X-ORIGINAL-URL:https://mcdougalsewing.com
X-WR-CALDESC:Events for McDougal Sewing Center
REFRESH-INTERVAL;VALUE=DURATION:PT1H
X-Robots-Tag:noindex
X-PUBLISHED-TTL:PT1H
BEGIN:VTIMEZONE
TZID:America/Chicago
BEGIN:DAYLIGHT
TZOFFSETFROM:-0600
TZOFFSETTO:-0500
TZNAME:CDT
DTSTART:20230312T080000
END:DAYLIGHT
BEGIN:STANDARD
TZOFFSETFROM:-0500
TZOFFSETTO:-0600
TZNAME:CST
DTSTART:20231105T070000
END:STANDARD
BEGIN:DAYLIGHT
TZOFFSETFROM:-0600
TZOFFSETTO:-0500
TZNAME:CDT
DTSTART:20240310T080000
END:DAYLIGHT
BEGIN:STANDARD
TZOFFSETFROM:-0500
TZOFFSETTO:-0600
TZNAME:CST
DTSTART:20241103T070000
END:STANDARD
BEGIN:DAYLIGHT
TZOFFSETFROM:-0600
TZOFFSETTO:-0500
TZNAME:CDT
DTSTART:20250309T080000
END:DAYLIGHT
BEGIN:STANDARD
TZOFFSETFROM:-0500
TZOFFSETTO:-0600
TZNAME:CST
DTSTART:20251102T070000
END:STANDARD
END:VTIMEZONE
BEGIN:VEVENT
DTSTART;TZID=America/Chicago:20240705T103000
DTEND;TZID=America/Chicago:20240705T123000
DTSTAMP:20260423T180715
CREATED:20240527T225656Z
LAST-MODIFIED:20240530T005110Z
UID:10003480-1720175400-1720182600@mcdougalsewing.com
SUMMARY:Serger Basics
DESCRIPTION:Welcome to the world of serging!  \nThis class is for all serger owners\, featuring 4-thread and 3-thread techniques. We will learn how a serger works\, threading steps and basic serger skills. \nThis class is open to customers who purchased a qualifying Serger from any McDougal Sewing location. McDougal Sewing does NOT participate in the free guide class for Singer sergers\, so this class is not for Singer sergers. We do offer a Serger 101 class that is open to the public for a fee for sergers not purchased at McDougal Sewing. \nYou must present a sales receipt from McDougal Sewing to take this free class. \nFor those that have a chain-stitch or cover-stitch serger\, contact rebecca.joseph@mcdougalsewing.com for this class. \nDownload Supply List: Serger Basics Supply List
URL:https://mcdougalsewing.com/event/serger-basics-19/
LOCATION:McDougal Main Store\, 20141 Park Row\, Katy\, TX\, 77449\, United States
CATEGORIES:Main Store
ATTACH;FMTTYPE=image/jpeg:https://mcdougalsewing.com/wp-content/uploads/2020/12/SVP-Zoom-Serger.jpg
ORGANIZER;CN="McDougal Sewing Center":MAILTO:karen.welch@mcdougalsewing.com
GEO:29.789449;-95.7261697
X-APPLE-STRUCTURED-LOCATION;VALUE=URI;X-ADDRESS=McDougal Main Store 20141 Park Row Katy TX 77449 United States;X-APPLE-RADIUS=500;X-TITLE=20141 Park Row:geo:-95.7261697,29.789449
END:VEVENT
BEGIN:VEVENT
DTSTART;TZID=America/Chicago:20240705T140000
DTEND;TZID=America/Chicago:20240705T160000
DTSTAMP:20260423T180715
CREATED:20240527T231545Z
LAST-MODIFIED:20240530T005308Z
UID:10003483-1720188000-1720195200@mcdougalsewing.com
SUMMARY:Serger Basics 101 (Open to the Public)
DESCRIPTION:SERGER 101 – OPEN TO THE PUBLIC\nGet out that serger\, dust it off and learn how to thread it\, and do some basic seams in this 2-hour class. This starter class is for 3/4 thread serging only. If you have a 5 thread serger\, we will not go into 5 threads or cover stitch. \nKIT IS INCLUDED\nSUPPLIES NEEDED: \n\nPlease bring your serger instruction manual\, all accessories that came with your serger\, extra needles for your serger\, power cord complete\, serger in good working order\, small scissors\, and tweezers.\nYou’ll also need 4 spools of SERGER CONE thread the same colors as the tension knobs: usually red\, yellow\, green\, and blue.\nFabric is provided by the instructor.\nCheck your manual to see if you have needed accessories for class or email rebecca.joseph@mcdougalsewing.com for clarification.\n\nYou must be 18 or over to take this class and only 1 person per serger.\n\nSerger MUST be in good working order.\n\nIf you don’t know if it is or not\, contact Rebecca at Rebecca.joseph@mcdougalsewing.com and she can talk you through this process.  No refunds are given if the serger doesn’t work the day of class.
URL:https://mcdougalsewing.com/event/serger-basics-101-open-to-the-public/
LOCATION:McDougal Main Store\, 20141 Park Row\, Katy\, TX\, 77449\, United States
CATEGORIES:Main Store
ATTACH;FMTTYPE=image/jpeg:https://mcdougalsewing.com/wp-content/uploads/2023/10/Singer_SE017_Elite_Serger_beauty.jpg
ORGANIZER;CN="McDougal Sewing Center":MAILTO:karen.welch@mcdougalsewing.com
GEO:29.789449;-95.7261697
X-APPLE-STRUCTURED-LOCATION;VALUE=URI;X-ADDRESS=McDougal Main Store 20141 Park Row Katy TX 77449 United States;X-APPLE-RADIUS=500;X-TITLE=20141 Park Row:geo:-95.7261697,29.789449
END:VEVENT
END:VCALENDAR