BEGIN:VCALENDAR
VERSION:2.0
PRODID:-//McDougal Sewing Center - ECPv6.15.17.1//NONSGML v1.0//EN
CALSCALE:GREGORIAN
METHOD:PUBLISH
X-WR-CALNAME:McDougal Sewing Center
X-ORIGINAL-URL:https://mcdougalsewing.com
X-WR-CALDESC:Events for McDougal Sewing Center
REFRESH-INTERVAL;VALUE=DURATION:PT1H
X-Robots-Tag:noindex
X-PUBLISHED-TTL:PT1H
BEGIN:VTIMEZONE
TZID:America/Chicago
BEGIN:DAYLIGHT
TZOFFSETFROM:-0600
TZOFFSETTO:-0500
TZNAME:CDT
DTSTART:20230312T080000
END:DAYLIGHT
BEGIN:STANDARD
TZOFFSETFROM:-0500
TZOFFSETTO:-0600
TZNAME:CST
DTSTART:20231105T070000
END:STANDARD
BEGIN:DAYLIGHT
TZOFFSETFROM:-0600
TZOFFSETTO:-0500
TZNAME:CDT
DTSTART:20240310T080000
END:DAYLIGHT
BEGIN:STANDARD
TZOFFSETFROM:-0500
TZOFFSETTO:-0600
TZNAME:CST
DTSTART:20241103T070000
END:STANDARD
BEGIN:DAYLIGHT
TZOFFSETFROM:-0600
TZOFFSETTO:-0500
TZNAME:CDT
DTSTART:20250309T080000
END:DAYLIGHT
BEGIN:STANDARD
TZOFFSETFROM:-0500
TZOFFSETTO:-0600
TZNAME:CST
DTSTART:20251102T070000
END:STANDARD
END:VTIMEZONE
BEGIN:VEVENT
DTSTART;TZID=America/Chicago:20240713T100000
DTEND;TZID=America/Chicago:20240713T233000
DTSTAMP:20260422T000610
CREATED:20240706T162721Z
LAST-MODIFIED:20240706T183523Z
UID:10003571-1720864800-1720913400@mcdougalsewing.com
SUMMARY:Introduction to Quilting 
DESCRIPTION:Introduction to Quilting Lecture style class\nIn this class\, you will learn \n\nquilting terminology\,\nquilting abbreviations\,\nabout tools of the trade\,\nhow to purchase fabric\,\npicking a block design\,\nhow much fabric you need\,\npicking and matching colors and fabric designs\,\nand troubleshooting your color combinations.\n\nYou are now ready for our class Beginning Quilting where we will practice pressing\, cutting\, sewing\, quilting and binding a small project. \nThere will be handouts so bring a pen or pencil to take additional notes
URL:https://mcdougalsewing.com/event/introduction-to-quilting/
LOCATION:McDougal Main Store\, 20141 Park Row\, Katy\, TX\, 77449\, United States
CATEGORIES:Main Store
ATTACH;FMTTYPE=image/png:https://mcdougalsewing.com/wp-content/uploads/2024/07/Quilting.Class.png
ORGANIZER;CN="McDougal Sewing Center":MAILTO:karen.welch@mcdougalsewing.com
GEO:29.789449;-95.7261697
X-APPLE-STRUCTURED-LOCATION;VALUE=URI;X-ADDRESS=McDougal Main Store 20141 Park Row Katy TX 77449 United States;X-APPLE-RADIUS=500;X-TITLE=20141 Park Row:geo:-95.7261697,29.789449
END:VEVENT
BEGIN:VEVENT
DTSTART;TZID=America/Chicago:20240713T130000
DTEND;TZID=America/Chicago:20240713T150000
DTSTAMP:20260422T000610
CREATED:20240528T001159Z
LAST-MODIFIED:20240530T011255Z
UID:10003492-1720875600-1720882800@mcdougalsewing.com
SUMMARY:Singer Sewing Machine Guide Class
DESCRIPTION:EXPERIENCE ALL YOUR MACHINE CAN DO FOR YOU WITH A FREE MACHINE GUIDE CLASS.\nSee how to set your machine for best performance. \nWe show you how to wind and insert your bobbin\, thread your machine; how to adjust tension\, length\, and width\, and choose your stitch patterns. \nSINGER® Sewing Machine Proof of Purchase Required: \n– A receipt with a date and your name must be presented to the teacher to take this free class. This proof of purchase can be a hard copy or an email or copy on your phone and  can be from a website or retail store. It MUST be a purchase within 9 months prior to class date. Only one person per machine\, no auditing of this free class. If a translator is needed\, please email rebecca.joseph@mcdougalsewing.com . If your machine came with a Coupon for a Free class\, bring this also. \nHow to prepare to come to class: \nPlease have your machine ready to thread before you come to class by removing it from the box\, and taking off all tape and styrofoam\, All you need to bring is everything that came in the box\, do NOT bring the box or any packaging to the classroom.  You’ll need a small pair of scissors to clip threads. \nSupply List: Mechanical Machine Basics Supply List
URL:https://mcdougalsewing.com/event/singer-sewing-machine-guide-class-8/
LOCATION:McDougal Main Store\, 20141 Park Row\, Katy\, TX\, 77449\, United States
CATEGORIES:Main Store
ATTACH;FMTTYPE=image/png:https://mcdougalsewing.com/wp-content/uploads/2018/03/singer.png
ORGANIZER;CN="McDougal Sewing Center":MAILTO:karen.welch@mcdougalsewing.com
GEO:29.789449;-95.7261697
X-APPLE-STRUCTURED-LOCATION;VALUE=URI;X-ADDRESS=McDougal Main Store 20141 Park Row Katy TX 77449 United States;X-APPLE-RADIUS=500;X-TITLE=20141 Park Row:geo:-95.7261697,29.789449
END:VEVENT
END:VCALENDAR