BEGIN:VCALENDAR
VERSION:2.0
PRODID:-//McDougal Sewing Center - ECPv6.15.17.1//NONSGML v1.0//EN
CALSCALE:GREGORIAN
METHOD:PUBLISH
X-ORIGINAL-URL:https://mcdougalsewing.com
X-WR-CALDESC:Events for McDougal Sewing Center
REFRESH-INTERVAL;VALUE=DURATION:PT1H
X-Robots-Tag:noindex
X-PUBLISHED-TTL:PT1H
BEGIN:VTIMEZONE
TZID:America/Chicago
BEGIN:DAYLIGHT
TZOFFSETFROM:-0600
TZOFFSETTO:-0500
TZNAME:CDT
DTSTART:20230312T080000
END:DAYLIGHT
BEGIN:STANDARD
TZOFFSETFROM:-0500
TZOFFSETTO:-0600
TZNAME:CST
DTSTART:20231105T070000
END:STANDARD
BEGIN:DAYLIGHT
TZOFFSETFROM:-0600
TZOFFSETTO:-0500
TZNAME:CDT
DTSTART:20240310T080000
END:DAYLIGHT
BEGIN:STANDARD
TZOFFSETFROM:-0500
TZOFFSETTO:-0600
TZNAME:CST
DTSTART:20241103T070000
END:STANDARD
BEGIN:DAYLIGHT
TZOFFSETFROM:-0600
TZOFFSETTO:-0500
TZNAME:CDT
DTSTART:20250309T080000
END:DAYLIGHT
BEGIN:STANDARD
TZOFFSETFROM:-0500
TZOFFSETTO:-0600
TZNAME:CST
DTSTART:20251102T070000
END:STANDARD
END:VTIMEZONE
BEGIN:VEVENT
DTSTART;VALUE=DATE:20241009
DTEND;VALUE=DATE:20241215
DTSTAMP:20260419T114313
CREATED:20241009T232947Z
LAST-MODIFIED:20241029T005919Z
UID:10003692-1728432000-1734220799@mcdougalsewing.com
SUMMARY:“We Care” Service  Project
DESCRIPTION:“We Care” Service  Project\nIn partnership with the Star of Hope mission\, we are asking you to support our efforts of sewing pillowcases and to help fill them with supplies recommended by Star of Hope for the adults\, children\, and infants who are residents. There is an urgent need\, and the sewing community is full of giving people. So\, help us have a successful service project. \nOn our website\, www.mcdougalsewing.com\, you will find a link to the pillowcase supplies and cutting instructions. In addition\, there will be a link to the urgent needs requested by the Star of Hope. \nSew Day at Our  \n20141 Park Row location: Thursday\, Nov. 14 from 3:00 pm – 6:00 pm\nWe will have machines set up for you to come sew. Bring a friend and your supplies and we will provide the coffee and refreshments. If you plan on coming please register so we can have enough machines. \nClick on the following link to sign up for the Sew Day:  “We Care” Service Project \nPlease drop off your donations at one of our locations by Dec. 14.\nDownload the following document for the list of supplies and the directions on how to make the pillowcases: ServiceProjectStepbyStep \nDonation List: Star-of-Hope-Donation-List
URL:https://mcdougalsewing.com/event/we-care-service-project-sewing/
LOCATION:McDougal Main Store\, 20141 Park Row\, Katy\, TX\, 77449\, United States
CATEGORIES:Main Store,Sugarland,Events
ATTACH;FMTTYPE=image/jpeg:https://mcdougalsewing.com/wp-content/uploads/2024/10/Star-of-Hope.jpg
ORGANIZER;CN="McDougal Sewing Center":MAILTO:karen.welch@mcdougalsewing.com
GEO:29.789449;-95.7261697
X-APPLE-STRUCTURED-LOCATION;VALUE=URI;X-ADDRESS=McDougal Main Store 20141 Park Row Katy TX 77449 United States;X-APPLE-RADIUS=500;X-TITLE=20141 Park Row:geo:-95.7261697,29.789449
END:VEVENT
BEGIN:VEVENT
DTSTART;TZID=America/Chicago:20241026T100000
DTEND;TZID=America/Chicago:20241026T123000
DTSTAMP:20260419T114313
CREATED:20240911T012133Z
LAST-MODIFIED:20240911T015407Z
UID:10003627-1729936800-1729945800@mcdougalsewing.com
SUMMARY:Quick In the Hoop Christmas Gifts
DESCRIPTION:This is a great class to learn more about your embroidery machine as well as a couple of great techniques like using vinyl and incorporating mylar into your embroidery. \nYou will make a stand alone snowglobe that uses clear vinyl and a stand alone lace angel that uses mylar.  Mylar gives it a shimmery look without having to use metallic thread. \nYour machine must be able to access designs via a USB\, direct connect or wirelessly.  No embroidery cards. \nFabric kit for snowglobe is available for $10. \nCall to reserve and pay. Kit includes fabrics\, batting\, interfacing\, vinyl and ribbon\, and sequins/trinkets. \nSupply List:    Quick In the Hoop Christmas Gifts
URL:https://mcdougalsewing.com/event/quick-in-the-hoop-christmas-gifts/
LOCATION:McDougal Main Store\, 20141 Park Row\, Katy\, TX\, 77449\, United States
CATEGORIES:Main Store
ATTACH;FMTTYPE=image/jpeg:https://mcdougalsewing.com/wp-content/uploads/2024/09/snow-globe-ith.jpg
ORGANIZER;CN="McDougal Sewing Center":MAILTO:karen.welch@mcdougalsewing.com
GEO:29.789449;-95.7261697
X-APPLE-STRUCTURED-LOCATION;VALUE=URI;X-ADDRESS=McDougal Main Store 20141 Park Row Katy TX 77449 United States;X-APPLE-RADIUS=500;X-TITLE=20141 Park Row:geo:-95.7261697,29.789449
END:VEVENT
BEGIN:VEVENT
DTSTART;TZID=America/Chicago:20241026T140000
DTEND;TZID=America/Chicago:20241026T160000
DTSTAMP:20260419T114313
CREATED:20240927T140142Z
LAST-MODIFIED:20240927T144228Z
UID:10003688-1729951200-1729958400@mcdougalsewing.com
SUMMARY:Beginning Quilting
DESCRIPTION:Welcome to Beginning Quilting.  In this class\, we will practice measuring and cutting fabric\, ironing vs pressing\, and sewing pieces together to form a block.\n\nWe will finish 1 block and time permitting measure\, cut\, and assemble a 2nd block of a different design.\nThe 2 blocks referenced in the supply list are 2 different designs but you can make them from the same color scheme as the 1st block.  This is your choice\, have the required amounts of fabric which way you choose.\n\nSupply List: Beginning Quilt
URL:https://mcdougalsewing.com/event/beginning-quilting/
LOCATION:McDougal Main Store\, 20141 Park Row\, Katy\, TX\, 77449\, United States
CATEGORIES:Main Store
ATTACH;FMTTYPE=image/png:https://mcdougalsewing.com/wp-content/uploads/2024/09/BeginningQuilting.png
ORGANIZER;CN="McDougal Sewing Center":MAILTO:karen.welch@mcdougalsewing.com
GEO:29.789449;-95.7261697
X-APPLE-STRUCTURED-LOCATION;VALUE=URI;X-ADDRESS=McDougal Main Store 20141 Park Row Katy TX 77449 United States;X-APPLE-RADIUS=500;X-TITLE=20141 Park Row:geo:-95.7261697,29.789449
END:VEVENT
END:VCALENDAR