BEGIN:VCALENDAR
VERSION:2.0
PRODID:-//McDougal Sewing Center - ECPv6.15.17.1//NONSGML v1.0//EN
CALSCALE:GREGORIAN
METHOD:PUBLISH
X-WR-CALNAME:McDougal Sewing Center
X-ORIGINAL-URL:https://mcdougalsewing.com
X-WR-CALDESC:Events for McDougal Sewing Center
REFRESH-INTERVAL;VALUE=DURATION:PT1H
X-Robots-Tag:noindex
X-PUBLISHED-TTL:PT1H
BEGIN:VTIMEZONE
TZID:America/Chicago
BEGIN:DAYLIGHT
TZOFFSETFROM:-0600
TZOFFSETTO:-0500
TZNAME:CDT
DTSTART:20240310T080000
END:DAYLIGHT
BEGIN:STANDARD
TZOFFSETFROM:-0500
TZOFFSETTO:-0600
TZNAME:CST
DTSTART:20241103T070000
END:STANDARD
BEGIN:DAYLIGHT
TZOFFSETFROM:-0600
TZOFFSETTO:-0500
TZNAME:CDT
DTSTART:20250309T080000
END:DAYLIGHT
BEGIN:STANDARD
TZOFFSETFROM:-0500
TZOFFSETTO:-0600
TZNAME:CST
DTSTART:20251102T070000
END:STANDARD
BEGIN:DAYLIGHT
TZOFFSETFROM:-0600
TZOFFSETTO:-0500
TZNAME:CDT
DTSTART:20260308T080000
END:DAYLIGHT
BEGIN:STANDARD
TZOFFSETFROM:-0500
TZOFFSETTO:-0600
TZNAME:CST
DTSTART:20261101T070000
END:STANDARD
END:VTIMEZONE
BEGIN:VEVENT
DTSTART;TZID=America/Chicago:20250503T100000
DTEND;TZID=America/Chicago:20250503T120000
DTSTAMP:20260424T192511
CREATED:20250215T224408Z
LAST-MODIFIED:20250416T194531Z
UID:10003784-1746266400-1746273600@mcdougalsewing.com
SUMMARY:Feet Fetish-Applique Frayed Edge
DESCRIPTION:Raw Edge Appliqué\, is a fun technique that will add some “rawness” to your designs. It’s a simple\, quick and easy-to-grasp technique that gives amazing results. Raw edge appliqué is simply the process of making patterns or pictures with fabric. \nSupply list: \n\nMachine in good working order with power cord and controller\nBasic sewing supplies with marking pen/chalk\nSmall scraps of fabric from your stash\nOpen-Toe presser foot and free motion foot\nExtra spool pin to be able to use 2 threads in the top.\nMix of decorative and regular threads in different colors\nEmbroidery bobbin thread wound on a bobbin\, or a neutral regular thread on bobbin\nNew Topstitch needle size 90/14 in machine and Microtex or Sharp needle size 90/14\nThread scissors\nSome type of stiletto or fine pointed tool to hold down fabric as you sew.\nSmall iron and iron pad if you have one.\n\nKit fee with all fabric pre-cut & use of 30 wt. thread – $10 \nPlease read the Class and Refund Policies before signing up for this class.
URL:https://mcdougalsewing.com/event/feet-fetish-madera-applique-2/
LOCATION:McDougal Main Store\, 20141 Park Row\, Katy\, TX\, 77449\, United States
CATEGORIES:Main Store
ATTACH;FMTTYPE=image/webp:https://mcdougalsewing.com/wp-content/uploads/2025/02/Raw-Edge-Applique-1.webp
ORGANIZER;CN="McDougal Sewing Center":MAILTO:karen.welch@mcdougalsewing.com
GEO:29.789449;-95.7261697
X-APPLE-STRUCTURED-LOCATION;VALUE=URI;X-ADDRESS=McDougal Main Store 20141 Park Row Katy TX 77449 United States;X-APPLE-RADIUS=500;X-TITLE=20141 Park Row:geo:-95.7261697,29.789449
END:VEVENT
BEGIN:VEVENT
DTSTART;TZID=America/Chicago:20250503T130000
DTEND;TZID=America/Chicago:20250503T150000
DTSTAMP:20260424T192511
CREATED:20250216T034936Z
LAST-MODIFIED:20250406T173048Z
UID:10003791-1746277200-1746284400@mcdougalsewing.com
SUMMARY:Serger Basics
DESCRIPTION:Welcome to the world of serging!  Open to all qualifying Sergers purchased through McDougal Sewing. \nThis class is for McDougal serger owners\, featuring 4-thread and 3-thread techniques. We will learn how a serger works\, threading steps\, and basic serger skills. \nMcDougal Sewing does NOT participate in the free guide class for Singer sergers\, so this class is not for Singer sergers not purchased through McDougal Sewing. \nYou must present a sales receipt from McDougal Sewing to take this free class. \nFor those that have a chain-stitch or cover-stitch serger\, contact rebecca.joseph@mcdougalsewing.com for this class. \nDownload Supply List: Serger Basics Supply List \nPlease read the Class and Refund Policies
URL:https://mcdougalsewing.com/event/serger-basics-34/
LOCATION:McDougal Main Store\, 20141 Park Row\, Katy\, TX\, 77449\, United States
CATEGORIES:Main Store
ATTACH;FMTTYPE=image/jpeg:https://mcdougalsewing.com/wp-content/uploads/2024/05/PfaffAdmireAir7000.jpg
ORGANIZER;CN="McDougal Sewing Center":MAILTO:karen.welch@mcdougalsewing.com
GEO:29.789449;-95.7261697
X-APPLE-STRUCTURED-LOCATION;VALUE=URI;X-ADDRESS=McDougal Main Store 20141 Park Row Katy TX 77449 United States;X-APPLE-RADIUS=500;X-TITLE=20141 Park Row:geo:-95.7261697,29.789449
END:VEVENT
END:VCALENDAR