BEGIN:VCALENDAR
VERSION:2.0
PRODID:-//McDougal Sewing Center - ECPv6.15.17.1//NONSGML v1.0//EN
CALSCALE:GREGORIAN
METHOD:PUBLISH
X-ORIGINAL-URL:https://mcdougalsewing.com
X-WR-CALDESC:Events for McDougal Sewing Center
REFRESH-INTERVAL;VALUE=DURATION:PT1H
X-Robots-Tag:noindex
X-PUBLISHED-TTL:PT1H
BEGIN:VTIMEZONE
TZID:America/Chicago
BEGIN:DAYLIGHT
TZOFFSETFROM:-0600
TZOFFSETTO:-0500
TZNAME:CDT
DTSTART:20250309T080000
END:DAYLIGHT
BEGIN:STANDARD
TZOFFSETFROM:-0500
TZOFFSETTO:-0600
TZNAME:CST
DTSTART:20251102T070000
END:STANDARD
BEGIN:DAYLIGHT
TZOFFSETFROM:-0600
TZOFFSETTO:-0500
TZNAME:CDT
DTSTART:20260308T080000
END:DAYLIGHT
BEGIN:STANDARD
TZOFFSETFROM:-0500
TZOFFSETTO:-0600
TZNAME:CST
DTSTART:20261101T070000
END:STANDARD
BEGIN:DAYLIGHT
TZOFFSETFROM:-0600
TZOFFSETTO:-0500
TZNAME:CDT
DTSTART:20270314T080000
END:DAYLIGHT
BEGIN:STANDARD
TZOFFSETFROM:-0500
TZOFFSETTO:-0600
TZNAME:CST
DTSTART:20271107T070000
END:STANDARD
END:VTIMEZONE
BEGIN:VEVENT
DTSTART;TZID=America/Chicago:20260205T110000
DTEND;TZID=America/Chicago:20260205T130000
DTSTAMP:20260424T101120
CREATED:20251130T174131Z
LAST-MODIFIED:20251221T180145Z
UID:10003987-1770289200-1770296400@mcdougalsewing.com
SUMMARY:Feet Fetish - Raw Edge Ruffling
DESCRIPTION:A raw edge ruffle is a gathered fabric strip where the free edge is left unfinished to fray\, creating a soft\, bohemian texture\, contrasting with a neatly hemmed ruffle.  This technique adds volume and texture\, commonly seen in garments\, pillows\, or home decor\, with options like pinking shears. \nWe will be up-cycling an old shirt to make a fresh item for your 2026 wardrobe. Picture is from Threads Magazine issue Winter 2025 \nSupply list: Machine in good working order with ruffling and/or gathering attachment. Universal needle to accommodate your fabric strip choices. Regular sewing thread to match your fabric in top and bobbin. Basic sewing supplies\, scissors for thread cuts\, stiletto\, and pins. Fabric strips in different weights and types that have a tendency to fray. I chose cottons\, denim\, and quilt top cottons\, and chiffon or sheer fabrics. I cut the strips 3″-4″ wide and I measured the length needed and doubled the length for the ruffle. Each ruffle can use 2 or 3 layers of fabric\, so you’ll need about 9-12 strips of different fabrics. Have your machine pre-threaded and all of your strips pre-cut before class.
URL:https://mcdougalsewing.com/event/feet-fetish-raw-edge-ruffling/
LOCATION:McDougal Main Store\, 20141 Park Row\, Katy\, TX\, 77449\, United States
CATEGORIES:Main Store
ATTACH;FMTTYPE=image/jpeg:https://mcdougalsewing.com/wp-content/uploads/2025/11/raw-edge-ruffle-threads.jpg
ORGANIZER;CN="McDougal Sewing Center":MAILTO:karen.welch@mcdougalsewing.com
GEO:29.789449;-95.7261697
X-APPLE-STRUCTURED-LOCATION;VALUE=URI;X-ADDRESS=McDougal Main Store 20141 Park Row Katy TX 77449 United States;X-APPLE-RADIUS=500;X-TITLE=20141 Park Row:geo:-95.7261697,29.789449
END:VEVENT
END:VCALENDAR