BEGIN:VCALENDAR
VERSION:2.0
PRODID:-//McDougal Sewing Center - ECPv6.15.17.1//NONSGML v1.0//EN
CALSCALE:GREGORIAN
METHOD:PUBLISH
X-WR-CALNAME:McDougal Sewing Center
X-ORIGINAL-URL:https://mcdougalsewing.com
X-WR-CALDESC:Events for McDougal Sewing Center
REFRESH-INTERVAL;VALUE=DURATION:PT1H
X-Robots-Tag:noindex
X-PUBLISHED-TTL:PT1H
BEGIN:VTIMEZONE
TZID:America/Chicago
BEGIN:DAYLIGHT
TZOFFSETFROM:-0600
TZOFFSETTO:-0500
TZNAME:CDT
DTSTART:20230312T080000
END:DAYLIGHT
BEGIN:STANDARD
TZOFFSETFROM:-0500
TZOFFSETTO:-0600
TZNAME:CST
DTSTART:20231105T070000
END:STANDARD
BEGIN:DAYLIGHT
TZOFFSETFROM:-0600
TZOFFSETTO:-0500
TZNAME:CDT
DTSTART:20240310T080000
END:DAYLIGHT
BEGIN:STANDARD
TZOFFSETFROM:-0500
TZOFFSETTO:-0600
TZNAME:CST
DTSTART:20241103T070000
END:STANDARD
BEGIN:DAYLIGHT
TZOFFSETFROM:-0600
TZOFFSETTO:-0500
TZNAME:CDT
DTSTART:20250309T080000
END:DAYLIGHT
BEGIN:STANDARD
TZOFFSETFROM:-0500
TZOFFSETTO:-0600
TZNAME:CST
DTSTART:20251102T070000
END:STANDARD
END:VTIMEZONE
BEGIN:VEVENT
DTSTART;TZID=America/Chicago:20240206T103000
DTEND;TZID=America/Chicago:20240206T130000
DTSTAMP:20260422T094101
CREATED:20240106T142143Z
LAST-MODIFIED:20240106T142143Z
UID:10002903-1707215400-1707224400@mcdougalsewing.com
SUMMARY:Novice Sewing
DESCRIPTION:No Experience Necessary\nFor the absolute beginner\, who just wants to learn how to operate your machine. You will learn to thread your machine\, wind a bobbin and sew a straight line. I’ll show you the common tools used in home sewing\, and we’ll complete a small project. \nNovice sewing Supply list
URL:https://mcdougalsewing.com/event/novice-sewing-5/
LOCATION:McDougal Main Store\, 20141 Park Row\, Katy\, TX\, 77449\, United States
CATEGORIES:Main Store
ORGANIZER;CN="McDougal Sewing Center":MAILTO:karen.welch@mcdougalsewing.com
GEO:29.789449;-95.7261697
X-APPLE-STRUCTURED-LOCATION;VALUE=URI;X-ADDRESS=McDougal Main Store 20141 Park Row Katy TX 77449 United States;X-APPLE-RADIUS=500;X-TITLE=20141 Park Row:geo:-95.7261697,29.789449
END:VEVENT
BEGIN:VEVENT
DTSTART;TZID=America/Chicago:20240208T110000
DTEND;TZID=America/Chicago:20240208T130000
DTSTAMP:20260422T094101
CREATED:20231214T012709Z
LAST-MODIFIED:20231214T012709Z
UID:10002889-1707390000-1707397200@mcdougalsewing.com
SUMMARY:Embroidery Club
DESCRIPTION:A monthly club that meets to learn about new techniques in Embroidery.\n\n\n\nIf you have purchased your machine from McDougal Sewing Center\, you are welcome to join.  The annual Registration fee is $5 and a $15 class fee each time you attend. \nCall 281-347-0453 to Register or for more information. \nEmbroidery Club is by Invitation-only. You must have taken your basic guide classes and have a basic knowledge of your machine. This is not a novice class.
URL:https://mcdougalsewing.com/event/embroidery-club-10/
LOCATION:McDougal Main Store\, 20141 Park Row\, Katy\, TX\, 77449\, United States
CATEGORIES:Main Store
ORGANIZER;CN="McDougal Sewing Center":MAILTO:karen.welch@mcdougalsewing.com
GEO:29.789449;-95.7261697
X-APPLE-STRUCTURED-LOCATION;VALUE=URI;X-ADDRESS=McDougal Main Store 20141 Park Row Katy TX 77449 United States;X-APPLE-RADIUS=500;X-TITLE=20141 Park Row:geo:-95.7261697,29.789449
END:VEVENT
BEGIN:VEVENT
DTSTART;TZID=America/Chicago:20240210T090000
DTEND;TZID=America/Chicago:20240210T110000
DTSTAMP:20260422T094101
CREATED:20231208T013132Z
LAST-MODIFIED:20231208T013132Z
UID:10002886-1707555600-1707562800@mcdougalsewing.com
SUMMARY:mySewnet™ Grab a Background (Platinum) (ZOOM)
DESCRIPTION:This is a Zoom Event. \nBy Diana Cedolia\nCreate large letters filed with sections from a background image. Explore the Digitizing\, Draw & Paint\, Photostitch\, Stitch Editor and Modify Programs. \nThis technique can be used for many different looks.
URL:https://mcdougalsewing.com/event/mysewnet-grab-a-background-platinum-zoom/
LOCATION:McDougal Main Store\, 20141 Park Row\, Katy\, TX\, 77449\, United States
CATEGORIES:Main Store,Fry Road,Sugarland,Events
ATTACH;FMTTYPE=image/png:https://mcdougalsewing.com/wp-content/uploads/2023/12/MSN-Grab-A-Background.png
ORGANIZER;CN="McDougal Sewing Center":MAILTO:karen.welch@mcdougalsewing.com
GEO:29.789449;-95.7261697
X-APPLE-STRUCTURED-LOCATION;VALUE=URI;X-ADDRESS=McDougal Main Store 20141 Park Row Katy TX 77449 United States;X-APPLE-RADIUS=500;X-TITLE=20141 Park Row:geo:-95.7261697,29.789449
END:VEVENT
BEGIN:VEVENT
DTSTART;TZID=America/Chicago:20240210T100000
DTEND;TZID=America/Chicago:20240210T120000
DTSTAMP:20260422T094101
CREATED:20231214T012930Z
LAST-MODIFIED:20231214T012930Z
UID:10002890-1707559200-1707566400@mcdougalsewing.com
SUMMARY:Embroidery Club
DESCRIPTION:A monthly club that meets to learn about new techniques in Embroidery.\n\n\n\nIf you have purchased your machine from McDougal Sewing Center\, you are welcome to join.  The annual Registration fee is $5 and a $15 class fee each time you attend. \nCall 281-347-0453 to Register or for more information. \nEmbroidery Club is by Invitation-only. You must have taken your basic guide classes and have a basic knowledge of your machine. This is not a novice class.
URL:https://mcdougalsewing.com/event/embroidery-club-30/
LOCATION:McDougal Main Store\, 20141 Park Row\, Katy\, TX\, 77449\, United States
CATEGORIES:Main Store
ORGANIZER;CN="McDougal Sewing Center":MAILTO:karen.welch@mcdougalsewing.com
GEO:29.789449;-95.7261697
X-APPLE-STRUCTURED-LOCATION;VALUE=URI;X-ADDRESS=McDougal Main Store 20141 Park Row Katy TX 77449 United States;X-APPLE-RADIUS=500;X-TITLE=20141 Park Row:geo:-95.7261697,29.789449
END:VEVENT
END:VCALENDAR