BEGIN:VCALENDAR
VERSION:2.0
PRODID:-//McDougal Sewing Center - ECPv6.15.17.1//NONSGML v1.0//EN
CALSCALE:GREGORIAN
METHOD:PUBLISH
X-WR-CALNAME:McDougal Sewing Center
X-ORIGINAL-URL:https://mcdougalsewing.com
X-WR-CALDESC:Events for McDougal Sewing Center
REFRESH-INTERVAL;VALUE=DURATION:PT1H
X-Robots-Tag:noindex
X-PUBLISHED-TTL:PT1H
BEGIN:VTIMEZONE
TZID:America/Chicago
BEGIN:DAYLIGHT
TZOFFSETFROM:-0600
TZOFFSETTO:-0500
TZNAME:CDT
DTSTART:20250309T080000
END:DAYLIGHT
BEGIN:STANDARD
TZOFFSETFROM:-0500
TZOFFSETTO:-0600
TZNAME:CST
DTSTART:20251102T070000
END:STANDARD
BEGIN:DAYLIGHT
TZOFFSETFROM:-0600
TZOFFSETTO:-0500
TZNAME:CDT
DTSTART:20260308T080000
END:DAYLIGHT
BEGIN:STANDARD
TZOFFSETFROM:-0500
TZOFFSETTO:-0600
TZNAME:CST
DTSTART:20261101T070000
END:STANDARD
BEGIN:DAYLIGHT
TZOFFSETFROM:-0600
TZOFFSETTO:-0500
TZNAME:CDT
DTSTART:20270314T080000
END:DAYLIGHT
BEGIN:STANDARD
TZOFFSETFROM:-0500
TZOFFSETTO:-0600
TZNAME:CST
DTSTART:20271107T070000
END:STANDARD
END:VTIMEZONE
BEGIN:VEVENT
DTSTART;TZID=America/Chicago:20260722T103000
DTEND;TZID=America/Chicago:20260722T130000
DTSTAMP:20260421T071114
CREATED:20260421T010311Z
LAST-MODIFIED:20260421T010311Z
UID:10004083-1784716200-1784725200@mcdougalsewing.com
SUMMARY:Beach Towel and Bucket Hat Beginner++
DESCRIPTION:Ages 9-12 \nJuly 20-22 \nCampers should be able to operate a machine or have taken any of the Beginner or Beginner+ camps before enrolling in this camp. We will elevate an ordinary beach towel to a carry- and- go towel with an attached pillow. We’ll also make a reversible bucket beach hat\, to match your towel if you choose. \nSupply List: BeachTowelSupplyList \nClick here to purchase tickets for this Camp.
URL:https://mcdougalsewing.com/event/beach-towel-and-bucket-hat-beginner-6/
LOCATION:McDougal Main Store\, 20141 Park Row\, Katy\, TX\, 77449\, United States
CATEGORIES:Main Store
ORGANIZER;CN="McDougal Sewing Center":MAILTO:karen.welch@mcdougalsewing.com
GEO:29.789449;-95.7261697
X-APPLE-STRUCTURED-LOCATION;VALUE=URI;X-ADDRESS=McDougal Main Store 20141 Park Row Katy TX 77449 United States;X-APPLE-RADIUS=500;X-TITLE=20141 Park Row:geo:-95.7261697,29.789449
END:VEVENT
BEGIN:VEVENT
DTSTART;TZID=America/Chicago:20260727T103000
DTEND;TZID=America/Chicago:20260727T130000
DTSTAMP:20260421T071114
CREATED:20260420T210233Z
LAST-MODIFIED:20260420T221049Z
UID:10004065-1785148200-1785157200@mcdougalsewing.com
SUMMARY:Sleep Accessories Beginner
DESCRIPTION:Ages: 9-12 \nJuly 27-29 \n \nFor Beginners with little or no experience. Campers learn to thread and operate the machine and are guided through cutting and stitching a standard size pillowcase and a sleep mask. \nSupply List: SleepAccessoriesBeginnerSupplyList \n 
URL:https://mcdougalsewing.com/event/sleep-accessories-beginner/
LOCATION:McDougal Main Store\, 20141 Park Row\, Katy\, TX\, 77449\, United States
CATEGORIES:Main Store,Events
ATTACH;FMTTYPE=image/jpeg:https://mcdougalsewing.com/wp-content/uploads/2026/04/SleepAccessories.jpg
ORGANIZER;CN="McDougal Sewing Center":MAILTO:karen.welch@mcdougalsewing.com
GEO:29.789449;-95.7261697
X-APPLE-STRUCTURED-LOCATION;VALUE=URI;X-ADDRESS=McDougal Main Store 20141 Park Row Katy TX 77449 United States;X-APPLE-RADIUS=500;X-TITLE=20141 Park Row:geo:-95.7261697,29.789449
END:VEVENT
BEGIN:VEVENT
DTSTART;TZID=America/Chicago:20260728T103000
DTEND;TZID=America/Chicago:20260728T130000
DTSTAMP:20260421T071114
CREATED:20260420T213112Z
LAST-MODIFIED:20260420T221156Z
UID:10004066-1785234600-1785243600@mcdougalsewing.com
SUMMARY:Sleep Accessories Beginner
DESCRIPTION:Ages: 9-12 \nJuly 27-29 \n \nFor Beginners with little or no experience. Campers learn to thread and operate the machine and are guided through cutting and stitching a standard size pillowcase and a sleep mask. \nSupply List: SleepAccessoriesBeginnerSupplyList \nClick here to purchase tickets for this Camp.
URL:https://mcdougalsewing.com/event/sleep-accessories-beginner-2/
LOCATION:McDougal Main Store\, 20141 Park Row\, Katy\, TX\, 77449\, United States
CATEGORIES:Main Store
ORGANIZER;CN="McDougal Sewing Center":MAILTO:karen.welch@mcdougalsewing.com
GEO:29.789449;-95.7261697
X-APPLE-STRUCTURED-LOCATION;VALUE=URI;X-ADDRESS=McDougal Main Store 20141 Park Row Katy TX 77449 United States;X-APPLE-RADIUS=500;X-TITLE=20141 Park Row:geo:-95.7261697,29.789449
END:VEVENT
BEGIN:VEVENT
DTSTART;TZID=America/Chicago:20260729T103000
DTEND;TZID=America/Chicago:20260729T130000
DTSTAMP:20260421T071114
CREATED:20260420T213309Z
LAST-MODIFIED:20260420T221246Z
UID:10004067-1785321000-1785330000@mcdougalsewing.com
SUMMARY:Sleep Accessories Beginner
DESCRIPTION:Ages: 9-12 \nJuly 27-29 \n \nFor Beginners with little or no experience. Campers learn to thread and operate the machine and are guided through cutting and stitching a standard size pillowcase and a sleep mask. \nSupply List: SleepAccessoriesBeginnerSupplyList \nClick here to purchase tickets for this Camp.
URL:https://mcdougalsewing.com/event/sleep-accessories-beginner-3/
LOCATION:McDougal Main Store\, 20141 Park Row\, Katy\, TX\, 77449\, United States
CATEGORIES:Main Store
ORGANIZER;CN="McDougal Sewing Center":MAILTO:karen.welch@mcdougalsewing.com
GEO:29.789449;-95.7261697
X-APPLE-STRUCTURED-LOCATION;VALUE=URI;X-ADDRESS=McDougal Main Store 20141 Park Row Katy TX 77449 United States;X-APPLE-RADIUS=500;X-TITLE=20141 Park Row:geo:-95.7261697,29.789449
END:VEVENT
BEGIN:VEVENT
DTSTART;TZID=America/Chicago:20260803T103000
DTEND;TZID=America/Chicago:20260803T130000
DTSTAMP:20260421T071114
CREATED:20260420T223227Z
LAST-MODIFIED:20260420T224209Z
UID:10004072-1785753000-1785762000@mcdougalsewing.com
SUMMARY:Skirt and Scrunchie Beginner+
DESCRIPTION:Ages 9-12 \nAugust 3-5 \nFor beginners and more experienced sewers. Beginners will learn the machine while more experienced sewers can choose to review the machine or start on the first project immediately. Your fabric choice makes these simple projects appropriate for all ages. \nSupply List: SummerSkirt-ScrunchieSupplyList \n  \n 
URL:https://mcdougalsewing.com/event/skirt-and-scrunchie-beginner-2/
LOCATION:McDougal Main Store\, 20141 Park Row\, Katy\, TX\, 77449\, United States
CATEGORIES:Main Store,Events
ATTACH;FMTTYPE=image/jpeg:https://mcdougalsewing.com/wp-content/uploads/2026/04/Skirt.jpg
ORGANIZER;CN="McDougal Sewing Center":MAILTO:karen.welch@mcdougalsewing.com
GEO:29.789449;-95.7261697
X-APPLE-STRUCTURED-LOCATION;VALUE=URI;X-ADDRESS=McDougal Main Store 20141 Park Row Katy TX 77449 United States;X-APPLE-RADIUS=500;X-TITLE=20141 Park Row:geo:-95.7261697,29.789449
END:VEVENT
BEGIN:VEVENT
DTSTART;TZID=America/Chicago:20260804T103000
DTEND;TZID=America/Chicago:20260804T130000
DTSTAMP:20260421T071114
CREATED:20260420T224338Z
LAST-MODIFIED:20260420T224511Z
UID:10004073-1785839400-1785848400@mcdougalsewing.com
SUMMARY:Skirt and Scrunchie Beginner+
DESCRIPTION:Ages 9-12 \nAugust 3-5 \nFor beginners and more experienced sewers. Beginners will learn the machine while more experienced sewers can choose to review the machine or start on the first project immediately. Your fabric choice makes these simple projects appropriate for all ages. \nSupply List: SummerSkirt-ScrunchieSupplyList \nClick here to purchase tickets for this Camp. \n  \n 
URL:https://mcdougalsewing.com/event/skirt-and-scrunchie-beginner-3/
LOCATION:McDougal Main Store\, 20141 Park Row\, Katy\, TX\, 77449\, United States
CATEGORIES:Main Store
ORGANIZER;CN="McDougal Sewing Center":MAILTO:karen.welch@mcdougalsewing.com
GEO:29.789449;-95.7261697
X-APPLE-STRUCTURED-LOCATION;VALUE=URI;X-ADDRESS=McDougal Main Store 20141 Park Row Katy TX 77449 United States;X-APPLE-RADIUS=500;X-TITLE=20141 Park Row:geo:-95.7261697,29.789449
END:VEVENT
BEGIN:VEVENT
DTSTART;TZID=America/Chicago:20260805T103000
DTEND;TZID=America/Chicago:20260805T130000
DTSTAMP:20260421T071114
CREATED:20260420T224604Z
LAST-MODIFIED:20260420T224604Z
UID:10004074-1785925800-1785934800@mcdougalsewing.com
SUMMARY:Skirt and Scrunchie Beginner+
DESCRIPTION:Ages 9-12 \nAugust 3-5 \nFor beginners and more experienced sewers. Beginners will learn the machine while more experienced sewers can choose to review the machine or start on the first project immediately. Your fabric choice makes these simple projects appropriate for all ages. \nSupply List: SummerSkirt-ScrunchieSupplyList \nClick here to purchase tickets for this Camp. \n  \n 
URL:https://mcdougalsewing.com/event/skirt-and-scrunchie-beginner-4/
LOCATION:McDougal Main Store\, 20141 Park Row\, Katy\, TX\, 77449\, United States
CATEGORIES:Main Store
ORGANIZER;CN="McDougal Sewing Center":MAILTO:karen.welch@mcdougalsewing.com
GEO:29.789449;-95.7261697
X-APPLE-STRUCTURED-LOCATION;VALUE=URI;X-ADDRESS=McDougal Main Store 20141 Park Row Katy TX 77449 United States;X-APPLE-RADIUS=500;X-TITLE=20141 Park Row:geo:-95.7261697,29.789449
END:VEVENT
END:VCALENDAR