BEGIN:VCALENDAR
VERSION:2.0
PRODID:-//McDougal Sewing Center - ECPv6.15.17.1//NONSGML v1.0//EN
CALSCALE:GREGORIAN
METHOD:PUBLISH
X-WR-CALNAME:McDougal Sewing Center
X-ORIGINAL-URL:https://mcdougalsewing.com
X-WR-CALDESC:Events for McDougal Sewing Center
REFRESH-INTERVAL;VALUE=DURATION:PT1H
X-Robots-Tag:noindex
X-PUBLISHED-TTL:PT1H
BEGIN:VTIMEZONE
TZID:America/Chicago
BEGIN:DAYLIGHT
TZOFFSETFROM:-0600
TZOFFSETTO:-0500
TZNAME:CDT
DTSTART:20250309T080000
END:DAYLIGHT
BEGIN:STANDARD
TZOFFSETFROM:-0500
TZOFFSETTO:-0600
TZNAME:CST
DTSTART:20251102T070000
END:STANDARD
BEGIN:DAYLIGHT
TZOFFSETFROM:-0600
TZOFFSETTO:-0500
TZNAME:CDT
DTSTART:20260308T080000
END:DAYLIGHT
BEGIN:STANDARD
TZOFFSETFROM:-0500
TZOFFSETTO:-0600
TZNAME:CST
DTSTART:20261101T070000
END:STANDARD
BEGIN:DAYLIGHT
TZOFFSETFROM:-0600
TZOFFSETTO:-0500
TZNAME:CDT
DTSTART:20270314T080000
END:DAYLIGHT
BEGIN:STANDARD
TZOFFSETFROM:-0500
TZOFFSETTO:-0600
TZNAME:CST
DTSTART:20271107T070000
END:STANDARD
END:VTIMEZONE
BEGIN:VEVENT
DTSTART;TZID=America/Chicago:20260423T140000
DTEND;TZID=America/Chicago:20260423T163000
DTSTAMP:20260423T220245
CREATED:20260221T011429Z
LAST-MODIFIED:20260221T011429Z
UID:10004040-1776952800-1776961800@mcdougalsewing.com
SUMMARY:Viking/Pfaff Machine Embroidery Basics
DESCRIPTION:Join McDougal Sewing Centers Embroidery Specialists for a hands-on embroidery quick start session. This workshop will cover:\n\n\n\nNavigating your embroidery machine\nThreading for embroidery\nProper hooping and basic stabilization\nLettering\n\nBring your machine and its basic embroidery setup\, check the supply list below for other supplies needed. \nPre-requisite: Viking Computer Machine Basics \nCourse Level: All Levels \nThis class is open to customers who purchased a qualifying sewing\, embroidery\, and/or combo machine from any McDougal’s location. You must present a sales receipt to take this free class. \nSupply List: Machine Embroidery Basics Supply List \nPlease read Class and Refund Policies.
URL:https://mcdougalsewing.com/event/viking-pfaff-machine-embroidery-basics-23/
LOCATION:McDougal Main Store\, 20141 Park Row\, Katy\, TX\, 77449\, United States
CATEGORIES:Main Store
ATTACH;FMTTYPE=image/png:https://mcdougalsewing.com/wp-content/uploads/2025/08/nwq-pic.png
ORGANIZER;CN="McDougal Sewing Center":MAILTO:karen.welch@mcdougalsewing.com
GEO:29.789449;-95.7261697
X-APPLE-STRUCTURED-LOCATION;VALUE=URI;X-ADDRESS=McDougal Main Store 20141 Park Row Katy TX 77449 United States;X-APPLE-RADIUS=500;X-TITLE=20141 Park Row:geo:-95.7261697,29.789449
END:VEVENT
BEGIN:VEVENT
DTSTART;TZID=America/Chicago:20260425T133000
DTEND;TZID=America/Chicago:20260425T163000
DTSTAMP:20260423T220245
CREATED:20260313T035657Z
LAST-MODIFIED:20260313T041925Z
UID:10004057-1777123800-1777134600@mcdougalsewing.com
SUMMARY:Appliqué with your Embroidery Machine
DESCRIPTION:Have you wondered how to do applique using your embroidery machine? With this technique class you will learn how to take an appliqué design and how to transform it into something unique with your fabric and thread choices. This is a technique class where you will learn the mechanics of doing appliqué. You will complete a step-by-step worksheet and do a two-color appliqué as well. \nFabric/stabilizer kit included \nPrerequisite: You must know how the basics of your embroidery machine. You must have a minimum size 5×7 hoop or larger. \nSupply list: \n\nMachine with embroidery unit\, embroidery foot\, power cord\, and hoop\n4-6 decorative embroidery threads in colors of choice\nBobbin with embroidery bobbin thread or a prewound bobbin\nApplique scissors and sharp trimming scissors\nPink Perfection embroidery tape\nNew 80/12 embroidery needle\n\nAvailable at McDougals and receive your 15% class discount
URL:https://mcdougalsewing.com/event/applique-with-your-embroidery-machine/
LOCATION:McDougal Main Store\, 20141 Park Row\, Katy\, TX\, 77449\, United States
CATEGORIES:Main Store,Events
ATTACH;FMTTYPE=image/jpeg:https://mcdougalsewing.com/wp-content/uploads/2026/03/applique-in-the-hoop-rotated.jpg
ORGANIZER;CN="McDougal Sewing Center":MAILTO:karen.welch@mcdougalsewing.com
GEO:29.789449;-95.7261697
X-APPLE-STRUCTURED-LOCATION;VALUE=URI;X-ADDRESS=McDougal Main Store 20141 Park Row Katy TX 77449 United States;X-APPLE-RADIUS=500;X-TITLE=20141 Park Row:geo:-95.7261697,29.789449
END:VEVENT
END:VCALENDAR