BEGIN:VCALENDAR
VERSION:2.0
PRODID:-//McDougal Sewing Center - ECPv6.15.17.1//NONSGML v1.0//EN
CALSCALE:GREGORIAN
METHOD:PUBLISH
X-WR-CALNAME:McDougal Sewing Center
X-ORIGINAL-URL:https://mcdougalsewing.com
X-WR-CALDESC:Events for McDougal Sewing Center
REFRESH-INTERVAL;VALUE=DURATION:PT1H
X-Robots-Tag:noindex
X-PUBLISHED-TTL:PT1H
BEGIN:VTIMEZONE
TZID:America/Chicago
BEGIN:DAYLIGHT
TZOFFSETFROM:-0600
TZOFFSETTO:-0500
TZNAME:CDT
DTSTART:20210314T080000
END:DAYLIGHT
BEGIN:STANDARD
TZOFFSETFROM:-0500
TZOFFSETTO:-0600
TZNAME:CST
DTSTART:20211107T070000
END:STANDARD
BEGIN:DAYLIGHT
TZOFFSETFROM:-0600
TZOFFSETTO:-0500
TZNAME:CDT
DTSTART:20220313T080000
END:DAYLIGHT
BEGIN:STANDARD
TZOFFSETFROM:-0500
TZOFFSETTO:-0600
TZNAME:CST
DTSTART:20221106T070000
END:STANDARD
BEGIN:DAYLIGHT
TZOFFSETFROM:-0600
TZOFFSETTO:-0500
TZNAME:CDT
DTSTART:20230312T080000
END:DAYLIGHT
BEGIN:STANDARD
TZOFFSETFROM:-0500
TZOFFSETTO:-0600
TZNAME:CST
DTSTART:20231105T070000
END:STANDARD
END:VTIMEZONE
BEGIN:VEVENT
DTSTART;TZID=America/Chicago:20220415T130000
DTEND;TZID=America/Chicago:20220415T143000
DTSTAMP:20260421T065040
CREATED:20220324T214740Z
LAST-MODIFIED:20220325T113917Z
UID:10002364-1650027600-1650033000@mcdougalsewing.com
SUMMARY:Cover-Stitch Serger Class- Open to Public
DESCRIPTION:OPEN to the PUBLIC\nLearn how to use the cover-stitch in this basic class. We’ll learn set-up\, threading\, and hemming skills. \nThis class is FREE to most Cover-stitch sergers purchased at McDougal Sewing as long as they have an original purchase receipt from McDougal Sewing. Serger MUST be in good working order and have all the parts needed to do a cover-stitch. \nNo refunds are given if you don’t have all pieces needed on the day of class. \nPlease check your manual for what is needed for a cover-stitch. \nSupply List:\n\nSerger in good working order with all power cords\, foot pedal\, and instruction manual.\nALL extra cover-stitch parts needed to do a cover-stitch on your serger if it does 2/3/4/5 & Cover-stitch stitches.\nBring 4 spools of regular serger cone thread\, any color(s). Only bring serger cone thread\, not sewing spool thread.\nAll accessories that came with your serger\, including extra new needles\, screwdriver to remove needles\, small scissors to cut thread.\nPlease remember no refunds are given if you come to class without all the parts to do a cover-stitch. Most all manuals can be found online.
URL:https://mcdougalsewing.com/event/cover-stitch-serger-class-open-to-public/
LOCATION:McDougal Main Store\, 20141 Park Row\, Katy\, TX\, 77449\, United States
CATEGORIES:Main Store,Events
ATTACH;FMTTYPE=image/jpeg:https://mcdougalsewing.com/wp-content/uploads/2022/03/CoverStitch.jpg
ORGANIZER;CN="McDougal Sewing Center":MAILTO:karen.welch@mcdougalsewing.com
GEO:29.789449;-95.7261697
X-APPLE-STRUCTURED-LOCATION;VALUE=URI;X-ADDRESS=McDougal Main Store 20141 Park Row Katy TX 77449 United States;X-APPLE-RADIUS=500;X-TITLE=20141 Park Row:geo:-95.7261697,29.789449
END:VEVENT
END:VCALENDAR