BEGIN:VCALENDAR
VERSION:2.0
PRODID:-//McDougal Sewing Center - ECPv6.15.17.1//NONSGML v1.0//EN
CALSCALE:GREGORIAN
METHOD:PUBLISH
X-ORIGINAL-URL:https://mcdougalsewing.com
X-WR-CALDESC:Events for McDougal Sewing Center
REFRESH-INTERVAL;VALUE=DURATION:PT1H
X-Robots-Tag:noindex
X-PUBLISHED-TTL:PT1H
BEGIN:VTIMEZONE
TZID:America/Chicago
BEGIN:DAYLIGHT
TZOFFSETFROM:-0600
TZOFFSETTO:-0500
TZNAME:CDT
DTSTART:20250309T080000
END:DAYLIGHT
BEGIN:STANDARD
TZOFFSETFROM:-0500
TZOFFSETTO:-0600
TZNAME:CST
DTSTART:20251102T070000
END:STANDARD
BEGIN:DAYLIGHT
TZOFFSETFROM:-0600
TZOFFSETTO:-0500
TZNAME:CDT
DTSTART:20260308T080000
END:DAYLIGHT
BEGIN:STANDARD
TZOFFSETFROM:-0500
TZOFFSETTO:-0600
TZNAME:CST
DTSTART:20261101T070000
END:STANDARD
BEGIN:DAYLIGHT
TZOFFSETFROM:-0600
TZOFFSETTO:-0500
TZNAME:CDT
DTSTART:20270314T080000
END:DAYLIGHT
BEGIN:STANDARD
TZOFFSETFROM:-0500
TZOFFSETTO:-0600
TZNAME:CST
DTSTART:20271107T070000
END:STANDARD
END:VTIMEZONE
BEGIN:VEVENT
DTSTART;TZID=America/Chicago:20260110T140000
DTEND;TZID=America/Chicago:20260110T153000
DTSTAMP:20260421T213351
CREATED:20251130T172116Z
LAST-MODIFIED:20251130T181119Z
UID:10003978-1768053600-1768059000@mcdougalsewing.com
SUMMARY:Singer Sewing Machine Guide Class
DESCRIPTION:EXPERIENCE ALL YOUR MACHINE CAN DO FOR YOU WITH A FREE MACHINE GUIDE CLASS.\nSee how to set your machine for the best performance. \nWe show you how to wind and insert your bobbin\, thread your machine; how to adjust tension\, length\, and width\, and choose your stitch patterns. \nSINGER® Sewing Machine Proof of Purchase Required: \n– A receipt with a date must be presented to the teacher to take this free class. This proof of purchase can be a hard copy or an email or a copy on your phone and can be from a website or retail store. It MUST be a purchase within 9 months prior to class date. You must be 18 years or older to attend this class. Only one person per machine\, no auditing of this free class. If a translator is needed\, please email rebecca.joseph@mcdougalsewing.com . If your machine came with a Coupon for a Free class\, bring this also. \nHow to prepare to come to class: \nPlease have your machine ready to thread before you come to class by removing it from the box\, and taking off all tape and styrofoam\, All you need to bring is everything that came in the box. Do NOT bring the box or any packaging to the classroom.  You’ll need a small pair of scissors to clip threads. \nSupply List: Mechanical Machine Basics Supply List \nPlease read the Class and Refund Policies
URL:https://mcdougalsewing.com/event/singer-sewing-machine-guide-class-14/
LOCATION:McDougal Main Store\, 20141 Park Row\, Katy\, TX\, 77449\, United States
CATEGORIES:Main Store
ATTACH;FMTTYPE=image/jpeg:https://mcdougalsewing.com/wp-content/uploads/2025/08/SINGER-HEAVY-DUTY.jpg
ORGANIZER;CN="McDougal Sewing Center":MAILTO:karen.welch@mcdougalsewing.com
GEO:29.789449;-95.7261697
X-APPLE-STRUCTURED-LOCATION;VALUE=URI;X-ADDRESS=McDougal Main Store 20141 Park Row Katy TX 77449 United States;X-APPLE-RADIUS=500;X-TITLE=20141 Park Row:geo:-95.7261697,29.789449
END:VEVENT
BEGIN:VEVENT
DTSTART;TZID=America/Chicago:20260117T100000
DTEND;TZID=America/Chicago:20260117T130000
DTSTAMP:20260421T213351
CREATED:20251130T165410Z
LAST-MODIFIED:20251130T180752Z
UID:10003969-1768644000-1768654800@mcdougalsewing.com
SUMMARY:Brother/JUKI/Elna Computer Machine Basics
DESCRIPTION:Congratulations on the purchase of your new machine. We are honored that you have placed your confidence in McDougal Sewing Centers as your home for creativity. To make the most of your new machine\, it is highly encouraged that you attend our “quick start” programs designed to help you get acquainted with your machine. Each session has been developed to gain familiarity with the basic features/functions of your new machine\, to get you creating quickly. These sessions are our gift to you with the purchase of a new machine from McDougal Sewing Center. \n\n\nJoin talented Education Team members for a “get acquainted” new machine mixer. The goal of this session is to provide you with the information and knowledge needed to get the most from your new machine. \nThis class is geared for Computerized Brother\, JUKI and Elna sewing machines. You will start with the basics and work your way up through hemming\, buttonhole\, and decorative stitches.  You must register in advance. \nOpen for Brother\, JUKI and Elna customers who purchased their machine at McDougal Sewing Center. You must present a sales receipt to take this free class. \nFor ALL Sewing/Embroidery “Guide” Classes we will provide you with the fabric and thread needed for the class. \nDownload Supply Lists:  Computer Machine Basics \nPlease read Class and Refund Policies
URL:https://mcdougalsewing.com/event/brother-juki-elna-computer-machine-basics-22/
LOCATION:McDougal Main Store\, 20141 Park Row\, Katy\, TX\, 77449\, United States
CATEGORIES:Main Store
ATTACH;FMTTYPE=image/jpeg:https://mcdougalsewing.com/wp-content/uploads/2022/10/Brother_-_PS500_-_Lifestyle_1-scaled.jpg
ORGANIZER;CN="McDougal Sewing Center":MAILTO:karen.welch@mcdougalsewing.com
GEO:29.789449;-95.7261697
X-APPLE-STRUCTURED-LOCATION;VALUE=URI;X-ADDRESS=McDougal Main Store 20141 Park Row Katy TX 77449 United States;X-APPLE-RADIUS=500;X-TITLE=20141 Park Row:geo:-95.7261697,29.789449
END:VEVENT
BEGIN:VEVENT
DTSTART;TZID=America/Chicago:20260122T100000
DTEND;TZID=America/Chicago:20260122T130000
DTSTAMP:20260421T213351
CREATED:20251130T172420Z
LAST-MODIFIED:20251130T172420Z
UID:10003979-1769076000-1769086800@mcdougalsewing.com
SUMMARY:Viking/Pfaff Computer Machine Basics
DESCRIPTION:Sew… You have a new Machine! \nCongratulations on the purchase of your new machine. We are honored that you have placed your confidence in McDougal Sewing Centers as your home for creativity. To make the most of your new machine\, it is highly encouraged that you attend our “quick start” programs designed to help you get acquainted with your machine. Each session has been developed to gain familiarity with the basic features/functions of your new machine\, to get you creating quickly. These sessions are our gift to you with the purchase of a new machine from McDougal Sewing Center. \nJoin talented Education Team members for a “get acquainted” new machine mixer. The goal of this two-part session is to provide you with the information and knowledge needed to get the most from your new machine. \nWe will cover machine navigation (where is that stitch!)\, TNT (threading\, needles\, tension adjustment)\, and equip you to use your machine with confidence.  \nThis class is open to customers who purchased a qualifying sewing\, embroidery\, and/or combo machine from any McDougal’s location. \nYou must present a sales receipt to take this free class. \nDownload Supply List: Computer Machine Basics Supply List \nPlease read Class and Refund Policies \n\n\n\n\n Add to calendar
URL:https://mcdougalsewing.com/event/viking-pfaff-computer-machine-basics-21/
LOCATION:McDougal Main Store\, 20141 Park Row\, Katy\, TX\, 77449\, United States
CATEGORIES:Main Store
ATTACH;FMTTYPE=image/jpeg:https://mcdougalsewing.com/wp-content/uploads/2019/06/Epic2-Burgundy-S.jpg
ORGANIZER;CN="McDougal Sewing Center":MAILTO:karen.welch@mcdougalsewing.com
GEO:29.789449;-95.7261697
X-APPLE-STRUCTURED-LOCATION;VALUE=URI;X-ADDRESS=McDougal Main Store 20141 Park Row Katy TX 77449 United States;X-APPLE-RADIUS=500;X-TITLE=20141 Park Row:geo:-95.7261697,29.789449
END:VEVENT
BEGIN:VEVENT
DTSTART;TZID=America/Chicago:20260124T100000
DTEND;TZID=America/Chicago:20260124T120000
DTSTAMP:20260421T213351
CREATED:20251130T170127Z
LAST-MODIFIED:20251130T170303Z
UID:10003972-1769248800-1769256000@mcdougalsewing.com
SUMMARY:Mechanical/Digital Machine Basics
DESCRIPTION:This class is for any mechanical – Viking E-10\, E-20 & Emerald series\, or Brother PS-100 and the Digital PS200T\, and PS300T \, the Pfaff Passport 2.0 & 3.0\, the JUKI HZL 710/740 or any new Elna or Necchi  mechanical machine recently purchased at McDougal Sewing locations. \n\n\n\n\nWe show you how the wind and insert your bobbin\, thread your machine; how to adjust tension\, length\, and width\, and choose your stitch patterns. \nAll participants must present a sales receipt to take this free class. \nThis is NOT the free Singer Machine Guide Class that is Open to the Public. \nSupply list: Mechanical Machine Basics Supply List \nPlease read the Class and Refund Policies
URL:https://mcdougalsewing.com/event/mechanical-digital-machine-basics-9/
LOCATION:McDougal Main Store\, 20141 Park Row\, Katy\, TX\, 77449\, United States
CATEGORIES:Main Store
ATTACH;FMTTYPE=image/jpeg:https://mcdougalsewing.com/wp-content/uploads/2025/08/pfaff-onyx.jpg
ORGANIZER;CN="McDougal Sewing Center":MAILTO:karen.welch@mcdougalsewing.com
GEO:29.789449;-95.7261697
X-APPLE-STRUCTURED-LOCATION;VALUE=URI;X-ADDRESS=McDougal Main Store 20141 Park Row Katy TX 77449 United States;X-APPLE-RADIUS=500;X-TITLE=20141 Park Row:geo:-95.7261697,29.789449
END:VEVENT
END:VCALENDAR