BEGIN:VCALENDAR
VERSION:2.0
PRODID:-//McDougal Sewing Center - ECPv6.15.17.1//NONSGML v1.0//EN
CALSCALE:GREGORIAN
METHOD:PUBLISH
X-WR-CALNAME:McDougal Sewing Center
X-ORIGINAL-URL:https://mcdougalsewing.com
X-WR-CALDESC:Events for McDougal Sewing Center
REFRESH-INTERVAL;VALUE=DURATION:PT1H
X-Robots-Tag:noindex
X-PUBLISHED-TTL:PT1H
BEGIN:VTIMEZONE
TZID:America/Chicago
BEGIN:DAYLIGHT
TZOFFSETFROM:-0600
TZOFFSETTO:-0500
TZNAME:CDT
DTSTART:20250309T080000
END:DAYLIGHT
BEGIN:STANDARD
TZOFFSETFROM:-0500
TZOFFSETTO:-0600
TZNAME:CST
DTSTART:20251102T070000
END:STANDARD
BEGIN:DAYLIGHT
TZOFFSETFROM:-0600
TZOFFSETTO:-0500
TZNAME:CDT
DTSTART:20260308T080000
END:DAYLIGHT
BEGIN:STANDARD
TZOFFSETFROM:-0500
TZOFFSETTO:-0600
TZNAME:CST
DTSTART:20261101T070000
END:STANDARD
BEGIN:DAYLIGHT
TZOFFSETFROM:-0600
TZOFFSETTO:-0500
TZNAME:CDT
DTSTART:20270314T080000
END:DAYLIGHT
BEGIN:STANDARD
TZOFFSETFROM:-0500
TZOFFSETTO:-0600
TZNAME:CST
DTSTART:20271107T070000
END:STANDARD
END:VTIMEZONE
BEGIN:VEVENT
DTSTART;TZID=America/Chicago:20260312T140000
DTEND;TZID=America/Chicago:20260312T160000
DTSTAMP:20260421T144037
CREATED:20251130T170703Z
LAST-MODIFIED:20260201T234802Z
UID:10003974-1773324000-1773331200@mcdougalsewing.com
SUMMARY:Mechanical/Digital Machine Basics
DESCRIPTION:This class is for any mechanical – Viking E-10 & Emerald series\, Onyx 15\,25\,30 or Brother PS-100\, PS200T\, and PS300T \, the Pfaff Passport 2.0 & 3.0\, the JUKI HZL 710/740 \, Singer 457 or 677 Elite\, or any new Elna or Necchi  mechanical machine recently purchased at McDougal Sewing locations. \n\n\n\n\nWe show you how the wind and insert your bobbin\, thread your machine; how to adjust tension\, length\, and width\, and choose your stitch patterns. \nAll participants must present a sales receipt to take this free class. \nThis is NOT the free Singer Machine Guide Class that is Open to the Public. \nSupply list: Mechanical Machine Basics Supply List \nPlease read the Class and Refund Policies
URL:https://mcdougalsewing.com/event/mechanical-digital-machine-basics-10/
LOCATION:McDougal Main Store\, 20141 Park Row\, Katy\, TX\, 77449\, United States
CATEGORIES:Main Store
ATTACH;FMTTYPE=image/jpeg:https://mcdougalsewing.com/wp-content/uploads/2025/08/pfaff-onyx.jpg
ORGANIZER;CN="McDougal Sewing Center":MAILTO:karen.welch@mcdougalsewing.com
GEO:29.789449;-95.7261697
X-APPLE-STRUCTURED-LOCATION;VALUE=URI;X-ADDRESS=McDougal Main Store 20141 Park Row Katy TX 77449 United States;X-APPLE-RADIUS=500;X-TITLE=20141 Park Row:geo:-95.7261697,29.789449
END:VEVENT
BEGIN:VEVENT
DTSTART;TZID=America/Chicago:20260319T100000
DTEND;TZID=America/Chicago:20260319T130000
DTSTAMP:20260421T144037
CREATED:20251130T191256Z
LAST-MODIFIED:20251130T191256Z
UID:10003993-1773914400-1773925200@mcdougalsewing.com
SUMMARY:Viking/Pfaff Computer Machine Basics
DESCRIPTION:Sew… You have a new Machine! \nCongratulations on the purchase of your new machine. We are honored that you have placed your confidence in McDougal Sewing Centers as your home for creativity. To make the most of your new machine\, it is highly encouraged that you attend our “quick start” programs designed to help you get acquainted with your machine. Each session has been developed to gain familiarity with the basic features/functions of your new machine\, to get you creating quickly. These sessions are our gift to you with the purchase of a new machine from McDougal Sewing Center. \nJoin talented Education Team members for a “get acquainted” new machine mixer. The goal of this two-part session is to provide you with the information and knowledge needed to get the most from your new machine. \nWe will cover machine navigation (where is that stitch!)\, TNT (threading\, needles\, tension adjustment)\, and equip you to use your machine with confidence.  \nThis class is open to customers who purchased a qualifying sewing\, embroidery\, and/or combo machine from any McDougal’s location. \nYou must present a sales receipt to take this free class. \nDownload Supply List: Computer Machine Basics Supply List \nPlease read Class and Refund Policies \n\n\n\n\n Add to calendar
URL:https://mcdougalsewing.com/event/viking-pfaff-computer-machine-basics-23/
LOCATION:McDougal Main Store\, 20141 Park Row\, Katy\, TX\, 77449\, United States
CATEGORIES:Main Store
ATTACH;FMTTYPE=image/jpeg:https://mcdougalsewing.com/wp-content/uploads/2019/06/Epic2-Burgundy-S.jpg
ORGANIZER;CN="McDougal Sewing Center":MAILTO:karen.welch@mcdougalsewing.com
GEO:29.789449;-95.7261697
X-APPLE-STRUCTURED-LOCATION;VALUE=URI;X-ADDRESS=McDougal Main Store 20141 Park Row Katy TX 77449 United States;X-APPLE-RADIUS=500;X-TITLE=20141 Park Row:geo:-95.7261697,29.789449
END:VEVENT
BEGIN:VEVENT
DTSTART;TZID=America/Chicago:20260321T100000
DTEND;TZID=America/Chicago:20260321T120000
DTSTAMP:20260421T144037
CREATED:20251130T161255Z
LAST-MODIFIED:20260224T174614Z
UID:10003965-1774087200-1774094400@mcdougalsewing.com
SUMMARY:Advanced Sewing Techniques-P.1- Ruffling\, Gathering\, Hems
DESCRIPTION:MASTER TECHNIQUE CLASS FOR ALL SEWING MACHINES SOLD AT MCDOUGAL SEWING \nLearn some different techniques your sewing machine is capable of in this 2-hour class.This class is FREE with a sewing machine purchase from McDougal Sewing.  Some techniques will be demoed\, but most will be hands-on. If you don’t want to bring your machine\, you can just sign up and watch the techniques.  $10 kit fee due on day of class. \nTechniques that will be taught in this class. If you have a Ruffler\, a Gathering foot or Narrow hem foot\, bring them to class to use in class. We will not have enough ruffling feet for each person during class. \n\nHow to do ruffling using a ruffler foot.\nHow to do gathering with a gathering foot.\nHow to do different hems- Blind hem\, narrow hem.\nBasic Advanced Class Supply List\n✓ Your new machine with foot control and power cord\n✓ Owner’s Manual✓ All presser feet and accessories that originally came with the machine\, including bobbins and spool caps\n✓ Scissors\n✓ Empty bobbin\n✓ Notepad and pen or pencil\nNeutral thread color such as beige or grey in top and bobbin.\n$10 cash only kit fee will have fabric.\nPrerequisite: Machine Basics \nSupply List: MasterClassAllMachines\nPlease read Class and Refund Policies
URL:https://mcdougalsewing.com/event/advanced-sewing-techniques-part-1-2/
LOCATION:McDougal Main Store\, 20141 Park Row\, Katy\, TX\, 77449\, United States
CATEGORIES:Main Store
ATTACH;FMTTYPE=image/jpeg:https://mcdougalsewing.com/wp-content/uploads/2022/05/HemmingFoot.jpg
ORGANIZER;CN="McDougal Sewing Center":MAILTO:karen.welch@mcdougalsewing.com
GEO:29.789449;-95.7261697
X-APPLE-STRUCTURED-LOCATION;VALUE=URI;X-ADDRESS=McDougal Main Store 20141 Park Row Katy TX 77449 United States;X-APPLE-RADIUS=500;X-TITLE=20141 Park Row:geo:-95.7261697,29.789449
END:VEVENT
BEGIN:VEVENT
DTSTART;TZID=America/Chicago:20260326T100000
DTEND;TZID=America/Chicago:20260326T130000
DTSTAMP:20260421T144037
CREATED:20251130T165604Z
LAST-MODIFIED:20260220T230640Z
UID:10003971-1774519200-1774530000@mcdougalsewing.com
SUMMARY:Brother/JUKI/Elna Computer Machine Basics
DESCRIPTION:Congratulations on the purchase of your new machine. We are honored that you have placed your confidence in McDougal Sewing Centers as your home for creativity. To make the most of your new machine\, it is highly encouraged that you attend our “quick start” programs designed to help you get acquainted with your machine. Each session has been developed to gain familiarity with the basic features/functions of your new machine\, to get you creating quickly. These sessions are our gift to you with the purchase of a new machine from McDougal Sewing Center. \n\n\nJoin talented Education Team members for a “get acquainted” new machine mixer. The goal of this session is to provide you with the information and knowledge needed to get the most from your new machine. \nThis class is geared for Computerized Brother\, JUKI and Elna sewing machines. You will start with the basics and work your way up through hemming\, buttonhole\, and decorative stitches.  You must register in advance. \nOpen for Brother\, JUKI and Elna customers who purchased their machine at McDougal Sewing Center. You must present a sales receipt to take this free class. \nFor ALL Sewing/Embroidery “Guide” Classes we will provide you with the fabric and thread needed for the class. \nDownload Supply Lists:  Computer Machine Basics \nPlease read Class and Refund Policies
URL:https://mcdougalsewing.com/event/brother-juki-elna-computer-machine-basics-26/
LOCATION:McDougal Main Store\, 20141 Park Row\, Katy\, TX\, 77449\, United States
CATEGORIES:Main Store
ATTACH;FMTTYPE=image/jpeg:https://mcdougalsewing.com/wp-content/uploads/2022/10/Brother_-_PS500_-_Lifestyle_1-scaled.jpg
ORGANIZER;CN="McDougal Sewing Center":MAILTO:karen.welch@mcdougalsewing.com
GEO:29.789449;-95.7261697
X-APPLE-STRUCTURED-LOCATION;VALUE=URI;X-ADDRESS=McDougal Main Store 20141 Park Row Katy TX 77449 United States;X-APPLE-RADIUS=500;X-TITLE=20141 Park Row:geo:-95.7261697,29.789449
END:VEVENT
END:VCALENDAR