BEGIN:VCALENDAR
VERSION:2.0
PRODID:-//McDougal Sewing Center - ECPv6.15.17.1//NONSGML v1.0//EN
CALSCALE:GREGORIAN
METHOD:PUBLISH
X-ORIGINAL-URL:https://mcdougalsewing.com
X-WR-CALDESC:Events for McDougal Sewing Center
REFRESH-INTERVAL;VALUE=DURATION:PT1H
X-Robots-Tag:noindex
X-PUBLISHED-TTL:PT1H
BEGIN:VTIMEZONE
TZID:America/Chicago
BEGIN:DAYLIGHT
TZOFFSETFROM:-0600
TZOFFSETTO:-0500
TZNAME:CDT
DTSTART:20250309T080000
END:DAYLIGHT
BEGIN:STANDARD
TZOFFSETFROM:-0500
TZOFFSETTO:-0600
TZNAME:CST
DTSTART:20251102T070000
END:STANDARD
BEGIN:DAYLIGHT
TZOFFSETFROM:-0600
TZOFFSETTO:-0500
TZNAME:CDT
DTSTART:20260308T080000
END:DAYLIGHT
BEGIN:STANDARD
TZOFFSETFROM:-0500
TZOFFSETTO:-0600
TZNAME:CST
DTSTART:20261101T070000
END:STANDARD
BEGIN:DAYLIGHT
TZOFFSETFROM:-0600
TZOFFSETTO:-0500
TZNAME:CDT
DTSTART:20270314T080000
END:DAYLIGHT
BEGIN:STANDARD
TZOFFSETFROM:-0500
TZOFFSETTO:-0600
TZNAME:CST
DTSTART:20271107T070000
END:STANDARD
END:VTIMEZONE
BEGIN:VEVENT
DTSTART;TZID=America/Chicago:20260309T103000
DTEND;TZID=America/Chicago:20260309T153000
DTSTAMP:20260424T101150
CREATED:20251209T021729Z
LAST-MODIFIED:20251221T021216Z
UID:10004005-1773052200-1773070200@mcdougalsewing.com
SUMMARY:NEW! Learn to Sew
DESCRIPTION:For the absolute beginner and those wanting to review the basics. We’ll cover machine basics including threading\, winding the bobbin\, changing feet\, and stitch settings. You’ll learn hand placement and practice stitching straight\, corners\, and curves. \nAfter lunch\, we’ll look at the common tools used in home sewing. Then we’ll discuss fabrics\, machine needles\, and threads. Class concludes after completing a small project. \nNo supplies necessary. Everything needed for class practice and the project are provided \nDO Bring from home: \nSewing machine in good working order with all parts and cords\, and the book \n( if you have it) Machines are available to rent. Call ahead to reserve one \nThread for your machine \nScissors
URL:https://mcdougalsewing.com/event/new-learn-to-sew-3/
LOCATION:McDougal Main Store\, 20141 Park Row\, Katy\, TX\, 77449\, United States
CATEGORIES:Main Store,Events
ATTACH;FMTTYPE=image/jpeg:https://mcdougalsewing.com/wp-content/uploads/2019/09/learning-to-sew-e1573177649424.jpg
ORGANIZER;CN="McDougal Sewing Center":MAILTO:karen.welch@mcdougalsewing.com
GEO:29.789449;-95.7261697
X-APPLE-STRUCTURED-LOCATION;VALUE=URI;X-ADDRESS=McDougal Main Store 20141 Park Row Katy TX 77449 United States;X-APPLE-RADIUS=500;X-TITLE=20141 Park Row:geo:-95.7261697,29.789449
END:VEVENT
BEGIN:VEVENT
DTSTART;TZID=America/Chicago:20260310T103000
DTEND;TZID=America/Chicago:20260310T140000
DTSTAMP:20260424T101150
CREATED:20251209T012447Z
LAST-MODIFIED:20260307T005602Z
UID:10003996-1773138600-1773151200@mcdougalsewing.com
SUMMARY:Basic Pattern Alterations
DESCRIPTION:(Prerequisite – How to use a pattern class or experience using patterns) \n  \nLearn to make basic width and length alterations to a pattern of your choice. We start with a simple pattern in your size range and learn to alter it to your specific measurements. We are not resizing the pattern\, rather tweaking it to better fit you. Supplies required\, see list. \nSupply List: Basic Pattern Alteration Supply List \nThere is no sewing in this class! Please leave your machine at home. \n 
URL:https://mcdougalsewing.com/event/basic-pattern-alterations-3/
LOCATION:McDougal Main Store\, 20141 Park Row\, Katy\, TX\, 77449\, United States
CATEGORIES:Main Store,Events
ATTACH;FMTTYPE=image/jpeg:https://mcdougalsewing.com/wp-content/uploads/2024/12/Pattern-Kids-Camp.jpg
ORGANIZER;CN="McDougal Sewing Center":MAILTO:karen.welch@mcdougalsewing.com
GEO:29.789449;-95.7261697
X-APPLE-STRUCTURED-LOCATION;VALUE=URI;X-ADDRESS=McDougal Main Store 20141 Park Row Katy TX 77449 United States;X-APPLE-RADIUS=500;X-TITLE=20141 Park Row:geo:-95.7261697,29.789449
END:VEVENT
BEGIN:VEVENT
DTSTART;TZID=America/Chicago:20260316T103000
DTEND;TZID=America/Chicago:20260316T160000
DTSTAMP:20260424T101150
CREATED:20251209T030040Z
LAST-MODIFIED:20260307T005930Z
UID:10003999-1773657000-1773676800@mcdougalsewing.com
SUMMARY:How to Use a Pattern
DESCRIPTION:How to use a pattern\nDo you wonder what all those symbols on a pattern mean? This class covers that and more! Learn how to use the information on the pattern envelope to determine your size and fabric requirements. Discover how to use the multi sizes on your pattern tissue to customize the fit for you. \nWe’ll cut and construct a pair of elastic waist leisure pants for you or someone else. \nSupplies required\, see list \nSupply List: 102 How to Use a Pattern Supply list \n 
URL:https://mcdougalsewing.com/event/how-to-use-a-pattern-20/
LOCATION:McDougal Main Store\, 20141 Park Row\, Katy\, TX\, 77449\, United States
CATEGORIES:Main Store,Events
ATTACH;FMTTYPE=image/jpeg:https://mcdougalsewing.com/wp-content/uploads/2024/09/alter.pattern-rotated.jpg
ORGANIZER;CN="McDougal Sewing Center":MAILTO:karen.welch@mcdougalsewing.com
GEO:29.789449;-95.7261697
X-APPLE-STRUCTURED-LOCATION;VALUE=URI;X-ADDRESS=McDougal Main Store 20141 Park Row Katy TX 77449 United States;X-APPLE-RADIUS=500;X-TITLE=20141 Park Row:geo:-95.7261697,29.789449
END:VEVENT
BEGIN:VEVENT
DTSTART;TZID=America/Chicago:20260324T103000
DTEND;TZID=America/Chicago:20260324T133000
DTSTAMP:20260424T101150
CREATED:20251209T024251Z
LAST-MODIFIED:20260307T010044Z
UID:10004008-1774348200-1774359000@mcdougalsewing.com
SUMMARY:Stretch Sewing Techniques
DESCRIPTION:Stretch sewing techniques\nPrerequisite: How to use a Pattern or ability to cut out a pattern unassisted \n Use a pattern to construct a sweatshirt or t-shirt with a knit fabric of your choice. Learn techniques to sew on knits and finish seams. You’ll also learn to apply rib knit at the neckline\, cuffs\, and bottom band (optional). \nSupplies needed\, the project is precut before class at home. \nSupply List: Stretch Sewing Techniques Supply List
URL:https://mcdougalsewing.com/event/stretch-sewing-techniques-15/
LOCATION:McDougal Main Store\, 20141 Park Row\, Katy\, TX\, 77449\, United States
CATEGORIES:Main Store,Events
ATTACH;FMTTYPE=image/jpeg:https://mcdougalsewing.com/wp-content/uploads/2024/09/sweatshirt-rotated.jpg
ORGANIZER;CN="McDougal Sewing Center":MAILTO:karen.welch@mcdougalsewing.com
GEO:29.789449;-95.7261697
X-APPLE-STRUCTURED-LOCATION;VALUE=URI;X-ADDRESS=McDougal Main Store 20141 Park Row Katy TX 77449 United States;X-APPLE-RADIUS=500;X-TITLE=20141 Park Row:geo:-95.7261697,29.789449
END:VEVENT
BEGIN:VEVENT
DTSTART;TZID=America/Chicago:20260325T103000
DTEND;TZID=America/Chicago:20260325T133000
DTSTAMP:20260424T101150
CREATED:20251209T020211Z
LAST-MODIFIED:20260307T010127Z
UID:10004002-1774434600-1774445400@mcdougalsewing.com
SUMMARY:Installing An Invisible Zipper
DESCRIPTION:Once you see how easy it is to install an invisible zipper\, you’ll never use anything else! I’ll show you how to install an invisible zipper in a garment\, and using the flat technique. As a bonus\, I’ll show you a trick to avoid a bump at the bottom of your zipper. In class\, we will sew a lined pouch using the flat technique and your invisible zipper foot.  \nSupplies Required: Please refer to the supply list. \nSupply List:Zippered-Pouch-Supply-List
URL:https://mcdougalsewing.com/event/installing-an-invisible-zipper-4/
LOCATION:McDougal Main Store\, 20141 Park Row\, Katy\, TX\, 77449\, United States
CATEGORIES:Main Store,Events
ATTACH;FMTTYPE=image/webp:https://mcdougalsewing.com/wp-content/uploads/2025/12/Invisible-zipper.webp
ORGANIZER;CN="McDougal Sewing Center":MAILTO:karen.welch@mcdougalsewing.com
GEO:29.789449;-95.7261697
X-APPLE-STRUCTURED-LOCATION;VALUE=URI;X-ADDRESS=McDougal Main Store 20141 Park Row Katy TX 77449 United States;X-APPLE-RADIUS=500;X-TITLE=20141 Park Row:geo:-95.7261697,29.789449
END:VEVENT
END:VCALENDAR