BEGIN:VCALENDAR
VERSION:2.0
PRODID:-//McDougal Sewing Center - ECPv6.15.17.1//NONSGML v1.0//EN
CALSCALE:GREGORIAN
METHOD:PUBLISH
X-ORIGINAL-URL:https://mcdougalsewing.com
X-WR-CALDESC:Events for McDougal Sewing Center
REFRESH-INTERVAL;VALUE=DURATION:PT1H
X-Robots-Tag:noindex
X-PUBLISHED-TTL:PT1H
BEGIN:VTIMEZONE
TZID:America/Chicago
BEGIN:DAYLIGHT
TZOFFSETFROM:-0600
TZOFFSETTO:-0500
TZNAME:CDT
DTSTART:20230312T080000
END:DAYLIGHT
BEGIN:STANDARD
TZOFFSETFROM:-0500
TZOFFSETTO:-0600
TZNAME:CST
DTSTART:20231105T070000
END:STANDARD
BEGIN:DAYLIGHT
TZOFFSETFROM:-0600
TZOFFSETTO:-0500
TZNAME:CDT
DTSTART:20240310T080000
END:DAYLIGHT
BEGIN:STANDARD
TZOFFSETFROM:-0500
TZOFFSETTO:-0600
TZNAME:CST
DTSTART:20241103T070000
END:STANDARD
BEGIN:DAYLIGHT
TZOFFSETFROM:-0600
TZOFFSETTO:-0500
TZNAME:CDT
DTSTART:20250309T080000
END:DAYLIGHT
BEGIN:STANDARD
TZOFFSETFROM:-0500
TZOFFSETTO:-0600
TZNAME:CST
DTSTART:20251102T070000
END:STANDARD
END:VTIMEZONE
BEGIN:VEVENT
DTSTART;TZID=America/Chicago:20240318T103000
DTEND;TZID=America/Chicago:20240318T130000
DTSTAMP:20260425T081827
CREATED:20240106T155101Z
LAST-MODIFIED:20240106T155101Z
UID:10002916-1710757800-1710766800@mcdougalsewing.com
SUMMARY:Installing an Invisible Zipper
DESCRIPTION:Once you see how easy it is to install an invisible zipper you’ll never use anything else! \nIn class we will sew a 18” or 20” pillow cover featuring an invisible zipper. \nYou’ll learn several methods of stabilizing your zipper before sewing\, as well as a trick to ensure the bottom of the zipper remains flat. \nInvisible-Zipper-Supply-List
URL:https://mcdougalsewing.com/event/installing-an-invisible-zipper/
LOCATION:McDougal Main Store\, 20141 Park Row\, Katy\, TX\, 77449\, United States
CATEGORIES:Main Store
ATTACH;FMTTYPE=image/jpeg:https://mcdougalsewing.com/wp-content/uploads/2024/01/invisible-zipper.jpg
ORGANIZER;CN="McDougal Sewing Center":MAILTO:karen.welch@mcdougalsewing.com
GEO:29.789449;-95.7261697
X-APPLE-STRUCTURED-LOCATION;VALUE=URI;X-ADDRESS=McDougal Main Store 20141 Park Row Katy TX 77449 United States;X-APPLE-RADIUS=500;X-TITLE=20141 Park Row:geo:-95.7261697,29.789449
END:VEVENT
BEGIN:VEVENT
DTSTART;TZID=America/Chicago:20240319T103000
DTEND;TZID=America/Chicago:20240319T163000
DTSTAMP:20260425T081827
CREATED:20240106T143944Z
LAST-MODIFIED:20240106T143944Z
UID:10002908-1710844200-1710865800@mcdougalsewing.com
SUMMARY:How to Read a Pattern
DESCRIPTION:Do you wonder what all those symbols on a pattern mean? This class covers that and more! Learn how to use the information on the pattern envelope to determine your size and fabric requirements. Well cut and construct a pair of elastic waist leisure pants for you or as a gift. \nSupply List:  102 How to Use a Pattern Supply list
URL:https://mcdougalsewing.com/event/how-to-read-a-pattern-3/
LOCATION:McDougal Main Store\, 20141 Park Row\, Katy\, TX\, 77449\, United States
CATEGORIES:Main Store
ORGANIZER;CN="McDougal Sewing Center":MAILTO:karen.welch@mcdougalsewing.com
GEO:29.789449;-95.7261697
X-APPLE-STRUCTURED-LOCATION;VALUE=URI;X-ADDRESS=McDougal Main Store 20141 Park Row Katy TX 77449 United States;X-APPLE-RADIUS=500;X-TITLE=20141 Park Row:geo:-95.7261697,29.789449
END:VEVENT
BEGIN:VEVENT
DTSTART;TZID=America/Chicago:20240321T100000
DTEND;TZID=America/Chicago:20240321T120000
DTSTAMP:20260425T081827
CREATED:20231201T021828Z
LAST-MODIFIED:20241029T013155Z
UID:10002818-1711015200-1711022400@mcdougalsewing.com
SUMMARY:Advanced Sewing Techniques
DESCRIPTION:MASTER TECHNIQUE CLASS FOR ALL SEWING MACHINES SOLD AT MCDOUGAL SEWING \nLearn some different techniques your sewing machine is capable of in this 2-hour class offered FREE with a sewing machine purchase from McDougal Sewing.  This is a dynamic class that may change each session depending on what most people want to learn.  Some techniques will be demoed\, but most will be hands-on. If you don’t want to bring your machine\, you can just sign up and watch the techniques. Due to the size of our classroom and the popularity of these classes\, we ask that you take each section of the class only 2 times. This will still give you plenty of time\, 2 years\, to learn the techniques and give all of our customers a chance to sign up. $5 kit fee due on day of class. \nTechniques that will be taught in this class. \n\nHow to do ruffling.\nHow to do gathering.\nHow to do different hems\n\nPrerequisite: Machine Basics  \nSupply List: MasterClassAllMachines
URL:https://mcdougalsewing.com/event/advanced-serger-techniques-2/
LOCATION:McDougal Main Store\, 20141 Park Row\, Katy\, TX\, 77449\, United States
CATEGORIES:Main Store
ORGANIZER;CN="McDougal Sewing Center":MAILTO:karen.welch@mcdougalsewing.com
GEO:29.789449;-95.7261697
X-APPLE-STRUCTURED-LOCATION;VALUE=URI;X-ADDRESS=McDougal Main Store 20141 Park Row Katy TX 77449 United States;X-APPLE-RADIUS=500;X-TITLE=20141 Park Row:geo:-95.7261697,29.789449
END:VEVENT
BEGIN:VEVENT
DTSTART;TZID=America/Chicago:20240321T130000
DTEND;TZID=America/Chicago:20240321T150000
DTSTAMP:20260425T081827
CREATED:20231201T020930Z
LAST-MODIFIED:20241029T013028Z
UID:10002817-1711026000-1711033200@mcdougalsewing.com
SUMMARY:Advanced Serger Techniques-Part 1
DESCRIPTION:Free to sergers purchased at McDougal Sewing\nLet’s learn how to use some of the many stitches our sergers do and how the optional pressure feet help our creativity. Techniques shown will be how to do flat locking\, piping\, and bead insertion. \nThis is a hands-on intermediate class. You must know how to thread your serger and feel comfortable using it. \nSupply List: Bring your serger\, in good working order and all attachments that came with it. Have your serger threaded with 4 spools of white/cream thread\, 2 new needles and a small pair of scissors. If you have the bead foot\, the piping foot and a blind hem foot please bring them for this class. \nFabric and specialty tools may be provided.  Some attachments will be shared during class when needed. $5 kit fee\, cash only\, due day of class. \nOne person per serger\, if you need a translator\, please contact Rebecca @ Rebecca.jospeh@mcdougalsewing.com.
URL:https://mcdougalsewing.com/event/advanced-serger-techniques/
LOCATION:McDougal Main Store\, 20141 Park Row\, Katy\, TX\, 77449\, United States
CATEGORIES:Main Store
ATTACH;FMTTYPE=image/png:https://mcdougalsewing.com/wp-content/uploads/2023/03/AdvancedSergerFoot.png
ORGANIZER;CN="McDougal Sewing Center":MAILTO:karen.welch@mcdougalsewing.com
GEO:29.789449;-95.7261697
X-APPLE-STRUCTURED-LOCATION;VALUE=URI;X-ADDRESS=McDougal Main Store 20141 Park Row Katy TX 77449 United States;X-APPLE-RADIUS=500;X-TITLE=20141 Park Row:geo:-95.7261697,29.789449
END:VEVENT
BEGIN:VEVENT
DTSTART;TZID=America/Chicago:20240322T100000
DTEND;TZID=America/Chicago:20240322T130000
DTSTAMP:20260425T081827
CREATED:20231204T004349Z
LAST-MODIFIED:20231204T004349Z
UID:10002857-1711101600-1711112400@mcdougalsewing.com
SUMMARY:Viking/Pfaff/Computer Machine Basics
DESCRIPTION:Sew… You have a new Machine! \nCongratulations on the purchase of your new machine. We are honored that you have placed your confidence in McDougal Sewing Centers as your home for creativity. To make the most of your new machine\, it is highly encouraged that you attend our “quick start” programs designed to help you get acquainted with your machine. Each session has been developed to gain familiarity with the basic features/functions of your new machine\, to get you creating quickly. These sessions are our gift to you with the purchase of a new machine from McDougal Sewing Center. \nJoin talented Education Team members for a “get acquainted” new machine mixer. The goal of this two-part session is to provide you with the information and knowledge needed to get the most from your new machine. \nWe will cover machine navigation (where is that stitch!)\, TNT (threading\, needles\, tension adjustment)\, and equip you to use your machine with confidence.  \nThis class is open to customers who purchased a qualifying sewing\, embroidery\, and/or combo machine from any McDougal’s location. \nYou must present a sales receipt to take this free class. \nQualifying Machines:\nViking: Opal\, Sapphire\, Designer\, Brilliance\, and Epic Lines. \nFor ALL Sewing/Embroidery “Guide” Classes\, we will provide you with the fabric and thread needed for the class. \nDownload Supply List: Computer Machine Basics Supply List
URL:https://mcdougalsewing.com/event/viking-pfaff-computer-machine-basics-6/
LOCATION:McDougal Main Store\, 20141 Park Row\, Katy\, TX\, 77449\, United States
CATEGORIES:Main Store
ORGANIZER;CN="McDougal Sewing Center":MAILTO:karen.welch@mcdougalsewing.com
GEO:29.789449;-95.7261697
X-APPLE-STRUCTURED-LOCATION;VALUE=URI;X-ADDRESS=McDougal Main Store 20141 Park Row Katy TX 77449 United States;X-APPLE-RADIUS=500;X-TITLE=20141 Park Row:geo:-95.7261697,29.789449
END:VEVENT
BEGIN:VEVENT
DTSTART;TZID=America/Chicago:20240322T140000
DTEND;TZID=America/Chicago:20240322T163000
DTSTAMP:20260425T081827
CREATED:20231204T010528Z
LAST-MODIFIED:20231204T010528Z
UID:10002861-1711116000-1711125000@mcdougalsewing.com
SUMMARY:Viking/Pfaff Machine Embroidery Basics
DESCRIPTION:Join McDougal Sewing Centers Embroidery Specialists for a hands-on embroidery quick start session. This workshop will cover:\n\n\n\nNavigating your embroidery machine\nThreading for embroidery\nProper hooping and basic stabilization\nLettering\n\nBring your machine and its basic embroidery setup\, check the supply list below for other supplies needed. \nPre-requisite: Viking Computer Machine Basics \nCourse Level: All Levels \nThis class is open to customers who purchased a qualifying sewing\, embroidery\, and/or combo machine from any McDougal’s location. You must present a sales receipt to take this free class. \nSupply List: Machine Embroidery Basics Supply List
URL:https://mcdougalsewing.com/event/viking-pfaff-machine-embroidery-basics-6/
LOCATION:McDougal Main Store\, 20141 Park Row\, Katy\, TX\, 77449\, United States
CATEGORIES:Main Store
ORGANIZER;CN="McDougal Sewing Center":MAILTO:karen.welch@mcdougalsewing.com
GEO:29.789449;-95.7261697
X-APPLE-STRUCTURED-LOCATION;VALUE=URI;X-ADDRESS=McDougal Main Store 20141 Park Row Katy TX 77449 United States;X-APPLE-RADIUS=500;X-TITLE=20141 Park Row:geo:-95.7261697,29.789449
END:VEVENT
BEGIN:VEVENT
DTSTART;TZID=America/Chicago:20240323T100000
DTEND;TZID=America/Chicago:20240323T130000
DTSTAMP:20260425T081827
CREATED:20231201T030851Z
LAST-MODIFIED:20231201T030937Z
UID:10002826-1711188000-1711198800@mcdougalsewing.com
SUMMARY:Brother/Juki/Elna Computer Machine Basics
DESCRIPTION:Congratulations on the purchase of your new machine. We are honored that you have placed your confidence in McDougal Sewing Centers as your home for creativity. To make the most of your new machine\, it is highly encouraged that you attend our “quick start” programs designed to help you get acquainted with your machine. Each session has been developed to gain familiarity with the basic features/functions of your new machine\, to get you creating quickly. These sessions are our gift to you with the purchase of a new machine from McDougal Sewing Center. \nJoin talented Education Team members for a “get acquainted” new machine mixer. The goal of this session is to provide you with the information and knowledge needed to get the most from your new machine. \nThis class is geared for Computerized Brother\, JUKI and Elna sewing machines. You will start with the basics and work your way up through hemming\, buttonhole\, and decorative stitches.  You must register in advance. \nOpen for Brother\, JUKI and Elna customers who purchased their machine at McDougal Sewing Center. You must present a sales receipt to take this free class. \nFor ALL Sewing/Embroidery “Guide” Classes we will provide you with the fabric and thread needed for the class. \nDownload Supply Lists:  Computer Machine Basics
URL:https://mcdougalsewing.com/event/brother-juki-elna-computer-machine-basics-11/
LOCATION:McDougal Main Store\, 20141 Park Row\, Katy\, TX\, 77449\, United States
CATEGORIES:Main Store
ORGANIZER;CN="McDougal Sewing Center":MAILTO:karen.welch@mcdougalsewing.com
GEO:29.789449;-95.7261697
X-APPLE-STRUCTURED-LOCATION;VALUE=URI;X-ADDRESS=McDougal Main Store 20141 Park Row Katy TX 77449 United States;X-APPLE-RADIUS=500;X-TITLE=20141 Park Row:geo:-95.7261697,29.789449
END:VEVENT
BEGIN:VEVENT
DTSTART;TZID=America/Chicago:20240323T140000
DTEND;TZID=America/Chicago:20240323T163000
DTSTAMP:20260425T081827
CREATED:20231201T024635Z
LAST-MODIFIED:20231201T024635Z
UID:10002822-1711202400-1711211400@mcdougalsewing.com
SUMMARY:Brother/Elna Machine Embroidery Basics
DESCRIPTION:Join McDougal Sewing Centers Embroidery Specialists for a hands-on embroidery quick start session. This workshop will cover: \n\nNavigating your embroidery machine\nThreading for embroidery\nProper hooping and basic stabilization\nLettering\n\nBring your machine and its basic embroidery setup\, check the supply list below for other supplies needed. \nPrerequisite for sewing combo machines: Computer Machine Basics \nCourse Level: All Levels \nThis class is open to customers who purchased a qualifying sewing\, embroidery\, and/or combo machine from any McDougal’s location. You must present a sales receipt to take this free class. \nDownload Supply List: Machine Embroidery Basics
URL:https://mcdougalsewing.com/event/brother-elna-machine-embroidery-basics-9/
LOCATION:McDougal Main Store\, 20141 Park Row\, Katy\, TX\, 77449\, United States
CATEGORIES:Main Store
ORGANIZER;CN="McDougal Sewing Center":MAILTO:karen.welch@mcdougalsewing.com
GEO:29.789449;-95.7261697
X-APPLE-STRUCTURED-LOCATION;VALUE=URI;X-ADDRESS=McDougal Main Store 20141 Park Row Katy TX 77449 United States;X-APPLE-RADIUS=500;X-TITLE=20141 Park Row:geo:-95.7261697,29.789449
END:VEVENT
END:VCALENDAR