BEGIN:VCALENDAR
VERSION:2.0
PRODID:-//McDougal Sewing Center - ECPv6.15.17.1//NONSGML v1.0//EN
CALSCALE:GREGORIAN
METHOD:PUBLISH
X-WR-CALNAME:McDougal Sewing Center
X-ORIGINAL-URL:https://mcdougalsewing.com
X-WR-CALDESC:Events for McDougal Sewing Center
REFRESH-INTERVAL;VALUE=DURATION:PT1H
X-Robots-Tag:noindex
X-PUBLISHED-TTL:PT1H
BEGIN:VTIMEZONE
TZID:America/Chicago
BEGIN:DAYLIGHT
TZOFFSETFROM:-0600
TZOFFSETTO:-0500
TZNAME:CDT
DTSTART:20230312T080000
END:DAYLIGHT
BEGIN:STANDARD
TZOFFSETFROM:-0500
TZOFFSETTO:-0600
TZNAME:CST
DTSTART:20231105T070000
END:STANDARD
BEGIN:DAYLIGHT
TZOFFSETFROM:-0600
TZOFFSETTO:-0500
TZNAME:CDT
DTSTART:20240310T080000
END:DAYLIGHT
BEGIN:STANDARD
TZOFFSETFROM:-0500
TZOFFSETTO:-0600
TZNAME:CST
DTSTART:20241103T070000
END:STANDARD
BEGIN:DAYLIGHT
TZOFFSETFROM:-0600
TZOFFSETTO:-0500
TZNAME:CDT
DTSTART:20250309T080000
END:DAYLIGHT
BEGIN:STANDARD
TZOFFSETFROM:-0500
TZOFFSETTO:-0600
TZNAME:CST
DTSTART:20251102T070000
END:STANDARD
END:VTIMEZONE
BEGIN:VEVENT
DTSTART;TZID=America/Chicago:20240531T103000
DTEND;TZID=America/Chicago:20240531T123000
DTSTAMP:20260421T213248
CREATED:20240303T003556Z
LAST-MODIFIED:20240303T003556Z
UID:10002933-1717151400-1717158600@mcdougalsewing.com
SUMMARY:Serger Basics
DESCRIPTION:Welcome to the world of serging!  \nThis class is for all serger owners\, featuring 4-thread and 3-thread techniques. We will learn how a serger works\, threading steps and basic serger skills. \nThis class is open to customers who purchased a qualifying Serger from any McDougal Sewing location. McDougal Sewing does NOT participate in the free guide class for Singer sergers\, so this class is not for Singer sergers. We do offer a Serger 101 class that is open to the public for a fee for sergers not purchased at McDougal Sewing. \nYou must present a sales receipt from McDougal Sewing to take this free class. \nFor those that have a chain-stitch or cover-stitch serger\, contact rebecca.joseph@mcdougalsewing.com for this class. \nDownload Supply List: Serger Basics Supply List
URL:https://mcdougalsewing.com/event/serger-basics-13/
LOCATION:McDougal Main Store\, 20141 Park Row\, Katy\, TX\, 77449\, United States
CATEGORIES:Main Store
ORGANIZER;CN="McDougal Sewing Center":MAILTO:karen.welch@mcdougalsewing.com
GEO:29.789449;-95.7261697
X-APPLE-STRUCTURED-LOCATION;VALUE=URI;X-ADDRESS=McDougal Main Store 20141 Park Row Katy TX 77449 United States;X-APPLE-RADIUS=500;X-TITLE=20141 Park Row:geo:-95.7261697,29.789449
END:VEVENT
BEGIN:VEVENT
DTSTART;TZID=America/Chicago:20240531T133000
DTEND;TZID=America/Chicago:20240531T153000
DTSTAMP:20260421T213248
CREATED:20240303T001746Z
LAST-MODIFIED:20240303T001746Z
UID:10002930-1717162200-1717169400@mcdougalsewing.com
SUMMARY:Mechanical/Digital Machine Basic
DESCRIPTION:This class is for any mechanical – Viking E-10\, E-20 & Emerald series\, or Brother PS-100 and the Digital PS200T\, and PS300T \, the Pfaff Passport 2.0 & 3.0\, the JUKI HZL-70-HWA or any new Elna mechanical machine recently purchased at McDougal Sewing locations.\n\n\n\n\nWe show you how the wind and insert your bobbin\, thread your machine; how to adjust tension\, length\, and width\, and choose your stitch patterns. \nAll participants must present a sales receipt to take this free class. \nSupply list: Mechanical Machine Basics Supply List
URL:https://mcdougalsewing.com/event/mechanical-digital-machine-basic-3/
LOCATION:McDougal Main Store\, 20141 Park Row\, Katy\, TX\, 77449\, United States
CATEGORIES:Main Store
ORGANIZER;CN="McDougal Sewing Center":MAILTO:karen.welch@mcdougalsewing.com
GEO:29.789449;-95.7261697
X-APPLE-STRUCTURED-LOCATION;VALUE=URI;X-ADDRESS=McDougal Main Store 20141 Park Row Katy TX 77449 United States;X-APPLE-RADIUS=500;X-TITLE=20141 Park Row:geo:-95.7261697,29.789449
END:VEVENT
BEGIN:VEVENT
DTSTART;TZID=America/Chicago:20240601T100000
DTEND;TZID=America/Chicago:20240601T120000
DTSTAMP:20260421T213248
CREATED:20240304T192705Z
LAST-MODIFIED:20240527T232600Z
UID:10002977-1717236000-1717243200@mcdougalsewing.com
SUMMARY:Feet Fetish - Sewing Machine Cover
DESCRIPTION:Use the measurements from your sewing machine or Serger or Embroidery arm and create a nice\, lined cover with piping and decorative stitches! \nDownload Supply List: June 2024 Feet Fetish Club \nPre-Cut Option:  \nIf you want to have all your fabric pre-cut before class\, here are the measurements needed: Come see the store sample for a visual. \n\nMain cover & lining & fusible batting: Length = sewing machine depth + 2x the sewing machine height; Width = sewing machine width + 1 1/2″\nSides & lining & fusible batting (cut 2 of each): Length = sewing machine height + 1/2″; Width = sewing machine depth + 1″\nOptional Pocket: Length = 2x (foot control width + 2.5″); Width = sewing machine width + 1 1/2″\nOptional Handle opening facing & fusible batting: Length = handle length + 4″; Width = handle width + 4″\n\n  \n 
URL:https://mcdougalsewing.com/event/feet-fetish-sewing-machine-cover/
LOCATION:McDougal Main Store\, 20141 Park Row\, Katy\, TX\, 77449\, United States
CATEGORIES:Main Store
ORGANIZER;CN="McDougal Sewing Center":MAILTO:karen.welch@mcdougalsewing.com
GEO:29.789449;-95.7261697
X-APPLE-STRUCTURED-LOCATION;VALUE=URI;X-ADDRESS=McDougal Main Store 20141 Park Row Katy TX 77449 United States;X-APPLE-RADIUS=500;X-TITLE=20141 Park Row:geo:-95.7261697,29.789449
END:VEVENT
END:VCALENDAR