BEGIN:VCALENDAR
VERSION:2.0
PRODID:-//McDougal Sewing Center - ECPv6.15.17.1//NONSGML v1.0//EN
CALSCALE:GREGORIAN
METHOD:PUBLISH
X-WR-CALNAME:McDougal Sewing Center
X-ORIGINAL-URL:https://mcdougalsewing.com
X-WR-CALDESC:Events for McDougal Sewing Center
REFRESH-INTERVAL;VALUE=DURATION:PT1H
X-Robots-Tag:noindex
X-PUBLISHED-TTL:PT1H
BEGIN:VTIMEZONE
TZID:America/Chicago
BEGIN:DAYLIGHT
TZOFFSETFROM:-0600
TZOFFSETTO:-0500
TZNAME:CDT
DTSTART:20230312T080000
END:DAYLIGHT
BEGIN:STANDARD
TZOFFSETFROM:-0500
TZOFFSETTO:-0600
TZNAME:CST
DTSTART:20231105T070000
END:STANDARD
BEGIN:DAYLIGHT
TZOFFSETFROM:-0600
TZOFFSETTO:-0500
TZNAME:CDT
DTSTART:20240310T080000
END:DAYLIGHT
BEGIN:STANDARD
TZOFFSETFROM:-0500
TZOFFSETTO:-0600
TZNAME:CST
DTSTART:20241103T070000
END:STANDARD
BEGIN:DAYLIGHT
TZOFFSETFROM:-0600
TZOFFSETTO:-0500
TZNAME:CDT
DTSTART:20250309T080000
END:DAYLIGHT
BEGIN:STANDARD
TZOFFSETFROM:-0500
TZOFFSETTO:-0600
TZNAME:CST
DTSTART:20251102T070000
END:STANDARD
END:VTIMEZONE
BEGIN:VEVENT
DTSTART;TZID=America/Chicago:20240726T110000
DTEND;TZID=America/Chicago:20240726T130000
DTSTAMP:20260422T054118
CREATED:20240528T180919Z
LAST-MODIFIED:20240618T155918Z
UID:10003530-1721991600-1721998800@mcdougalsewing.com
SUMMARY:Embellishment and Ribbon Attachment "How to" class
DESCRIPTION:Thinking about an embellishment attachment or you own one and don’t know how to use it? This is a great opportunity to see how to use one you have or see if this wonderful attachment will bring your sewing and embroidery to the next level. \n\nAdding embellishments has never been easier. Create beautifully embellished embroidery projects with the press of a button. Applies beads\, ribbon\, cording and yarn in all directions to create the ultimate in custom embellishment. Bring your machine with the attachment or just watch and learn on our’s that will be in class. 
URL:https://mcdougalsewing.com/event/embellishment-and-ribbon-attachment-how-to-class/
LOCATION:McDougal Main Store\, 20141 Park Row\, Katy\, TX\, 77449\, United States
CATEGORIES:Main Store,Events
ATTACH;FMTTYPE=image/webp:https://mcdougalsewing.com/wp-content/uploads/2024/05/Ribbon_Embroidery_Attachment.webp
ORGANIZER;CN="McDougal Sewing Center":MAILTO:karen.welch@mcdougalsewing.com
GEO:29.789449;-95.7261697
X-APPLE-STRUCTURED-LOCATION;VALUE=URI;X-ADDRESS=McDougal Main Store 20141 Park Row Katy TX 77449 United States;X-APPLE-RADIUS=500;X-TITLE=20141 Park Row:geo:-95.7261697,29.789449
END:VEVENT
BEGIN:VEVENT
DTSTART;TZID=America/Chicago:20240727T100000
DTEND;TZID=America/Chicago:20240727T160000
DTSTAMP:20260422T054118
CREATED:20240529T231419Z
LAST-MODIFIED:20240530T215014Z
UID:10003546-1722074400-1722096000@mcdougalsewing.com
SUMMARY:Christmas in July - Pick Your Discount
DESCRIPTION:Christmas in July\n\n\nPick Your Discount\nShop All Notions and Accessories\,\nthen Pop a Ballon to Discover your Discount\n20% to 50% off the Total of All your in-stock Notions and Accessories
URL:https://mcdougalsewing.com/event/christmas-in-july-pick-your-discount-2/
LOCATION:McDougal Main Store\, 20141 Park Row\, Katy\, TX\, 77449\, United States
CATEGORIES:Main Store,Sugarland,Events
ATTACH;FMTTYPE=image/jpeg:https://mcdougalsewing.com/wp-content/uploads/2024/05/Christmas-In-July-2024-emails-2.jpg
ORGANIZER;CN="McDougal Sewing Center":MAILTO:karen.welch@mcdougalsewing.com
GEO:29.789449;-95.7261697
X-APPLE-STRUCTURED-LOCATION;VALUE=URI;X-ADDRESS=McDougal Main Store 20141 Park Row Katy TX 77449 United States;X-APPLE-RADIUS=500;X-TITLE=20141 Park Row:geo:-95.7261697,29.789449
END:VEVENT
BEGIN:VEVENT
DTSTART;TZID=America/Chicago:20240727T110000
DTEND;TZID=America/Chicago:20240727T130000
DTSTAMP:20260422T054118
CREATED:20240530T001550Z
LAST-MODIFIED:20240703T194726Z
UID:10003547-1722078000-1722085200@mcdougalsewing.com
SUMMARY:Christmas in July - Trunk Show and Seminar
DESCRIPTION:Trunk Show & Seminar\nThis is your opportunity to get a jump start on coming up with some holiday gift ideas.\nJoin us for a turn show with some great samples to get your creativity going.\nThese projects are for all levels of sewing.\nYou will leave with some exciting handouts and ideas.\nClass size is limited\, and you must register in advance.\n 
URL:https://mcdougalsewing.com/event/christmas-in-july-trunk-show-and-seminar/
LOCATION:McDougal Main Store\, 20141 Park Row\, Katy\, TX\, 77449\, United States
CATEGORIES:Main Store,Events
ATTACH;FMTTYPE=image/jpeg:https://mcdougalsewing.com/wp-content/uploads/2024/05/Christmas-In-July-2024-emails-1.jpg
ORGANIZER;CN="McDougal Sewing Center":MAILTO:karen.welch@mcdougalsewing.com
GEO:29.789449;-95.7261697
X-APPLE-STRUCTURED-LOCATION;VALUE=URI;X-ADDRESS=McDougal Main Store 20141 Park Row Katy TX 77449 United States;X-APPLE-RADIUS=500;X-TITLE=20141 Park Row:geo:-95.7261697,29.789449
END:VEVENT
END:VCALENDAR