BEGIN:VCALENDAR
VERSION:2.0
PRODID:-//McDougal Sewing Center - ECPv6.15.17.1//NONSGML v1.0//EN
CALSCALE:GREGORIAN
METHOD:PUBLISH
X-WR-CALNAME:McDougal Sewing Center
X-ORIGINAL-URL:https://mcdougalsewing.com
X-WR-CALDESC:Events for McDougal Sewing Center
REFRESH-INTERVAL;VALUE=DURATION:PT1H
X-Robots-Tag:noindex
X-PUBLISHED-TTL:PT1H
BEGIN:VTIMEZONE
TZID:America/Chicago
BEGIN:DAYLIGHT
TZOFFSETFROM:-0600
TZOFFSETTO:-0500
TZNAME:CDT
DTSTART:20230312T080000
END:DAYLIGHT
BEGIN:STANDARD
TZOFFSETFROM:-0500
TZOFFSETTO:-0600
TZNAME:CST
DTSTART:20231105T070000
END:STANDARD
BEGIN:DAYLIGHT
TZOFFSETFROM:-0600
TZOFFSETTO:-0500
TZNAME:CDT
DTSTART:20240310T080000
END:DAYLIGHT
BEGIN:STANDARD
TZOFFSETFROM:-0500
TZOFFSETTO:-0600
TZNAME:CST
DTSTART:20241103T070000
END:STANDARD
BEGIN:DAYLIGHT
TZOFFSETFROM:-0600
TZOFFSETTO:-0500
TZNAME:CDT
DTSTART:20250309T080000
END:DAYLIGHT
BEGIN:STANDARD
TZOFFSETFROM:-0500
TZOFFSETTO:-0600
TZNAME:CST
DTSTART:20251102T070000
END:STANDARD
END:VTIMEZONE
BEGIN:VEVENT
DTSTART;TZID=America/Chicago:20240729T103000
DTEND;TZID=America/Chicago:20240729T130000
DTSTAMP:20260422T110855
CREATED:20240307T163728Z
LAST-MODIFIED:20240617T205351Z
UID:10003417-1722249000-1722258000@mcdougalsewing.com
SUMMARY:Sewing Accessories Camp AM (Day 1)
DESCRIPTION:Camp Dates: July 29-31    Ages 8 – 18\n  \nAll camps are limited to 6 students and start by completing a small practice project which most sewers can take home on the first day. Sewers then complete the main project and time permitting another small project. \nSewing Machines\, basic sewing tools\, and supplies are brought to camp from home. Supply lists are provided for each camp online. A sewing kit with all tools including good scissors is offered to all campers for a discounted price of $49. Please reserve yours when you sign up for camp. \nAll campers are expected to thread and operate their machines independently. \nProjects include a fabric basket\, a scissor sheath\, and a zippered pouch. \nSupply List:  2024SewingAccessories-SupplyList \n  \n 
URL:https://mcdougalsewing.com/event/sewing-accessories-camp-am-day-1-2/
LOCATION:McDougal Main Store\, 20141 Park Row\, Katy\, TX\, 77449\, United States
CATEGORIES:Main Store,Events
ATTACH;FMTTYPE=image/jpeg:https://mcdougalsewing.com/wp-content/uploads/2024/03/sewing-basket.jpg
ORGANIZER;CN="McDougal Sewing Center":MAILTO:karen.welch@mcdougalsewing.com
GEO:29.789449;-95.7261697
X-APPLE-STRUCTURED-LOCATION;VALUE=URI;X-ADDRESS=McDougal Main Store 20141 Park Row Katy TX 77449 United States;X-APPLE-RADIUS=500;X-TITLE=20141 Park Row:geo:-95.7261697,29.789449
END:VEVENT
BEGIN:VEVENT
DTSTART;TZID=America/Chicago:20240729T140000
DTEND;TZID=America/Chicago:20240729T163000
DTSTAMP:20260422T110855
CREATED:20240307T181050Z
LAST-MODIFIED:20240617T205439Z
UID:10003423-1722261600-1722270600@mcdougalsewing.com
SUMMARY:Sewing Accessories Camp PM (Day 1)
DESCRIPTION: Camp Dates: June 29-31    Ages 8 – 18\nAll camps are limited to 6 students and start by completing a small practice project which most sewers can take home on the first day. Sewers then complete the main project and time permitting another small project. \nSewing Machines\, basic sewing tools\, and supplies are brought to camp from home. Supply lists are provided for each camp online. A sewing kit with all tools including good scissors is offered to all campers for a discounted price of $49. Please reserve yours when you sign up for camp. \nAll campers are expected to thread and operate their machines independently. \nProjects include a fabric basket\, a scissor sheath\, and a zippered pouch. \nSupply List:  2024SewingAccessories-SupplyList \n  \n 
URL:https://mcdougalsewing.com/event/sewing-accessories-camp-pm-day-1-2/
LOCATION:McDougal Main Store\, 20141 Park Row\, Katy\, TX\, 77449\, United States
CATEGORIES:Main Store,Events
ATTACH;FMTTYPE=image/jpeg:https://mcdougalsewing.com/wp-content/uploads/2024/03/sewing-basket.jpg
ORGANIZER;CN="McDougal Sewing Center":MAILTO:karen.welch@mcdougalsewing.com
GEO:29.789449;-95.7261697
X-APPLE-STRUCTURED-LOCATION;VALUE=URI;X-ADDRESS=McDougal Main Store 20141 Park Row Katy TX 77449 United States;X-APPLE-RADIUS=500;X-TITLE=20141 Park Row:geo:-95.7261697,29.789449
END:VEVENT
BEGIN:VEVENT
DTSTART;TZID=America/Chicago:20240730T103000
DTEND;TZID=America/Chicago:20240730T130000
DTSTAMP:20260422T110855
CREATED:20240307T170704Z
LAST-MODIFIED:20240426T005025Z
UID:10003418-1722335400-1722344400@mcdougalsewing.com
SUMMARY:Sewing Accessories Camp AM (Day 2)
DESCRIPTION:Camp Dates: July 29-31    Ages 8 & up\nPurchase Tickets on Sewing Accessories Camp AM (Day 1)\nAll camps are limited to 6 students and start by completing a small practice project which most sewers can take home on the first day. Sewers then complete the main project and time permitting another small project. \nSewing Machines\, basic sewing tools\, and supplies are brought to camp from home. Supply lists are provided for each camp online. A sewing kit with all tools including good scissors is offered to all campers for a discounted price of $49. Please reserve yours when you sign up for camp. \nAll campers are expected to thread and operate their machines independently. \nProjects include a fabric basket\, a scissor sheath\, and a zippered pouch. \nSupply List:  2024SewingAccessories-SupplyList \n  \n 
URL:https://mcdougalsewing.com/event/sewing-accessories-camp-am-day-2-2/
LOCATION:McDougal Main Store\, 20141 Park Row\, Katy\, TX\, 77449\, United States
CATEGORIES:Main Store
ATTACH;FMTTYPE=image/jpeg:https://mcdougalsewing.com/wp-content/uploads/2024/03/sewing-basket.jpg
ORGANIZER;CN="McDougal Sewing Center":MAILTO:karen.welch@mcdougalsewing.com
GEO:29.789449;-95.7261697
X-APPLE-STRUCTURED-LOCATION;VALUE=URI;X-ADDRESS=McDougal Main Store 20141 Park Row Katy TX 77449 United States;X-APPLE-RADIUS=500;X-TITLE=20141 Park Row:geo:-95.7261697,29.789449
END:VEVENT
BEGIN:VEVENT
DTSTART;TZID=America/Chicago:20240730T140000
DTEND;TZID=America/Chicago:20240730T163000
DTSTAMP:20260422T110855
CREATED:20240307T181218Z
LAST-MODIFIED:20240426T004952Z
UID:10003424-1722348000-1722357000@mcdougalsewing.com
SUMMARY:Sewing Accessories Camp PM (Day 2)
DESCRIPTION: Camp Dates: June 10-12    Ages 13 & up\nAll camps are limited to 6 students and start by completing a small practice project which most sewers can take home on the first day. Sewers then complete the main project and time permitting another small project. \nSewing Machines\, basic sewing tools\, and supplies are brought to camp from home. Supply lists are provided for each camp online. A sewing kit with all tools including good scissors is offered to all campers for a discounted price of $49. Please reserve yours when you sign up for camp. \nAll campers are expected to thread and operate their machines independently. \nProjects include a fabric basket\, a scissor sheath\, and a zippered pouch. \nSupply List:  2024SewingAccessories-SupplyList \n  \n 
URL:https://mcdougalsewing.com/event/sewing-accessories-camp-pm-day-2-2/
LOCATION:McDougal Main Store\, 20141 Park Row\, Katy\, TX\, 77449\, United States
CATEGORIES:Main Store
ATTACH;FMTTYPE=image/jpeg:https://mcdougalsewing.com/wp-content/uploads/2024/03/sewing-basket.jpg
ORGANIZER;CN="McDougal Sewing Center":MAILTO:karen.welch@mcdougalsewing.com
GEO:29.789449;-95.7261697
X-APPLE-STRUCTURED-LOCATION;VALUE=URI;X-ADDRESS=McDougal Main Store 20141 Park Row Katy TX 77449 United States;X-APPLE-RADIUS=500;X-TITLE=20141 Park Row:geo:-95.7261697,29.789449
END:VEVENT
BEGIN:VEVENT
DTSTART;TZID=America/Chicago:20240731T103000
DTEND;TZID=America/Chicago:20240731T130000
DTSTAMP:20260422T110855
CREATED:20240307T170728Z
LAST-MODIFIED:20240426T004929Z
UID:10003419-1722421800-1722430800@mcdougalsewing.com
SUMMARY:Sewing Accessories Camp AM (Day 3)
DESCRIPTION:Camp Dates: July 29-31    Ages 8 & up\nPurchase Tickets on Sewing Accessories Camp AM (Day 1)\nAll camps are limited to 6 students and start by completing a small practice project which most sewers can take home on the first day. Sewers then complete the main project and time permitting another small project. \nSewing Machines\, basic sewing tools\, and supplies are brought to camp from home. Supply lists are provided for each camp online. A sewing kit with all tools including good scissors is offered to all campers for a discounted price of $49. Please reserve yours when you sign up for camp. \nAll campers are expected to thread and operate their machines independently. \nProjects include a fabric basket\, a scissor sheath\, and a zippered pouch. \nSupply List:  2024SewingAccessories-SupplyList \n  \n 
URL:https://mcdougalsewing.com/event/sewing-accessories-camp-am-day-3-2/
LOCATION:McDougal Main Store\, 20141 Park Row\, Katy\, TX\, 77449\, United States
CATEGORIES:Main Store
ATTACH;FMTTYPE=image/jpeg:https://mcdougalsewing.com/wp-content/uploads/2024/03/sewing-basket.jpg
ORGANIZER;CN="McDougal Sewing Center":MAILTO:karen.welch@mcdougalsewing.com
GEO:29.789449;-95.7261697
X-APPLE-STRUCTURED-LOCATION;VALUE=URI;X-ADDRESS=McDougal Main Store 20141 Park Row Katy TX 77449 United States;X-APPLE-RADIUS=500;X-TITLE=20141 Park Row:geo:-95.7261697,29.789449
END:VEVENT
BEGIN:VEVENT
DTSTART;TZID=America/Chicago:20240731T140000
DTEND;TZID=America/Chicago:20240731T163000
DTSTAMP:20260422T110855
CREATED:20240307T181310Z
LAST-MODIFIED:20240426T004847Z
UID:10003425-1722434400-1722443400@mcdougalsewing.com
SUMMARY:Sewing Accessories Camp PM (Day 3)
DESCRIPTION: Camp Dates: June 10-12    Ages 13 & up\nAll camps are limited to 6 students and start by completing a small practice project which most sewers can take home on the first day. Sewers then complete the main project and time permitting another small project. \nSewing Machines\, basic sewing tools\, and supplies are brought to camp from home. Supply lists are provided for each camp online. A sewing kit with all tools including good scissors is offered to all campers for a discounted price of $49. Please reserve yours when you sign up for camp. \nAll campers are expected to thread and operate their machines independently. \nProjects include a fabric basket\, a scissor sheath\, and a zippered pouch. \nSupply List:  2024SewingAccessories-SupplyList \n 
URL:https://mcdougalsewing.com/event/sewing-accessories-camp-pm-day-3-2/
LOCATION:McDougal Main Store\, 20141 Park Row\, Katy\, TX\, 77449\, United States
CATEGORIES:Main Store
ATTACH;FMTTYPE=image/jpeg:https://mcdougalsewing.com/wp-content/uploads/2024/03/sewing-basket.jpg
ORGANIZER;CN="McDougal Sewing Center":MAILTO:karen.welch@mcdougalsewing.com
GEO:29.789449;-95.7261697
X-APPLE-STRUCTURED-LOCATION;VALUE=URI;X-ADDRESS=McDougal Main Store 20141 Park Row Katy TX 77449 United States;X-APPLE-RADIUS=500;X-TITLE=20141 Park Row:geo:-95.7261697,29.789449
END:VEVENT
BEGIN:VEVENT
DTSTART;TZID=America/Chicago:20240801T110000
DTEND;TZID=America/Chicago:20240801T130000
DTSTAMP:20260422T110855
CREATED:20240529T015043Z
LAST-MODIFIED:20240529T015711Z
UID:10003537-1722510000-1722517200@mcdougalsewing.com
SUMMARY:Feet Fetish - Holly Jolly Table Runner
DESCRIPTION:Make a festive table runner to use this Holiday season!
URL:https://mcdougalsewing.com/event/113143/
LOCATION:McDougal Main Store\, 20141 Park Row\, Katy\, TX\, 77449\, United States
CATEGORIES:Main Store
ORGANIZER;CN="McDougal Sewing Center":MAILTO:karen.welch@mcdougalsewing.com
GEO:29.789449;-95.7261697
X-APPLE-STRUCTURED-LOCATION;VALUE=URI;X-ADDRESS=McDougal Main Store 20141 Park Row Katy TX 77449 United States;X-APPLE-RADIUS=500;X-TITLE=20141 Park Row:geo:-95.7261697,29.789449
END:VEVENT
BEGIN:VEVENT
DTSTART;TZID=America/Chicago:20240801T140000
DTEND;TZID=America/Chicago:20240801T160000
DTSTAMP:20260422T110855
CREATED:20240528T014922Z
LAST-MODIFIED:20240530T152914Z
UID:10003502-1722520800-1722528000@mcdougalsewing.com
SUMMARY:Mechanical/Digital Machine Basics
DESCRIPTION:This class is for any mechanical – Viking E-10\, E-20 & Emerald series\, or Brother PS-100 and the Digital PS200T\, and PS300T \, the Pfaff Passport 2.0 & 3.0\, the JUKI HZL-70-HWA or any new Elna mechanical machine recently purchased at McDougal Sewing locations.\n\n\n\n\nWe show you how the wind and insert your bobbin\, thread your machine; how to adjust tension\, length\, and width\, and choose your stitch patterns. \nAll participants must present a sales receipt to take this free class. \nSupply list: Mechanical Machine Basics Supply List
URL:https://mcdougalsewing.com/event/mechanical-digital-machine-basics-26/
LOCATION:McDougal Main Store\, 20141 Park Row\, Katy\, TX\, 77449\, United States
CATEGORIES:Main Store
ORGANIZER;CN="McDougal Sewing Center":MAILTO:karen.welch@mcdougalsewing.com
GEO:29.789449;-95.7261697
X-APPLE-STRUCTURED-LOCATION;VALUE=URI;X-ADDRESS=McDougal Main Store 20141 Park Row Katy TX 77449 United States;X-APPLE-RADIUS=500;X-TITLE=20141 Park Row:geo:-95.7261697,29.789449
END:VEVENT
BEGIN:VEVENT
DTSTART;TZID=America/Chicago:20240802T140000
DTEND;TZID=America/Chicago:20240802T153000
DTSTAMP:20260422T110855
CREATED:20240706T163528Z
LAST-MODIFIED:20240706T163641Z
UID:10003573-1722607200-1722612600@mcdougalsewing.com
SUMMARY:Introduction to Quilting 
DESCRIPTION:Introduction to Quilting Lecture style class\nIn this class\, you will learn \n\nquilting terminology\,\nquilting abbreviations\,\nabout tools of the trade\,\nhow to purchase fabric\,\npicking a block design\,\nhow much fabric you need\,\npicking and matching colors and fabric designs\,\nand troubleshooting your color combinations.\n\nYou are now ready for our class Beginning Quilting where we will practice pressing\, cutting\, sewing\, quilting and binding a small project. \nThere will be handouts so bring a pen or pencil to take additional notes
URL:https://mcdougalsewing.com/event/introduction-to-quilting-3/
LOCATION:McDougal Main Store\, 20141 Park Row\, Katy\, TX\, 77449\, United States
CATEGORIES:Main Store
ATTACH;FMTTYPE=image/png:https://mcdougalsewing.com/wp-content/uploads/2024/07/Quilting.Class.png
ORGANIZER;CN="McDougal Sewing Center":MAILTO:karen.welch@mcdougalsewing.com
GEO:29.789449;-95.7261697
X-APPLE-STRUCTURED-LOCATION;VALUE=URI;X-ADDRESS=McDougal Main Store 20141 Park Row Katy TX 77449 United States;X-APPLE-RADIUS=500;X-TITLE=20141 Park Row:geo:-95.7261697,29.789449
END:VEVENT
BEGIN:VEVENT
DTSTART;TZID=America/Chicago:20240803T100000
DTEND;TZID=America/Chicago:20240803T120000
DTSTAMP:20260422T110855
CREATED:20240529T020842Z
LAST-MODIFIED:20240618T162905Z
UID:10003539-1722679200-1722686400@mcdougalsewing.com
SUMMARY:Feet Fetish - Holly Jolly Table Runner
DESCRIPTION:Make a festive table runner to use this Holiday season! \nLearn some wonderful Applique techniques\, and a simple way to finish a quilted table runner. \nSupply list:You MUST purchase the pattern at McDougal Sewing and have all pieces pre-cut before you come to class. All materials\, supplies needed and the patterns to cut out the applique Elf legs\, shoes and all other pieces are in the pattern. \nThe pattern is at our Katy location and is $14.99-15% class discount. You can use a Scan N Cut for the applique pieces if you have one to make it easier. If you have trouble understanding how to cut it out\, please buy the pattern prior to class and have all your supplies ready and I can help you cut in class and you can sew at home. \n  \n 
URL:https://mcdougalsewing.com/event/feet-fetish-holly-jolly-table-runner-2/
LOCATION:McDougal Main Store\, 20141 Park Row\, Katy\, TX\, 77449\, United States
CATEGORIES:Main Store
ATTACH;FMTTYPE=application/pdf:https://mcdougalsewing.com/wp-content/uploads/2024/05/Holly-Jolly-pic.pdf
ORGANIZER;CN="McDougal Sewing Center":MAILTO:karen.welch@mcdougalsewing.com
GEO:29.789449;-95.7261697
X-APPLE-STRUCTURED-LOCATION;VALUE=URI;X-ADDRESS=McDougal Main Store 20141 Park Row Katy TX 77449 United States;X-APPLE-RADIUS=500;X-TITLE=20141 Park Row:geo:-95.7261697,29.789449
END:VEVENT
BEGIN:VEVENT
DTSTART;TZID=America/Chicago:20240803T130000
DTEND;TZID=America/Chicago:20240803T150000
DTSTAMP:20260422T110855
CREATED:20240528T020007Z
LAST-MODIFIED:20240530T010312Z
UID:10003504-1722690000-1722697200@mcdougalsewing.com
SUMMARY:Serger Basics
DESCRIPTION:Welcome to the world of serging!  \nThis class is for all serger owners\, featuring 4-thread and 3-thread techniques. We will learn how a serger works\, threading steps and basic serger skills. \nThis class is open to customers who purchased a qualifying Serger from any McDougal Sewing location. McDougal Sewing does NOT participate in the free guide class for Singer sergers\, so this class is not for Singer sergers. We do offer a Serger 101 class that is open to the public for a fee for sergers not purchased at McDougal Sewing. \nYou must present a sales receipt from McDougal Sewing to take this free class. \nFor those that have a chain-stitch or cover-stitch serger\, contact rebecca.joseph@mcdougalsewing.com for this class. \nDownload Supply List: Serger Basics Supply List
URL:https://mcdougalsewing.com/event/serger-basics-20/
LOCATION:McDougal Main Store\, 20141 Park Row\, Katy\, TX\, 77449\, United States
CATEGORIES:Main Store
ATTACH;FMTTYPE=image/jpeg:https://mcdougalsewing.com/wp-content/uploads/2020/12/SVP-Zoom-Serger.jpg
ORGANIZER;CN="McDougal Sewing Center":MAILTO:karen.welch@mcdougalsewing.com
GEO:29.789449;-95.7261697
X-APPLE-STRUCTURED-LOCATION;VALUE=URI;X-ADDRESS=McDougal Main Store 20141 Park Row Katy TX 77449 United States;X-APPLE-RADIUS=500;X-TITLE=20141 Park Row:geo:-95.7261697,29.789449
END:VEVENT
END:VCALENDAR