BEGIN:VCALENDAR
VERSION:2.0
PRODID:-//McDougal Sewing Center - ECPv6.15.17.1//NONSGML v1.0//EN
CALSCALE:GREGORIAN
METHOD:PUBLISH
X-WR-CALNAME:McDougal Sewing Center
X-ORIGINAL-URL:https://mcdougalsewing.com
X-WR-CALDESC:Events for McDougal Sewing Center
REFRESH-INTERVAL;VALUE=DURATION:PT1H
X-Robots-Tag:noindex
X-PUBLISHED-TTL:PT1H
BEGIN:VTIMEZONE
TZID:America/Chicago
BEGIN:DAYLIGHT
TZOFFSETFROM:-0600
TZOFFSETTO:-0500
TZNAME:CDT
DTSTART:20230312T080000
END:DAYLIGHT
BEGIN:STANDARD
TZOFFSETFROM:-0500
TZOFFSETTO:-0600
TZNAME:CST
DTSTART:20231105T070000
END:STANDARD
BEGIN:DAYLIGHT
TZOFFSETFROM:-0600
TZOFFSETTO:-0500
TZNAME:CDT
DTSTART:20240310T080000
END:DAYLIGHT
BEGIN:STANDARD
TZOFFSETFROM:-0500
TZOFFSETTO:-0600
TZNAME:CST
DTSTART:20241103T070000
END:STANDARD
BEGIN:DAYLIGHT
TZOFFSETFROM:-0600
TZOFFSETTO:-0500
TZNAME:CDT
DTSTART:20250309T080000
END:DAYLIGHT
BEGIN:STANDARD
TZOFFSETFROM:-0500
TZOFFSETTO:-0600
TZNAME:CST
DTSTART:20251102T070000
END:STANDARD
END:VTIMEZONE
BEGIN:VEVENT
DTSTART;TZID=America/Chicago:20240923T103000
DTEND;TZID=America/Chicago:20240923T130000
DTSTAMP:20260423T105839
CREATED:20240622T145557Z
LAST-MODIFIED:20240622T150741Z
UID:10003564-1727087400-1727096400@mcdougalsewing.com
SUMMARY:Novice Sewing
DESCRIPTION:For the absolute beginner\, who just wants to learn how to operate your machine. You will learn to thread your machine\, wind a bobbin\, and sew a straight line. I’ll show you the common tools used in home sewing\, and we’ll complete a small project. \nNovice sewing Supply list
URL:https://mcdougalsewing.com/event/novice-sewing-8/
LOCATION:McDougal Main Store\, 20141 Park Row\, Katy\, TX\, 77449\, United States
CATEGORIES:Main Store
ORGANIZER;CN="McDougal Sewing Center":MAILTO:karen.welch@mcdougalsewing.com
GEO:29.789449;-95.7261697
X-APPLE-STRUCTURED-LOCATION;VALUE=URI;X-ADDRESS=McDougal Main Store 20141 Park Row Katy TX 77449 United States;X-APPLE-RADIUS=500;X-TITLE=20141 Park Row:geo:-95.7261697,29.789449
END:VEVENT
BEGIN:VEVENT
DTSTART;TZID=America/Chicago:20240923T120000
DTEND;TZID=America/Chicago:20240923T133000
DTSTAMP:20260423T105839
CREATED:20240731T173609Z
LAST-MODIFIED:20240731T173609Z
UID:10003578-1727092800-1727098200@mcdougalsewing.com
SUMMARY:Introduction to Quilting
DESCRIPTION:Introduction to Quilting Lecture style class\nIn this class\, you will learn \n\nquilting terminology\,\nquilting abbreviations\,\nabout tools of the trade\,\nhow to purchase fabric\,\npicking a block design\,\nhow much fabric you need\,\npicking and matching colors and fabric designs\,\nand troubleshooting your color combinations.\n\nYou are now ready for our class Beginning Quilting where we will practice pressing\, cutting\, sewing\, quilting and binding a small project. \nThere will be handouts so bring a pen or pencil to take additional notes
URL:https://mcdougalsewing.com/event/introduction-to-quilting-7/
LOCATION:Sugarland JOANN Fabrics\, 16626 Southwest Fwy\, Sugar Land\, TX\, 77479\, United States
CATEGORIES:Sugarland
ATTACH;FMTTYPE=image/png:https://mcdougalsewing.com/wp-content/uploads/2024/07/Quilting.Class.png
ORGANIZER;CN="McDougal Sugarland JOANN Fabrics":MAILTO:ja.sugarland@McDougalSewing.com
END:VEVENT
BEGIN:VEVENT
DTSTART;TZID=America/Chicago:20240924T103000
DTEND;TZID=America/Chicago:20240924T160000
DTSTAMP:20260423T105839
CREATED:20240622T151443Z
LAST-MODIFIED:20240622T151443Z
UID:10003568-1727173800-1727193600@mcdougalsewing.com
SUMMARY:Learn to Sew
DESCRIPTION:You’ve learned to operate your machine\, now what? \nIn this class you’ll learn about needle types\, thread\, grainlines\, and interfacings. We’ll review stitching straight lines and practice turning corners\, curves\, and circles. After a break for lunch\, we’ll apply what you’ve learned and construct a Needle Book to help organize your machine needles. \nLearn to sew supply list 2023
URL:https://mcdougalsewing.com/event/learn-to-sew-15/
LOCATION:McDougal Main Store\, 20141 Park Row\, Katy\, TX\, 77449\, United States
CATEGORIES:Main Store
ORGANIZER;CN="McDougal Sewing Center":MAILTO:karen.welch@mcdougalsewing.com
GEO:29.789449;-95.7261697
X-APPLE-STRUCTURED-LOCATION;VALUE=URI;X-ADDRESS=McDougal Main Store 20141 Park Row Katy TX 77449 United States;X-APPLE-RADIUS=500;X-TITLE=20141 Park Row:geo:-95.7261697,29.789449
END:VEVENT
BEGIN:VEVENT
DTSTART;TZID=America/Chicago:20240928T110000
DTEND;TZID=America/Chicago:20240928T150000
DTSTAMP:20260423T105839
CREATED:20240528T011246Z
LAST-MODIFIED:20240810T191347Z
UID:10003495-1727521200-1727535600@mcdougalsewing.com
SUMMARY:Brother10 Needles for Profit and Fun!
DESCRIPTION:10 Are Better than 1\nPR1055X Lecture/Demo Presentation with Trunk Show\nRose Marie Castillo\, a Brother educator\, will show you the benefits of owning the PR1055X multi-needle embroidery machine for home and commercial embroidery. Demonstrations will highlight features like the built-in camera and on-board digitizing with My Design Center and show how fun it can be to quilt with a multi-needle embroidery machine. You may decide that now is the time to go from 1 to 10! You will also experience the fabulous 1055X yourself with a Make-it-Take-it bag.
URL:https://mcdougalsewing.com/event/brother10-needles-fo-profit-and-fun/
LOCATION:McDougal Main Store\, 20141 Park Row\, Katy\, TX\, 77449\, United States
CATEGORIES:Main Store,Sugarland,Events
ATTACH;FMTTYPE=image/jpeg:https://mcdougalsewing.com/wp-content/uploads/2024/05/Brother-10-better-than-1-FB.jpg
ORGANIZER;CN="McDougal Sewing Center":MAILTO:karen.welch@mcdougalsewing.com
GEO:29.789449;-95.7261697
X-APPLE-STRUCTURED-LOCATION;VALUE=URI;X-ADDRESS=McDougal Main Store 20141 Park Row Katy TX 77449 United States;X-APPLE-RADIUS=500;X-TITLE=20141 Park Row:geo:-95.7261697,29.789449
END:VEVENT
BEGIN:VEVENT
DTSTART;TZID=America/Chicago:20240928T153000
DTEND;TZID=America/Chicago:20240928T170000
DTSTAMP:20260423T105839
CREATED:20240830T173554Z
LAST-MODIFIED:20240830T210946Z
UID:10003588-1727537400-1727542800@mcdougalsewing.com
SUMMARY:Introducing the Brother Aveneer EV1
DESCRIPTION:Please join McDougal Sewing Center and Brother educator Rose Marie Castillo for a first look at the Brother Aveneer EV1\, billed as the Pinnacle of Sewing. \nWe will have a machine prototype for you to personally see the sewing and embroidery area of the machine.  Rose Marie will have a very informative presentation on the machine.  You will not be sewing on the Aveneer\, but this is a great opportunity to see it “in person” and learn more. \nThere is a minimal $5 fee in order to get a count for us to have ample seating.  However\, you will be reimbursed at the end of the event with a $5 merchandise coupon. \nRead more about Aveneer EV1 Brochure \nAveneer EV1 – Aveneer EV1LE Product Page 
URL:https://mcdougalsewing.com/event/introducing-the-brother-aveneer-ev1-2/
LOCATION:McDougal Main Store\, 20141 Park Row\, Katy\, TX\, 77449\, United States
CATEGORIES:Main Store,Sugarland,Events
ATTACH;FMTTYPE=image/png:https://mcdougalsewing.com/wp-content/uploads/2024/08/Aveneer-EV1.png
ORGANIZER;CN="McDougal Sewing Center":MAILTO:karen.welch@mcdougalsewing.com
GEO:29.789449;-95.7261697
X-APPLE-STRUCTURED-LOCATION;VALUE=URI;X-ADDRESS=McDougal Main Store 20141 Park Row Katy TX 77449 United States;X-APPLE-RADIUS=500;X-TITLE=20141 Park Row:geo:-95.7261697,29.789449
END:VEVENT
END:VCALENDAR