BEGIN:VCALENDAR
VERSION:2.0
PRODID:-//McDougal Sewing Center - ECPv6.15.17.1//NONSGML v1.0//EN
CALSCALE:GREGORIAN
METHOD:PUBLISH
X-ORIGINAL-URL:https://mcdougalsewing.com
X-WR-CALDESC:Events for McDougal Sewing Center
REFRESH-INTERVAL;VALUE=DURATION:PT1H
X-Robots-Tag:noindex
X-PUBLISHED-TTL:PT1H
BEGIN:VTIMEZONE
TZID:America/Chicago
BEGIN:DAYLIGHT
TZOFFSETFROM:-0600
TZOFFSETTO:-0500
TZNAME:CDT
DTSTART:20230312T080000
END:DAYLIGHT
BEGIN:STANDARD
TZOFFSETFROM:-0500
TZOFFSETTO:-0600
TZNAME:CST
DTSTART:20231105T070000
END:STANDARD
BEGIN:DAYLIGHT
TZOFFSETFROM:-0600
TZOFFSETTO:-0500
TZNAME:CDT
DTSTART:20240310T080000
END:DAYLIGHT
BEGIN:STANDARD
TZOFFSETFROM:-0500
TZOFFSETTO:-0600
TZNAME:CST
DTSTART:20241103T070000
END:STANDARD
BEGIN:DAYLIGHT
TZOFFSETFROM:-0600
TZOFFSETTO:-0500
TZNAME:CDT
DTSTART:20250309T080000
END:DAYLIGHT
BEGIN:STANDARD
TZOFFSETFROM:-0500
TZOFFSETTO:-0600
TZNAME:CST
DTSTART:20251102T070000
END:STANDARD
END:VTIMEZONE
BEGIN:VEVENT
DTSTART;VALUE=DATE:20241009
DTEND;VALUE=DATE:20241215
DTSTAMP:20260424T193559
CREATED:20241009T232947Z
LAST-MODIFIED:20241029T005919Z
UID:10003692-1728432000-1734220799@mcdougalsewing.com
SUMMARY:“We Care” Service  Project
DESCRIPTION:“We Care” Service  Project\nIn partnership with the Star of Hope mission\, we are asking you to support our efforts of sewing pillowcases and to help fill them with supplies recommended by Star of Hope for the adults\, children\, and infants who are residents. There is an urgent need\, and the sewing community is full of giving people. So\, help us have a successful service project. \nOn our website\, www.mcdougalsewing.com\, you will find a link to the pillowcase supplies and cutting instructions. In addition\, there will be a link to the urgent needs requested by the Star of Hope. \nSew Day at Our  \n20141 Park Row location: Thursday\, Nov. 14 from 3:00 pm – 6:00 pm\nWe will have machines set up for you to come sew. Bring a friend and your supplies and we will provide the coffee and refreshments. If you plan on coming please register so we can have enough machines. \nClick on the following link to sign up for the Sew Day:  “We Care” Service Project \nPlease drop off your donations at one of our locations by Dec. 14.\nDownload the following document for the list of supplies and the directions on how to make the pillowcases: ServiceProjectStepbyStep \nDonation List: Star-of-Hope-Donation-List
URL:https://mcdougalsewing.com/event/we-care-service-project-sewing/
LOCATION:McDougal Main Store\, 20141 Park Row\, Katy\, TX\, 77449\, United States
CATEGORIES:Main Store,Sugarland,Events
ATTACH;FMTTYPE=image/jpeg:https://mcdougalsewing.com/wp-content/uploads/2024/10/Star-of-Hope.jpg
ORGANIZER;CN="McDougal Sewing Center":MAILTO:karen.welch@mcdougalsewing.com
GEO:29.789449;-95.7261697
X-APPLE-STRUCTURED-LOCATION;VALUE=URI;X-ADDRESS=McDougal Main Store 20141 Park Row Katy TX 77449 United States;X-APPLE-RADIUS=500;X-TITLE=20141 Park Row:geo:-95.7261697,29.789449
END:VEVENT
BEGIN:VEVENT
DTSTART;TZID=America/Chicago:20241014T103000
DTEND;TZID=America/Chicago:20241014T160000
DTSTAMP:20260424T193559
CREATED:20240915T220124Z
LAST-MODIFIED:20240930T021717Z
UID:10003636-1728901800-1728921600@mcdougalsewing.com
SUMMARY:How to Use a Pattern
DESCRIPTION:How to use a pattern\nDo you wonder what all those symbols on a pattern mean? This class covers that and more! Learn to use the information on the pattern envelope to determine your size and fabric requirements. We’ll use a pattern to cut and construct a pair of elastic waist leisure pants for you or someone else. \nSupply List: 102 How to Use a Pattern Supply list
URL:https://mcdougalsewing.com/event/how-to-use-a-pattern-12/
LOCATION:McDougal Main Store\, 20141 Park Row\, Katy\, TX\, 77449\, United States
CATEGORIES:Main Store
ORGANIZER;CN="McDougal Sewing Center":MAILTO:karen.welch@mcdougalsewing.com
GEO:29.789449;-95.7261697
X-APPLE-STRUCTURED-LOCATION;VALUE=URI;X-ADDRESS=McDougal Main Store 20141 Park Row Katy TX 77449 United States;X-APPLE-RADIUS=500;X-TITLE=20141 Park Row:geo:-95.7261697,29.789449
END:VEVENT
BEGIN:VEVENT
DTSTART;TZID=America/Chicago:20241015T103000
DTEND;TZID=America/Chicago:20241015T150000
DTSTAMP:20260424T193559
CREATED:20240915T235619Z
LAST-MODIFIED:20240930T015637Z
UID:10003668-1728988200-1729004400@mcdougalsewing.com
SUMMARY:Casserole Carrier
DESCRIPTION:The holidays are a time for visiting and sharing good times and food. Make your own sturdy insulated casserole carrier to transport your favorite dish\, keeping it safe and warm (or cold). Designed to hold a standard 9×13 casserole with lid\, it is somewhat adjustable using velcro closures. \nSupply List: CasseroleCarrier supply list
URL:https://mcdougalsewing.com/event/casserole-carrier-3/
LOCATION:McDougal Main Store\, 20141 Park Row\, Katy\, TX\, 77449\, United States
CATEGORIES:Main Store
ORGANIZER;CN="McDougal Sewing Center":MAILTO:karen.welch@mcdougalsewing.com
GEO:29.789449;-95.7261697
X-APPLE-STRUCTURED-LOCATION;VALUE=URI;X-ADDRESS=McDougal Main Store 20141 Park Row Katy TX 77449 United States;X-APPLE-RADIUS=500;X-TITLE=20141 Park Row:geo:-95.7261697,29.789449
END:VEVENT
BEGIN:VEVENT
DTSTART;TZID=America/Chicago:20241016T103000
DTEND;TZID=America/Chicago:20241016T150000
DTSTAMP:20260424T193559
CREATED:20240915T234115Z
LAST-MODIFIED:20240930T015802Z
UID:10003660-1729074600-1729090800@mcdougalsewing.com
SUMMARY:Easy Table Runner & Placemats
DESCRIPTION:You won’t believe how easy it is to make this version of a table runner\, and placemats using the same technique. Placemats are reversible with self-binding and mitered corners. Make a set for every season or holiday! It also makes a great Christmas or hostess gift. Supplies will yield one 44” table runner and 4 reversible placemats \nSupply List:  EasyTableRunner-Placemats supply list
URL:https://mcdougalsewing.com/event/easy-table-runner-placemats/
LOCATION:McDougal Main Store\, 20141 Park Row\, Katy\, TX\, 77449\, United States
CATEGORIES:Main Store
ORGANIZER;CN="McDougal Sewing Center":MAILTO:karen.welch@mcdougalsewing.com
GEO:29.789449;-95.7261697
X-APPLE-STRUCTURED-LOCATION;VALUE=URI;X-ADDRESS=McDougal Main Store 20141 Park Row Katy TX 77449 United States;X-APPLE-RADIUS=500;X-TITLE=20141 Park Row:geo:-95.7261697,29.789449
END:VEVENT
BEGIN:VEVENT
DTSTART;TZID=America/Chicago:20241018T100000
DTEND;TZID=America/Chicago:20241018T130000
DTSTAMP:20260424T193559
CREATED:20240831T012552Z
LAST-MODIFIED:20240831T162248Z
UID:10003610-1729245600-1729256400@mcdougalsewing.com
SUMMARY:Viking/Pfaff Computer Basics
DESCRIPTION:Sew… You have a new Machine! \nCongratulations on the purchase of your new machine. We are honored that you have placed your confidence in McDougal Sewing Centers as your home for creativity. To make the most of your new machine\, it is highly encouraged that you attend our “quick start” programs designed to help you get acquainted with your machine. Each session has been developed to gain familiarity with the basic features/functions of your new machine\, to get you creating quickly. These sessions are our gift to you with the purchase of a new machine from McDougal Sewing Center. \nJoin talented Education Team members for a “get acquainted” new machine mixer. The goal of this two-part session is to provide you with the information and knowledge needed to get the most from your new machine. \nWe will cover machine navigation (where is that stitch!)\, TNT (threading\, needles\, tension adjustment)\, and equip you to use your machine with confidence.  \nThis class is open to customers who purchased a qualifying sewing\, embroidery\, and/or combo machine from any McDougal’s location. \nYou must present a sales receipt to take this free class. \nQualifying Machines:\nViking: Opal\, Sapphire\, Designer\, Brilliance\, and Epic Lines. \nFor ALL Sewing/Embroidery “Guide” Classes\, we will provide you with the fabric and thread needed for the class. \nDownload Supply List: Computer Machine Basics Supply List
URL:https://mcdougalsewing.com/event/viking-pfaff-computer-basics-2/
LOCATION:McDougal Main Store\, 20141 Park Row\, Katy\, TX\, 77449\, United States
CATEGORIES:Main Store
ORGANIZER;CN="McDougal Sewing Center":MAILTO:karen.welch@mcdougalsewing.com
GEO:29.789449;-95.7261697
X-APPLE-STRUCTURED-LOCATION;VALUE=URI;X-ADDRESS=McDougal Main Store 20141 Park Row Katy TX 77449 United States;X-APPLE-RADIUS=500;X-TITLE=20141 Park Row:geo:-95.7261697,29.789449
END:VEVENT
BEGIN:VEVENT
DTSTART;TZID=America/Chicago:20241018T140000
DTEND;TZID=America/Chicago:20241018T153000
DTSTAMP:20260424T193559
CREATED:20240917T204457Z
LAST-MODIFIED:20240917T205211Z
UID:10003680-1729260000-1729265400@mcdougalsewing.com
SUMMARY:Introduction to Quilting
DESCRIPTION:Introduction to Quilting Lecture style class\nIn this class\, you will learn \n\nquilting terminology\,\nquilting abbreviations\,\nabout tools of the trade\,\nhow to purchase fabric\,\npicking a block design\,\nhow much fabric you need\,\npicking and matching colors and fabric designs\,\nand troubleshooting your color combinations.\n\nYou are now ready for our class Beginning Quilting where we will practice pressing\, cutting\, sewing\, quilting and binding a small project. \nThere will be handouts so bring a pen or pencil to take additional notes
URL:https://mcdougalsewing.com/event/introduction-to-quilting-12/
LOCATION:Sugarland JOANN Fabrics\, 16626 Southwest Fwy\, Sugar Land\, TX\, 77479\, United States
CATEGORIES:Sugarland
ATTACH;FMTTYPE=image/png:https://mcdougalsewing.com/wp-content/uploads/2024/07/Quilting.Class.png
ORGANIZER;CN="McDougal Sewing Center":MAILTO:karen.welch@mcdougalsewing.com
END:VEVENT
BEGIN:VEVENT
DTSTART;TZID=America/Chicago:20241018T140000
DTEND;TZID=America/Chicago:20241018T163000
DTSTAMP:20260424T193559
CREATED:20240831T015654Z
LAST-MODIFIED:20240831T162320Z
UID:10003616-1729260000-1729269000@mcdougalsewing.com
SUMMARY:Viking/Pfaff Machine Embroidery Basics
DESCRIPTION:Join McDougal Sewing Centers Embroidery Specialists for a hands-on embroidery quick start session. This workshop will cover: \n\n\n\nNavigating your embroidery machine\nThreading for embroidery\nProper hooping and basic stabilization\nLettering\n\nBring your machine and its basic embroidery setup\, check the supply list below for other supplies needed. \nPre-requisite: Viking Computer Machine Basics \nCourse Level: All Levels \nThis class is open to customers who purchased a qualifying sewing\, embroidery\, and/or combo machine from any McDougal’s location. You must present a sales receipt to take this free class. \nSupply List: Machine Embroidery Basics Supply List
URL:https://mcdougalsewing.com/event/viking-pfaff-machine-embroidery-basics-29/
LOCATION:McDougal Main Store\, 20141 Park Row\, Katy\, TX\, 77449\, United States
CATEGORIES:Main Store
ORGANIZER;CN="McDougal Sewing Center":MAILTO:karen.welch@mcdougalsewing.com
GEO:29.789449;-95.7261697
X-APPLE-STRUCTURED-LOCATION;VALUE=URI;X-ADDRESS=McDougal Main Store 20141 Park Row Katy TX 77449 United States;X-APPLE-RADIUS=500;X-TITLE=20141 Park Row:geo:-95.7261697,29.789449
END:VEVENT
BEGIN:VEVENT
DTSTART;TZID=America/Chicago:20241019T100000
DTEND;TZID=America/Chicago:20241019T130000
DTSTAMP:20260424T193559
CREATED:20240831T000505Z
LAST-MODIFIED:20240831T001102Z
UID:10003594-1729332000-1729342800@mcdougalsewing.com
SUMMARY:Brother/JUKI/Elna Computer Machine Basics
DESCRIPTION:Congratulations on the purchase of your new machine. We are honored that you have placed your confidence in McDougal Sewing Centers as your home for creativity. To make the most of your new machine\, it is highly encouraged that you attend our “quick start” programs designed to help you get acquainted with your machine. Each session has been developed to gain familiarity with the basic features/functions of your new machine\, to get you creating quickly. These sessions are our gift to you with the purchase of a new machine from McDougal Sewing Center. \n\n\nJoin talented Education Team members for a “get acquainted” new machine mixer. The goal of this session is to provide you with the information and knowledge needed to get the most from your new machine. \nThis class is geared for Computerized Brother\, JUKI and Elna sewing machines. You will start with the basics and work your way up through hemming\, buttonhole\, and decorative stitches.  You must register in advance. \nOpen for Brother\, JUKI and Elna customers who purchased their machine at McDougal Sewing Center. You must present a sales receipt to take this free class. \nFor ALL Sewing/Embroidery “Guide” Classes we will provide you with the fabric and thread needed for the class. \nDownload Supply Lists:  Computer Machine Basics
URL:https://mcdougalsewing.com/event/brother-juki-elna-computer-machine-basics-18/
LOCATION:McDougal Main Store\, 20141 Park Row\, Katy\, TX\, 77449\, United States
CATEGORIES:Main Store
ORGANIZER;CN="McDougal Sewing Center":MAILTO:karen.welch@mcdougalsewing.com
GEO:29.789449;-95.7261697
X-APPLE-STRUCTURED-LOCATION;VALUE=URI;X-ADDRESS=McDougal Main Store 20141 Park Row Katy TX 77449 United States;X-APPLE-RADIUS=500;X-TITLE=20141 Park Row:geo:-95.7261697,29.789449
END:VEVENT
BEGIN:VEVENT
DTSTART;TZID=America/Chicago:20241019T140000
DTEND;TZID=America/Chicago:20241019T160000
DTSTAMP:20260424T193559
CREATED:20240831T001834Z
LAST-MODIFIED:20240831T002406Z
UID:10003597-1729346400-1729353600@mcdougalsewing.com
SUMMARY:Brother/Elna Machine Embroidery Basics
DESCRIPTION:Join McDougal Sewing Centers Embroidery Specialists for a hands-on embroidery quick start session. This workshop will cover: \n\nNavigating your embroidery machine\nThreading for embroidery\nProper hooping and basic stabilization\nLettering\n\nBring your machine and its basic embroidery setup\, check the supply list below for other supplies needed. \nPrerequisite for sewing combo machines: Computer Machine Basics \nCourse Level: All Levels \nThis class is open to customers who purchased a qualifying sewing\, embroidery\, and/or combo machine from any McDougal’s location. You must present a sales receipt to take this free class. \nDownload Supply List: Machine Embroidery Basics
URL:https://mcdougalsewing.com/event/brother-elna-machine-embroidery-basics-15/
LOCATION:McDougal Main Store\, 20141 Park Row\, Katy\, TX\, 77449\, United States
CATEGORIES:Main Store
ORGANIZER;CN="McDougal Sewing Center":MAILTO:karen.welch@mcdougalsewing.com
GEO:29.789449;-95.7261697
X-APPLE-STRUCTURED-LOCATION;VALUE=URI;X-ADDRESS=McDougal Main Store 20141 Park Row Katy TX 77449 United States;X-APPLE-RADIUS=500;X-TITLE=20141 Park Row:geo:-95.7261697,29.789449
END:VEVENT
END:VCALENDAR