BEGIN:VCALENDAR
VERSION:2.0
PRODID:-//McDougal Sewing Center - ECPv6.15.17.1//NONSGML v1.0//EN
CALSCALE:GREGORIAN
METHOD:PUBLISH
X-WR-CALNAME:McDougal Sewing Center
X-ORIGINAL-URL:https://mcdougalsewing.com
X-WR-CALDESC:Events for McDougal Sewing Center
REFRESH-INTERVAL;VALUE=DURATION:PT1H
X-Robots-Tag:noindex
X-PUBLISHED-TTL:PT1H
BEGIN:VTIMEZONE
TZID:America/Chicago
BEGIN:DAYLIGHT
TZOFFSETFROM:-0600
TZOFFSETTO:-0500
TZNAME:CDT
DTSTART:20230312T080000
END:DAYLIGHT
BEGIN:STANDARD
TZOFFSETFROM:-0500
TZOFFSETTO:-0600
TZNAME:CST
DTSTART:20231105T070000
END:STANDARD
BEGIN:DAYLIGHT
TZOFFSETFROM:-0600
TZOFFSETTO:-0500
TZNAME:CDT
DTSTART:20240310T080000
END:DAYLIGHT
BEGIN:STANDARD
TZOFFSETFROM:-0500
TZOFFSETTO:-0600
TZNAME:CST
DTSTART:20241103T070000
END:STANDARD
BEGIN:DAYLIGHT
TZOFFSETFROM:-0600
TZOFFSETTO:-0500
TZNAME:CDT
DTSTART:20250309T080000
END:DAYLIGHT
BEGIN:STANDARD
TZOFFSETFROM:-0500
TZOFFSETTO:-0600
TZNAME:CST
DTSTART:20251102T070000
END:STANDARD
BEGIN:DAYLIGHT
TZOFFSETFROM:-0600
TZOFFSETTO:-0500
TZNAME:CDT
DTSTART:20260308T080000
END:DAYLIGHT
BEGIN:STANDARD
TZOFFSETFROM:-0500
TZOFFSETTO:-0600
TZNAME:CST
DTSTART:20261101T070000
END:STANDARD
END:VTIMEZONE
BEGIN:VEVENT
DTSTART;TZID=America/Chicago:20241230T103000
DTEND;TZID=America/Chicago:20241230T130000
DTSTAMP:20260422T044119
CREATED:20241213T010025Z
LAST-MODIFIED:20241222T044256Z
UID:10003754-1735554600-1735563600@mcdougalsewing.com
SUMMARY:Kids Novice Sewing Ages 7-17
DESCRIPTION:Just for kids and teens\, Learn to use that new machine you got for Christmas! You will learn to thread the machine\, wind a bobbin\, stitch straight seams\, corners\, and curves\, and complete a small project\, We will also review the tools you will need in your sewing kit. \nNovice sewing Supply list \n 
URL:https://mcdougalsewing.com/event/kids-novice-sewing-ages-7-17/
LOCATION:McDougal Main Store\, 20141 Park Row\, Katy\, TX\, 77449\, United States
CATEGORIES:Main Store
ORGANIZER;CN="McDougal Sewing Center":MAILTO:karen.welch@mcdougalsewing.com
GEO:29.789449;-95.7261697
X-APPLE-STRUCTURED-LOCATION;VALUE=URI;X-ADDRESS=McDougal Main Store 20141 Park Row Katy TX 77449 United States;X-APPLE-RADIUS=500;X-TITLE=20141 Park Row:geo:-95.7261697,29.789449
END:VEVENT
BEGIN:VEVENT
DTSTART;TZID=America/Chicago:20250102T110000
DTEND;TZID=America/Chicago:20250102T130000
DTSTAMP:20260422T044119
CREATED:20241117T213842Z
LAST-MODIFIED:20241205T224644Z
UID:10003731-1735815600-1735822800@mcdougalsewing.com
SUMMARY:Feet Fetish-Thread Painting Fall Leaves on Batik Fabric
DESCRIPTION:Let’s learn how to Free Motion in a unique and very old technique called Thread Painting. My Mother taught me how to make a bird when I was a little girl on a Singer Blackhead! \nFirst of all\, there is no right or wrong way of thread painting! (Quilt Police: please read this again!) Thread painting is pretty much drawing with threads and fabrics. It is about your personal preferences\, about density\, light and shadow\, colors and texture… it is pretty much about you being in control of how the thread moves across the canvas of your fabric.  You are the Artist and your sewing machine is your  tool. \n It’s also a really fun and forgivable technique\, an awesome way to practice free-motion quilting without the pressure of practicing free-motion quilting. \nThere are 2 Kit options for this class. Just let me know which kit you want when I send the reminder email. \n\n$10 kit– 2 pieces of Batik fabric cut in 8” X 8” hexagons. \n\n3 pieces of Stitch N Ditch stabilizer- 10” X 10”\n1 piece of 9” X 9” batting\n1 piece of 8” X 8” muslin with leaf patterns drawn on it for practice.\n\n\n$15 kit\n\nAll of above\n1 pair of quilt gloves\n1 quilting needle to use for the project.\n\n\n\n\nSupply list for you to bring: *can purchase at the store if needed that day.\n\n*5 spools of rayon or cotton thread \n\n1 spool medium green and 1 spool dark green\n1 spool dark brown and 1 of medium brown\n1 spool mustard yellow \n1 spool yellow gold\n\n\n *Quilters gloves- (if you don’t get $15 kit)\n*Free motion spring foot that works on your machine- If we don’t have in stock we may need to order one for your machine so please give us at least 7 days to special order. You MUST have this foot for this technique.\n* Quilting needles- 75/11 or 80/12-(if you don’t get $15 kit)\n* 5 empty bobbins to fill in class with thread you bring.\nSewing machine in good working order\, power cord and foot pedal- we’ll not use our push buttons to run the machine for this technique.
URL:https://mcdougalsewing.com/event/feet-fetish-thread-painting/
LOCATION:McDougal Main Store\, 20141 Park Row\, Katy\, TX\, 77449\, United States
CATEGORIES:Main Store
ATTACH;FMTTYPE=image/jpeg:https://mcdougalsewing.com/wp-content/uploads/2024/11/IMG_1655-scaled-e1733175576885.jpeg
ORGANIZER;CN="McDougal Sewing Center":MAILTO:karen.welch@mcdougalsewing.com
GEO:29.789449;-95.7261697
X-APPLE-STRUCTURED-LOCATION;VALUE=URI;X-ADDRESS=McDougal Main Store 20141 Park Row Katy TX 77449 United States;X-APPLE-RADIUS=500;X-TITLE=20141 Park Row:geo:-95.7261697,29.789449
END:VEVENT
BEGIN:VEVENT
DTSTART;TZID=America/Chicago:20250102T140000
DTEND;TZID=America/Chicago:20250102T160000
DTSTAMP:20260422T044119
CREATED:20241117T174419Z
LAST-MODIFIED:20241226T113942Z
UID:10003705-1735826400-1735833600@mcdougalsewing.com
SUMMARY:Serger Basics
DESCRIPTION:Welcome to the world of serging!  \nThis class is for all serger owners\, featuring 4-thread and 3-thread techniques. We will learn how a serger works\, threading steps\, and basic serger skills. \nThis class is open to customers who purchased a qualifying Serger from any McDougal Sewing location. McDougal Sewing does NOT participate in the free guide class for Singer sergers\, so this class is not for Singer sergers. We do offer a Serger 101 class that is open to the public for a fee for sergers not purchased at McDougal Sewing. \nYou must present a sales receipt from McDougal Sewing to take this free class. \nFor those that have a chain-stitch or cover-stitch serger\, contact rebecca.joseph@mcdougalsewing.com for this class. \nDownload Supply List: Serger Basics Supply List
URL:https://mcdougalsewing.com/event/serger-basics-28/
LOCATION:McDougal Main Store\, 20141 Park Row\, Katy\, TX\, 77449\, United States
CATEGORIES:Main Store
ATTACH;FMTTYPE=image/jpeg:https://mcdougalsewing.com/wp-content/uploads/2024/05/PfaffAdmireAir7000.jpg
ORGANIZER;CN="McDougal Sewing Center":MAILTO:karen.welch@mcdougalsewing.com
GEO:29.789449;-95.7261697
X-APPLE-STRUCTURED-LOCATION;VALUE=URI;X-ADDRESS=McDougal Main Store 20141 Park Row Katy TX 77449 United States;X-APPLE-RADIUS=500;X-TITLE=20141 Park Row:geo:-95.7261697,29.789449
END:VEVENT
BEGIN:VEVENT
DTSTART;TZID=America/Chicago:20250103T110000
DTEND;TZID=America/Chicago:20250103T130000
DTSTAMP:20260422T044119
CREATED:20241117T175857Z
LAST-MODIFIED:20241227T211418Z
UID:10003708-1735902000-1735909200@mcdougalsewing.com
SUMMARY:Singer Sewing Machine Guide Class
DESCRIPTION:EXPERIENCE ALL YOUR MACHINE CAN DO FOR YOU WITH A FREE MACHINE GUIDE CLASS.\nSee how to set your machine for best performance. \nWe show you how to wind and insert your bobbin\, thread your machine; how to adjust tension\, length\, and width\, and choose your stitch patterns. \nSINGER® Sewing Machine Proof of Purchase Required: \n– A receipt with a date and your name must be presented to the teacher to take this free class. This proof of purchase can be a hard copy or an email or copy on your phone and  can be from a website or retail store. It MUST be a purchase within 9 months prior to class date. You must be 18 years or older to attend this class. Only one person per machine\, no auditing of this free class. If a translator is needed\, please email rebecca.joseph@mcdougalsewing.com . If your machine came with a Coupon for a Free class\, bring this also. \nHow to prepare to come to class: \nPlease have your machine ready to thread before you come to class by removing it from the box\, and taking off all tape and styrofoam\, All you need to bring is everything that came in the box\, do NOT bring the box or any packaging to the classroom.  You’ll need a small pair of scissors to clip threads. \nSupply List: Mechanical Machine Basics Supply List
URL:https://mcdougalsewing.com/event/singer-sewing-machine-guide-class/
LOCATION:McDougal Main Store\, 20141 Park Row\, Katy\, TX\, 77449\, United States
CATEGORIES:Main Store
ORGANIZER;CN="McDougal Sewing Center":MAILTO:karen.welch@mcdougalsewing.com
GEO:29.789449;-95.7261697
X-APPLE-STRUCTURED-LOCATION;VALUE=URI;X-ADDRESS=McDougal Main Store 20141 Park Row Katy TX 77449 United States;X-APPLE-RADIUS=500;X-TITLE=20141 Park Row:geo:-95.7261697,29.789449
END:VEVENT
BEGIN:VEVENT
DTSTART;TZID=America/Chicago:20250103T140000
DTEND;TZID=America/Chicago:20250103T160000
DTSTAMP:20260422T044119
CREATED:20241117T180004Z
LAST-MODIFIED:20241228T155823Z
UID:10003709-1735912800-1735920000@mcdougalsewing.com
SUMMARY:Singer Sewing Machine Guide Class
DESCRIPTION:EXPERIENCE ALL YOUR MACHINE CAN DO FOR YOU WITH A FREE MACHINE GUIDE CLASS.\nSee how to set your machine for best performance. \nWe show you how to wind and insert your bobbin\, thread your machine; how to adjust tension\, length\, and width\, and choose your stitch patterns. \nSINGER® Sewing Machine Proof of Purchase Required: \n– A receipt with a date and your name must be presented to the teacher to take this free class. This proof of purchase can be a hard copy or an email or copy on your phone and  can be from a website or retail store. It MUST be a purchase within 9 months prior to class date. You must be 18 years or older to attend this class. Only one person per machine\, no auditing of this free class. If a translator is needed\, please email rebecca.joseph@mcdougalsewing.com . If your machine came with a Coupon for a Free class\, bring this also. \nHow to prepare to come to class: \nPlease have your machine ready to thread before you come to class by removing it from the box\, and taking off all tape and styrofoam\, All you need to bring is everything that came in the box\, do NOT bring the box or any packaging to the classroom.  You’ll need a small pair of scissors to clip threads. \nSupply List: Mechanical Machine Basics Supply List
URL:https://mcdougalsewing.com/event/singer-sewing-machine-guide-class-2/
LOCATION:McDougal Main Store\, 20141 Park Row\, Katy\, TX\, 77449\, United States
CATEGORIES:Main Store
ORGANIZER;CN="McDougal Sewing Center":MAILTO:karen.welch@mcdougalsewing.com
GEO:29.789449;-95.7261697
X-APPLE-STRUCTURED-LOCATION;VALUE=URI;X-ADDRESS=McDougal Main Store 20141 Park Row Katy TX 77449 United States;X-APPLE-RADIUS=500;X-TITLE=20141 Park Row:geo:-95.7261697,29.789449
END:VEVENT
BEGIN:VEVENT
DTSTART;TZID=America/Chicago:20250104T100000
DTEND;TZID=America/Chicago:20250104T120000
DTSTAMP:20260422T044119
CREATED:20241117T214405Z
LAST-MODIFIED:20241205T224733Z
UID:10003732-1735984800-1735992000@mcdougalsewing.com
SUMMARY:Feet Fetish-Thread Painting on Fall Leaves Batik Fabric
DESCRIPTION:Let’s learn how to Free Motion in a unique and very old technique called Thread Painting. My Mother taught me how to make a bird when I was a little girl on a Singer Blackhead! \nFirst of all\, there is no right or wrong way of thread painting! (Quilt Police: please read this again!) Thread painting is pretty much drawing with threads and fabrics. It is about your personal preferences\, about density\, light and shadow\, colors and texture… it is pretty much about you being in control of how the thread moves across the canvas of your fabric.  You are the Artist and your sewing machine is your  tool. \n It’s also a really fun and forgivable technique\, an awesome way to practice free-motion quilting without the pressure of practicing free-motion quilting. \nThere are 2 Kit options for this class. Just let me know which kit you want when I send the reminder email. \n\n$10 kit– 2 pieces of Batik fabric cut in 8” X 8” hexagons. \n\n3 pieces of Stitch N Ditch stabilizer- 10” X 10”\n1 piece of 9” X 9” batting\n1 piece of 8” X 8” muslin with leaf patterns drawn on it for practice.\n\n\n$15 kit\n\nAll of above\n1 pair of quilt gloves\n1 quilting needle to use for the project.\n\n\n\n\nSupply list for you to bring: *can purchase at the store if needed that day.\n\n*5 spools of rayon or cotton thread \n\n1 spool medium green and 1 spool dark green\n1 spool dark brown and 1 of medium brown\n1 spool mustard yellow \n1 spool yellow gold\n\n\n *Quilters gloves- (if you don’t get $15 kit)\n*Free motion spring foot that works on your machine-If we don’t have in stock we may need to order one for your machine so please give us at least 7 days to special order. You MUST have this foot for this technique.\n* Quilting needles- 75/11 or 80/12-(if you don’t get $15 kit)\n* 5 empty bobbins to fill in class with thread you bring.\nSewing machine in good working order\, power cord and foot pedal- we’ll not use our push buttons to run the machine for this technique.\n\n\n\n 
URL:https://mcdougalsewing.com/event/feet-fetish-thread-painting-3/
LOCATION:McDougal Main Store\, 20141 Park Row\, Katy\, TX\, 77449\, United States
CATEGORIES:Main Store
ATTACH;FMTTYPE=image/jpeg:https://mcdougalsewing.com/wp-content/uploads/2024/11/IMG_1655-scaled-e1733175576885.jpeg
ORGANIZER;CN="McDougal Sewing Center":MAILTO:karen.welch@mcdougalsewing.com
GEO:29.789449;-95.7261697
X-APPLE-STRUCTURED-LOCATION;VALUE=URI;X-ADDRESS=McDougal Main Store 20141 Park Row Katy TX 77449 United States;X-APPLE-RADIUS=500;X-TITLE=20141 Park Row:geo:-95.7261697,29.789449
END:VEVENT
BEGIN:VEVENT
DTSTART;TZID=America/Chicago:20250104T130000
DTEND;TZID=America/Chicago:20250104T150000
DTSTAMP:20260422T044119
CREATED:20241117T172700Z
LAST-MODIFIED:20241226T004158Z
UID:10003702-1735995600-1736002800@mcdougalsewing.com
SUMMARY:Mechanical/Digital Machine Basics
DESCRIPTION:This class is for any mechanical – Viking E-10\, E-20 & Emerald series\, or Brother PS-100 and the Digital PS200T\, and PS300T \, the Pfaff Passport 2.0 & 3.0\, the JUKI HZL-70-HWA or any new Elna mechanical machine recently purchased at McDougal Sewing locations.  This is NOT the free Singer Machine Guide Class that is Open to the Public. \n\n\n\n\nWe show you how the wind and insert your bobbin\, thread your machine; how to adjust tension\, length\, and width\, and choose your stitch patterns. \nAll participants must present a sales receipt to take this free class. \nSupply list: Mechanical Machine Basics Supply List
URL:https://mcdougalsewing.com/event/114484/
LOCATION:McDougal Main Store\, 20141 Park Row\, Katy\, TX\, 77449\, United States
CATEGORIES:Main Store
ORGANIZER;CN="McDougal Sewing Center":MAILTO:karen.welch@mcdougalsewing.com
GEO:29.789449;-95.7261697
X-APPLE-STRUCTURED-LOCATION;VALUE=URI;X-ADDRESS=McDougal Main Store 20141 Park Row Katy TX 77449 United States;X-APPLE-RADIUS=500;X-TITLE=20141 Park Row:geo:-95.7261697,29.789449
END:VEVENT
END:VCALENDAR