BEGIN:VCALENDAR
VERSION:2.0
PRODID:-//McDougal Sewing Center - ECPv6.15.17.1//NONSGML v1.0//EN
CALSCALE:GREGORIAN
METHOD:PUBLISH
X-WR-CALNAME:McDougal Sewing Center
X-ORIGINAL-URL:https://mcdougalsewing.com
X-WR-CALDESC:Events for McDougal Sewing Center
REFRESH-INTERVAL;VALUE=DURATION:PT1H
X-Robots-Tag:noindex
X-PUBLISHED-TTL:PT1H
BEGIN:VTIMEZONE
TZID:America/Chicago
BEGIN:DAYLIGHT
TZOFFSETFROM:-0600
TZOFFSETTO:-0500
TZNAME:CDT
DTSTART:20240310T080000
END:DAYLIGHT
BEGIN:STANDARD
TZOFFSETFROM:-0500
TZOFFSETTO:-0600
TZNAME:CST
DTSTART:20241103T070000
END:STANDARD
BEGIN:DAYLIGHT
TZOFFSETFROM:-0600
TZOFFSETTO:-0500
TZNAME:CDT
DTSTART:20250309T080000
END:DAYLIGHT
BEGIN:STANDARD
TZOFFSETFROM:-0500
TZOFFSETTO:-0600
TZNAME:CST
DTSTART:20251102T070000
END:STANDARD
BEGIN:DAYLIGHT
TZOFFSETFROM:-0600
TZOFFSETTO:-0500
TZNAME:CDT
DTSTART:20260308T080000
END:DAYLIGHT
BEGIN:STANDARD
TZOFFSETFROM:-0500
TZOFFSETTO:-0600
TZNAME:CST
DTSTART:20261101T070000
END:STANDARD
END:VTIMEZONE
BEGIN:VEVENT
DTSTART;TZID=America/Chicago:20250106T103000
DTEND;TZID=America/Chicago:20250106T130000
DTSTAMP:20260424T194634
CREATED:20241213T010300Z
LAST-MODIFIED:20241222T043715Z
UID:10003755-1736159400-1736168400@mcdougalsewing.com
SUMMARY:Kids Novice Sewing Ages 7-17
DESCRIPTION:Just for kids and teens\, Learn to use that new machine you got for Christmas! You will learn to thread the machine\, wind a bobbin\, stitch straight seams\, corners\, and curves\, and complete a small project\, We will also review the tools you will need in your sewing kit. \nNovice sewing Supply list
URL:https://mcdougalsewing.com/event/kids-novice-sewing-ages-7-17-2/
LOCATION:McDougal Main Store\, 20141 Park Row\, Katy\, TX\, 77449\, United States
CATEGORIES:Main Store
ORGANIZER;CN="McDougal Sewing Center":MAILTO:karen.welch@mcdougalsewing.com
GEO:29.789449;-95.7261697
X-APPLE-STRUCTURED-LOCATION;VALUE=URI;X-ADDRESS=McDougal Main Store 20141 Park Row Katy TX 77449 United States;X-APPLE-RADIUS=500;X-TITLE=20141 Park Row:geo:-95.7261697,29.789449
END:VEVENT
BEGIN:VEVENT
DTSTART;TZID=America/Chicago:20250106T140000
DTEND;TZID=America/Chicago:20250106T163000
DTSTAMP:20260424T194634
CREATED:20241213T011719Z
LAST-MODIFIED:20241217T022001Z
UID:10003758-1736172000-1736181000@mcdougalsewing.com
SUMMARY:Kids Learn to Sew Ages7-17
DESCRIPTION:Just for Kids and teens\, This class picks up where NOVICE SEWING leaves off. Kids must have taken Novice Sewing OR be able to complete the actions listed in the Novice Sewing description to attend this class. You will learn about machine settings\, how to change the foot and needle\nand learn to stitch curves. We will learn about the properties of fabric\, grainlines and some basic sewing vocabulary and finish up with a small project. \nSupply List: KIDS Learn to Sew \n 
URL:https://mcdougalsewing.com/event/kids-learn-to-sew-ages7-17/
LOCATION:McDougal Main Store\, 20141 Park Row\, Katy\, TX\, 77449\, United States
CATEGORIES:Main Store
ORGANIZER;CN="McDougal Sewing Center":MAILTO:karen.welch@mcdougalsewing.com
GEO:29.789449;-95.7261697
X-APPLE-STRUCTURED-LOCATION;VALUE=URI;X-ADDRESS=McDougal Main Store 20141 Park Row Katy TX 77449 United States;X-APPLE-RADIUS=500;X-TITLE=20141 Park Row:geo:-95.7261697,29.789449
END:VEVENT
BEGIN:VEVENT
DTSTART;TZID=America/Chicago:20250107T103000
DTEND;TZID=America/Chicago:20250107T130000
DTSTAMP:20260424T194634
CREATED:20241210T224029Z
LAST-MODIFIED:20241222T043549Z
UID:10003738-1736245800-1736254800@mcdougalsewing.com
SUMMARY:Novice Sewing
DESCRIPTION:For the absolute beginner\, who just wants to learn how to operate your machine. You will learn to thread your machine\, wind a bobbin\, and sew a straight line. I’ll show you the common tools used in home sewing and we’ll complete a small project. \nSupply List: Novice sewing Supply list
URL:https://mcdougalsewing.com/event/novice-sewing-13/
LOCATION:McDougal Main Store\, 20141 Park Row\, Katy\, TX\, 77449\, United States
CATEGORIES:Main Store
ORGANIZER;CN="McDougal Sewing Center":MAILTO:karen.welch@mcdougalsewing.com
GEO:29.789449;-95.7261697
X-APPLE-STRUCTURED-LOCATION;VALUE=URI;X-ADDRESS=McDougal Main Store 20141 Park Row Katy TX 77449 United States;X-APPLE-RADIUS=500;X-TITLE=20141 Park Row:geo:-95.7261697,29.789449
END:VEVENT
BEGIN:VEVENT
DTSTART;TZID=America/Chicago:20250110T130000
DTEND;TZID=America/Chicago:20250110T160000
DTSTAMP:20260424T194634
CREATED:20241117T182236Z
LAST-MODIFIED:20241205T224819Z
UID:10003711-1736514000-1736524800@mcdougalsewing.com
SUMMARY:Thread Painting (Open to Public)-Thread Painting Fall Leaves on Batik Fabric
DESCRIPTION:Let’s learn how to Free Motion in a unique and very old technique called Thread Painting. My Mother taught me how to make a bird when I was a little girl on a Singer Blackhead! \nFirst of all\, there is no right or wrong way of thread painting! (Quilt Police: please read this again!) Thread painting is pretty much drawing with threads and fabrics. It is about your personal preferences\, about density\, light and shadow\, colors and texture… it is pretty much about you being in control of how the thread moves across the canvas of your fabric.  You are the Artist and your sewing machine is your  tool. \n It’s also a really fun and forgivable technique\, an awesome way to practice free-motion quilting without the pressure of practicing free-motion quilting. \nThe Fabric Kit is included in your Class fee. \n\nFabric kit– 2 pieces of Batik fabric cut in 8” X 8” hexagons. \n\n3 pieces of Stitch N Ditch stabilizer- 10” X 10”\n1 piece of 9” X 9” batting\n1 piece of 8” X 8” muslin with leaf patterns drawn on it for practice.\n\n\n\n\nSupply list for you to bring: *can purchase at the store if needed that day.\n\n*5 spools of rayon or cotton thread \n\n1 spool medium green and 1 spool dark green\n1 spool dark brown and 1 of medium brown\n1 spool mustard yellow \n1 spool yellow gold\n\n\n *Quilters gloves\n*Free motion spring foot that works on your machine- If we don’t have in stock we may need to order one for your machine so please give us at least 7 days to special order. You MUST have this foot for this technique.\n* Quilting needles- 75/11 or 80/12\n* 5 empty bobbins to fill in class with thread you bring.\nSewing machine in good working order\, power cord and foot pedal- we’ll not use our push buttons to run the machine for this technique.\n\n\n\n  \n 
URL:https://mcdougalsewing.com/event/thread-painting-open-to-public/
LOCATION:McDougal Main Store\, 20141 Park Row\, Katy\, TX\, 77449\, United States
CATEGORIES:Main Store,Events
ATTACH;FMTTYPE=image/jpeg:https://mcdougalsewing.com/wp-content/uploads/2024/11/IMG_1655-scaled-e1733175576885.jpeg
ORGANIZER;CN="McDougal Sewing Center":MAILTO:karen.welch@mcdougalsewing.com
GEO:29.789449;-95.7261697
X-APPLE-STRUCTURED-LOCATION;VALUE=URI;X-ADDRESS=McDougal Main Store 20141 Park Row Katy TX 77449 United States;X-APPLE-RADIUS=500;X-TITLE=20141 Park Row:geo:-95.7261697,29.789449
END:VEVENT
END:VCALENDAR