BEGIN:VCALENDAR
VERSION:2.0
PRODID:-//McDougal Sewing Center - ECPv6.15.17.1//NONSGML v1.0//EN
CALSCALE:GREGORIAN
METHOD:PUBLISH
X-ORIGINAL-URL:https://mcdougalsewing.com
X-WR-CALDESC:Events for McDougal Sewing Center
REFRESH-INTERVAL;VALUE=DURATION:PT1H
X-Robots-Tag:noindex
X-PUBLISHED-TTL:PT1H
BEGIN:VTIMEZONE
TZID:America/Chicago
BEGIN:DAYLIGHT
TZOFFSETFROM:-0600
TZOFFSETTO:-0500
TZNAME:CDT
DTSTART:20240310T080000
END:DAYLIGHT
BEGIN:STANDARD
TZOFFSETFROM:-0500
TZOFFSETTO:-0600
TZNAME:CST
DTSTART:20241103T070000
END:STANDARD
BEGIN:DAYLIGHT
TZOFFSETFROM:-0600
TZOFFSETTO:-0500
TZNAME:CDT
DTSTART:20250309T080000
END:DAYLIGHT
BEGIN:STANDARD
TZOFFSETFROM:-0500
TZOFFSETTO:-0600
TZNAME:CST
DTSTART:20251102T070000
END:STANDARD
BEGIN:DAYLIGHT
TZOFFSETFROM:-0600
TZOFFSETTO:-0500
TZNAME:CDT
DTSTART:20260308T080000
END:DAYLIGHT
BEGIN:STANDARD
TZOFFSETFROM:-0500
TZOFFSETTO:-0600
TZNAME:CST
DTSTART:20261101T070000
END:STANDARD
END:VTIMEZONE
BEGIN:VEVENT
DTSTART;TZID=America/Chicago:20250113T130000
DTEND;TZID=America/Chicago:20250113T143000
DTSTAMP:20260424T095527
CREATED:20241213T020404Z
LAST-MODIFIED:20241213T020513Z
UID:10003761-1736773200-1736778600@mcdougalsewing.com
SUMMARY:Introduction to Quilting
DESCRIPTION:Introduction to Quilting Lecture style class\nIn this class\, you will learn \n\nquilting terminology\,\nquilting abbreviations\,\nabout tools of the trade\,\nhow to purchase fabric\,\npicking a block design\,\nhow much fabric you need\,\npicking and matching colors and fabric designs\,\nand troubleshooting your color combinations.\n\nYou are now ready for our class Beginning Quilting where we will practice pressing\, cutting\, sewing\, quilting and binding a small project. \nThere will be handouts so bring a pen or pencil to take additional notes
URL:https://mcdougalsewing.com/event/introduction-to-quilting-16/
LOCATION:McDougal Main Store\, 20141 Park Row\, Katy\, TX\, 77449\, United States
CATEGORIES:Main Store
ATTACH;FMTTYPE=image/png:https://mcdougalsewing.com/wp-content/uploads/2024/07/Quilting.Class.png
ORGANIZER;CN="McDougal Sewing Center":MAILTO:karen.welch@mcdougalsewing.com
GEO:29.789449;-95.7261697
X-APPLE-STRUCTURED-LOCATION;VALUE=URI;X-ADDRESS=McDougal Main Store 20141 Park Row Katy TX 77449 United States;X-APPLE-RADIUS=500;X-TITLE=20141 Park Row:geo:-95.7261697,29.789449
END:VEVENT
BEGIN:VEVENT
DTSTART;TZID=America/Chicago:20250114T100000
DTEND;TZID=America/Chicago:20250114T120000
DTSTAMP:20260424T095527
CREATED:20241117T192344Z
LAST-MODIFIED:20250113T050247Z
UID:10003718-1736848800-1736856000@mcdougalsewing.com
SUMMARY:Computer/Digital/Mechanical Basics
DESCRIPTION:Sew….You have a new Machine!\n\n\n\n\nCongratulations on the purchase of your new machine. We are honored that you have placed your confidence in McDougal Sewing Centers as your home for creativity. To make the most of your new machine\, it is highly encouraged that you attend our “quick start” programs designed to help you get acquainted with your machine. Each session has been developed to gain familiarity with the basic features/functions of your new machine\, to get you creating quickly. These sessions are our gift to you with the purchase of a new machine from McDougal Sewing Center. \nJoin talented Education Team members for a “get acquainted” new machine mixer. The goal of this two-part session is to provide you with the information and knowledge needed to get the most from your new machine. \nWe will cover machine navigation (where is that stitch!)\, TNT (threading\, needles\, tension adjustment)\, and equip you to use your machine with confidence.  \nThis class is open to customers who purchased a qualifying sewing\, embroidery\, and/or combo machine from any McDougal’s location. \nThis is NOT the free Singer Machine Guide Class that is Open to the Public. \nYou must present a sales receipt to take this free class. \nQualifying Machines: \n\nViking: Opal\, Sapphire\, Designer\, Brilliance\, and Epic Lines.\nPfaff: Passport\, Ambition\, Expression\, Creative\, and Icon Lines.\nJUKI: ALL JUKI sewing machines.\nBrother: PS series sewing machines.\nnew Elna machines recently purchased at McDougal Sewing Centers.\n\nFor ALL Sewing/Embroidery “Guide” Classes we will provide you with the fabric and thread needed for the class. \nSupply List: Computer Machine Basic \nPlease read Class and Refund Policies.
URL:https://mcdougalsewing.com/event/computer-digital-mechanical-basics/
LOCATION:Sugarland JOANN Fabrics\, 16626 Southwest Fwy\, Sugar Land\, TX\, 77479\, United States
CATEGORIES:Sugarland
ORGANIZER;CN="McDougal Sugarland JOANN Fabrics":MAILTO:ja.sugarland@McDougalSewing.com
END:VEVENT
BEGIN:VEVENT
DTSTART;TZID=America/Chicago:20250114T103000
DTEND;TZID=America/Chicago:20250114T160000
DTSTAMP:20260424T095527
CREATED:20241210T225121Z
LAST-MODIFIED:20241210T225121Z
UID:10003741-1736850600-1736870400@mcdougalsewing.com
SUMMARY:Learn to Sew
DESCRIPTION:You’ve learned to operate your machine- now what? In this class you’ll learn about thread\, needles types\, grainlines and interfacings. We’ll review straight line stitching and practice turning corners\, curves and circles. After a break for lunch\, we’ll apply what you’ve learned to construct a needle book to help organize your machine needles. \nSupply List: Learn to sew Supply List
URL:https://mcdougalsewing.com/event/learn-to-sew/
LOCATION:McDougal Main Store\, 20141 Park Row\, Katy\, TX\, 77449\, United States
CATEGORIES:Main Store
ORGANIZER;CN="McDougal Sewing Center":MAILTO:karen.welch@mcdougalsewing.com
GEO:29.789449;-95.7261697
X-APPLE-STRUCTURED-LOCATION;VALUE=URI;X-ADDRESS=McDougal Main Store 20141 Park Row Katy TX 77449 United States;X-APPLE-RADIUS=500;X-TITLE=20141 Park Row:geo:-95.7261697,29.789449
END:VEVENT
BEGIN:VEVENT
DTSTART;TZID=America/Chicago:20250114T123000
DTEND;TZID=America/Chicago:20250114T143000
DTSTAMP:20260424T095527
CREATED:20241117T193525Z
LAST-MODIFIED:20250113T053739Z
UID:10003722-1736857800-1736865000@mcdougalsewing.com
SUMMARY:Machine Embroidery Basics
DESCRIPTION:Join McDougal Sewing Centers Embroidery Specialists for a hands-on embroidery quick start session. This workshop will cover: \n\n\n\n\nNavigating your embroidery machine\nThreading for embroidery\nProper hooping and basic stabilization\nLettering\n\nBring your machine and its basic embroidery setup\, check the supply list below for other supplies needed. \nPre-requisite: Computer Machine Basics \nCourse Level: All Levels \nThis class is open to customers who purchased a qualifying sewing\, embroidery\, and/or combo machine including a new Elna embroidery machine or combo embroidery machine purchased from any McDougal’s location. You must present a sales receipt to take this free class. \nDownload Supply List: Machine Embroidery Basics \nPlease read Class and Refund Policies
URL:https://mcdougalsewing.com/event/machine-embroidery-basics-12/
LOCATION:Sugarland JOANN Fabrics\, 16626 Southwest Fwy\, Sugar Land\, TX\, 77479\, United States
CATEGORIES:Sugarland
ORGANIZER;CN="McDougal Sugarland JOANN Fabrics":MAILTO:ja.sugarland@McDougalSewing.com
END:VEVENT
BEGIN:VEVENT
DTSTART;TZID=America/Chicago:20250114T150000
DTEND;TZID=America/Chicago:20250114T170000
DTSTAMP:20260424T095527
CREATED:20241117T200740Z
LAST-MODIFIED:20250113T045928Z
UID:10003725-1736866800-1736874000@mcdougalsewing.com
SUMMARY:Computer/Mechanical/Digital Machine Basics
DESCRIPTION:Sew….You have a new Machine!\n\n\n\n\nCongratulations on the purchase of your new machine. We are honored that you have placed your confidence in McDougal Sewing Centers as your home for creativity. To make the most of your new machine\, it is highly encouraged that you attend our “quick start” programs designed to help you get acquainted with your machine. Each session has been developed to gain familiarity with the basic features/functions of your new machine\, to get you creating quickly. These sessions are our gift to you with the purchase of a new machine from McDougal Sewing Center. \nJoin talented Education Team members for a “get acquainted” new machine mixer. The goal of this two-part session is to provide you with the information and knowledge needed to get the most from your new machine. \nWe will cover machine navigation (where is that stitch!)\, TNT (threading\, needles\, tension adjustment)\, and equip you to use your machine with confidence.  \nThis class is open to customers who purchased a qualifying sewing\, embroidery\, and/or combo machine from any McDougal’s location. \nYou must present a sales receipt to take this free class. \nQualifying Machines: \n\nViking: Opal\, Sapphire\, Designer\, Brilliance\, and Epic Lines.\nPfaff: Passport\, Ambition\, Expression\, Creative\, and Icon Lines.\nJUKI: ALL JUKI sewing machines.\nBrother: PS series sewing machines.\nnew Elna machines recently purchased at McDougal Sewing Centers.\n\nFor ALL Sewing/Embroidery “Guide” Classes we will provide you with the fabric and thread needed for the class. \nSupply List: Computer Machine Basic \nPlease read Class and Refund Policies.
URL:https://mcdougalsewing.com/event/serger-basics-4/
LOCATION:Sugarland JOANN Fabrics\, 16626 Southwest Fwy\, Sugar Land\, TX\, 77479\, United States
CATEGORIES:Sugarland
ORGANIZER;CN="McDougal Sugarland JOANN Fabrics":MAILTO:ja.sugarland@McDougalSewing.com
END:VEVENT
BEGIN:VEVENT
DTSTART;TZID=America/Chicago:20250115T103000
DTEND;TZID=America/Chicago:20250115T160000
DTSTAMP:20260424T095527
CREATED:20241210T232657Z
LAST-MODIFIED:20250113T014944Z
UID:10003751-1736937000-1736956800@mcdougalsewing.com
SUMMARY:Machine Applique Basics
DESCRIPTION:Use your machine to embellish just about anything with applique! We’ll learn about feet\, stabilizers\, thread\, and stitches used to applique shapes to a base fabric. In class\, we’ll make a sampler of appropriate stitches on YOUR machine that can be used to applique and then you’ll choose one to make a holiday-themed pillow sham. Make a different one to change out for every season or holiday. \nSupply List:  Machine Applique Basics-supply list \nPlease read the Class and Refund Policies before signing up for the class.
URL:https://mcdougalsewing.com/event/machine-applique-basics-2/
LOCATION:McDougal Main Store\, 20141 Park Row\, Katy\, TX\, 77449\, United States
CATEGORIES:Main Store
ORGANIZER;CN="McDougal Sewing Center":MAILTO:karen.welch@mcdougalsewing.com
GEO:29.789449;-95.7261697
X-APPLE-STRUCTURED-LOCATION;VALUE=URI;X-ADDRESS=McDougal Main Store 20141 Park Row Katy TX 77449 United States;X-APPLE-RADIUS=500;X-TITLE=20141 Park Row:geo:-95.7261697,29.789449
END:VEVENT
BEGIN:VEVENT
DTSTART;TZID=America/Chicago:20250116T110000
DTEND;TZID=America/Chicago:20250116T130000
DTSTAMP:20260424T095527
CREATED:20250113T003216Z
LAST-MODIFIED:20250113T010914Z
UID:10003777-1737025200-1737032400@mcdougalsewing.com
SUMMARY:Learn about Unique Attachments\, Hoops and Feet
DESCRIPTION:Learn about Unique Attachments\, Hoops and Feet\nCome Join SVP (Singer\, Viking\, Pfaff ) Educator Laura Luett for a demonstration of one of a kind attachments\, various hoops\, and fun presser feet. \nLocation: McDougal Sewing Center \n20141 Park Row in Katy \nNo cost but you must register in advance- class size is limited.
URL:https://mcdougalsewing.com/event/learn-about-unique-attachments-hoops-and-feet/
LOCATION:McDougal Main Store\, 20141 Park Row\, Katy\, TX\, 77449\, United States
CATEGORIES:Main Store,Events
ATTACH;FMTTYPE=image/png:https://mcdougalsewing.com/wp-content/uploads/2025/01/lauraluett.png
ORGANIZER;CN="McDougal Sewing Center":MAILTO:karen.welch@mcdougalsewing.com
GEO:29.789449;-95.7261697
X-APPLE-STRUCTURED-LOCATION;VALUE=URI;X-ADDRESS=McDougal Main Store 20141 Park Row Katy TX 77449 United States;X-APPLE-RADIUS=500;X-TITLE=20141 Park Row:geo:-95.7261697,29.789449
END:VEVENT
BEGIN:VEVENT
DTSTART;TZID=America/Chicago:20250117T100000
DTEND;TZID=America/Chicago:20250117T130000
DTSTAMP:20260424T095527
CREATED:20241117T185736Z
LAST-MODIFIED:20250113T053929Z
UID:10003712-1737108000-1737118800@mcdougalsewing.com
SUMMARY:Viking/Pfaff Computer Machine Basics
DESCRIPTION:Sew… You have a new Machine! \nCongratulations on the purchase of your new machine. We are honored that you have placed your confidence in McDougal Sewing Centers as your home for creativity. To make the most of your new machine\, it is highly encouraged that you attend our “quick start” programs designed to help you get acquainted with your machine. Each session has been developed to gain familiarity with the basic features/functions of your new machine\, to get you creating quickly. These sessions are our gift to you with the purchase of a new machine from McDougal Sewing Center. \nJoin talented Education Team members for a “get acquainted” new machine mixer. The goal of this two-part session is to provide you with the information and knowledge needed to get the most from your new machine. \nWe will cover machine navigation (where is that stitch!)\, TNT (threading\, needles\, tension adjustment)\, and equip you to use your machine with confidence.  \nThis class is open to customers who purchased a qualifying sewing\, embroidery\, and/or combo machine from any McDougal’s location. \nYou must present a sales receipt to take this free class. \nDownload Supply List: Computer Machine Basics Supply List \nPlease read Class and Refund Policies.
URL:https://mcdougalsewing.com/event/viking-pfaff-computer-machine-basics-9/
LOCATION:McDougal Main Store\, 20141 Park Row\, Katy\, TX\, 77449\, United States
CATEGORIES:Main Store
ORGANIZER;CN="McDougal Sewing Center":MAILTO:karen.welch@mcdougalsewing.com
GEO:29.789449;-95.7261697
X-APPLE-STRUCTURED-LOCATION;VALUE=URI;X-ADDRESS=McDougal Main Store 20141 Park Row Katy TX 77449 United States;X-APPLE-RADIUS=500;X-TITLE=20141 Park Row:geo:-95.7261697,29.789449
END:VEVENT
BEGIN:VEVENT
DTSTART;TZID=America/Chicago:20250117T140000
DTEND;TZID=America/Chicago:20250117T163000
DTSTAMP:20260424T095527
CREATED:20241117T191120Z
LAST-MODIFIED:20250113T052824Z
UID:10003715-1737122400-1737131400@mcdougalsewing.com
SUMMARY:Viking/Pfaff Machine Embroidery Basics
DESCRIPTION:Join McDougal Sewing Centers Embroidery Specialists for a hands-on embroidery quick start session. This workshop will cover:\n\n\n\nNavigating your embroidery machine\nThreading for embroidery\nProper hooping and basic stabilization\nLettering\n\nBring your machine and its basic embroidery setup\, check the supply list below for other supplies needed. \nPre-requisite: Viking Computer Machine Basics \nCourse Level: All Levels \nThis class is open to customers who purchased a qualifying sewing\, embroidery\, and/or combo machine from any McDougal’s location. You must present a sales receipt to take this free class. \nSupply List: Machine Embroidery Basics Supply List
URL:https://mcdougalsewing.com/event/vikiong-pfaff-machine-embroidery-basics/
LOCATION:McDougal Main Store\, 20141 Park Row\, Katy\, TX\, 77449\, United States
CATEGORIES:Main Store
ORGANIZER;CN="McDougal Sewing Center":MAILTO:karen.welch@mcdougalsewing.com
GEO:29.789449;-95.7261697
X-APPLE-STRUCTURED-LOCATION;VALUE=URI;X-ADDRESS=McDougal Main Store 20141 Park Row Katy TX 77449 United States;X-APPLE-RADIUS=500;X-TITLE=20141 Park Row:geo:-95.7261697,29.789449
END:VEVENT
BEGIN:VEVENT
DTSTART;TZID=America/Chicago:20250118T100000
DTEND;TZID=America/Chicago:20250118T113000
DTSTAMP:20260424T095527
CREATED:20241213T022950Z
LAST-MODIFIED:20241216T012709Z
UID:10003764-1737194400-1737199800@mcdougalsewing.com
SUMMARY:Introduction to Quilting
DESCRIPTION:Introduction to Quilting Lecture style class\nIn this class\, you will learn \n\nquilting terminology\,\nquilting abbreviations\,\nabout tools of the trade\,\nhow to purchase fabric\,\npicking a block design\,\nhow much fabric you need\,\npicking and matching colors and fabric designs\,\nand troubleshooting your color combinations.\n\nYou are now ready for our class Beginning Quilting where we will practice pressing\, cutting\, sewing\, quilting\, and binding a small project. \nThere will be handouts so bring a pen or pencil to take additional notes
URL:https://mcdougalsewing.com/event/introduction-to-quilting-19/
LOCATION:Sugarland JOANN Fabrics\, 16626 Southwest Fwy\, Sugar Land\, TX\, 77479\, United States
CATEGORIES:Sugarland
ATTACH;FMTTYPE=image/png:https://mcdougalsewing.com/wp-content/uploads/2024/07/Quilting.Class.png
ORGANIZER;CN="McDougal Sugarland JOANN Fabrics":MAILTO:ja.sugarland@McDougalSewing.com
END:VEVENT
BEGIN:VEVENT
DTSTART;TZID=America/Chicago:20250118T100000
DTEND;TZID=America/Chicago:20250118T130000
DTSTAMP:20260424T095527
CREATED:20241117T170819Z
LAST-MODIFIED:20250113T045435Z
UID:10003699-1737194400-1737205200@mcdougalsewing.com
SUMMARY:Brother/JUKI/Elna Computer Machine Basics
DESCRIPTION:Congratulations on the purchase of your new machine. We are honored that you have placed your confidence in McDougal Sewing Centers as your home for creativity. To make the most of your new machine\, it is highly encouraged that you attend our “quick start” programs designed to help you get acquainted with your machine. Each session has been developed to gain familiarity with the basic features/functions of your new machine\, to get you creating quickly. These sessions are our gift to you with the purchase of a new machine from McDougal Sewing Center. \n\n\nJoin talented Education Team members for a “get acquainted” new machine mixer. The goal of this session is to provide you with the information and knowledge needed to get the most from your new machine. \nThis class is geared for Computerized Brother\, JUKI and Elna sewing machines. You will start with the basics and work your way up through hemming\, buttonhole\, and decorative stitches.  You must register in advance. \nOpen for Brother\, JUKI and Elna customers who purchased their machine at McDougal Sewing Center. You must present a sales receipt to take this free class. \nFor ALL Sewing/Embroidery “Guide” Classes we will provide you with the fabric and thread needed for the class. \nDownload Supply Lists:  Computer Machine Basics \nPlease read Class and Refund Policies.
URL:https://mcdougalsewing.com/event/brother-juki-elna-computer-machine-basics/
LOCATION:McDougal Main Store\, 20141 Park Row\, Katy\, TX\, 77449\, United States
CATEGORIES:Main Store
ORGANIZER;CN="McDougal Sewing Center":MAILTO:karen.welch@mcdougalsewing.com
GEO:29.789449;-95.7261697
X-APPLE-STRUCTURED-LOCATION;VALUE=URI;X-ADDRESS=McDougal Main Store 20141 Park Row Katy TX 77449 United States;X-APPLE-RADIUS=500;X-TITLE=20141 Park Row:geo:-95.7261697,29.789449
END:VEVENT
BEGIN:VEVENT
DTSTART;TZID=America/Chicago:20250118T140000
DTEND;TZID=America/Chicago:20250118T160000
DTSTAMP:20260424T095527
CREATED:20241117T155402Z
LAST-MODIFIED:20250113T045101Z
UID:10003696-1737208800-1737216000@mcdougalsewing.com
SUMMARY:Brother/Elna Embroidery Basics
DESCRIPTION:Join McDougal Sewing Centers Embroidery Specialists for a hands-on embroidery quick-start session. This workshop will cover:\n\n\n\nNavigating your embroidery machine\nThreading for embroidery\nProper hooping and basic stabilization\nLettering\n\nBring your machine and its basic embroidery setup\, check the supply list below for other supplies needed. \nPrerequisite for sewing combo machines: Computer Machine Basics \nCourse Level: All Levels \nThis class is open to customers who purchased a qualifying sewing\, embroidery\, and/or combo machine from any McDougal’s location. You must present a sales receipt to take this free class. \nDownload Supply List: Machine Embroidery Basics \nPlease read Class and Refund Policies. \n  \n 
URL:https://mcdougalsewing.com/event/brother-elna-embroidery-basics-2/
LOCATION:McDougal Main Store\, 20141 Park Row\, Katy\, TX\, 77449\, United States
CATEGORIES:Main Store
ORGANIZER;CN="McDougal Sewing Center":MAILTO:karen.welch@mcdougalsewing.com
GEO:29.789449;-95.7261697
X-APPLE-STRUCTURED-LOCATION;VALUE=URI;X-ADDRESS=McDougal Main Store 20141 Park Row Katy TX 77449 United States;X-APPLE-RADIUS=500;X-TITLE=20141 Park Row:geo:-95.7261697,29.789449
END:VEVENT
END:VCALENDAR