BEGIN:VCALENDAR
VERSION:2.0
PRODID:-//McDougal Sewing Center - ECPv6.15.17.1//NONSGML v1.0//EN
CALSCALE:GREGORIAN
METHOD:PUBLISH
X-WR-CALNAME:McDougal Sewing Center
X-ORIGINAL-URL:https://mcdougalsewing.com
X-WR-CALDESC:Events for McDougal Sewing Center
REFRESH-INTERVAL;VALUE=DURATION:PT1H
X-Robots-Tag:noindex
X-PUBLISHED-TTL:PT1H
BEGIN:VTIMEZONE
TZID:America/Chicago
BEGIN:DAYLIGHT
TZOFFSETFROM:-0600
TZOFFSETTO:-0500
TZNAME:CDT
DTSTART:20240310T080000
END:DAYLIGHT
BEGIN:STANDARD
TZOFFSETFROM:-0500
TZOFFSETTO:-0600
TZNAME:CST
DTSTART:20241103T070000
END:STANDARD
BEGIN:DAYLIGHT
TZOFFSETFROM:-0600
TZOFFSETTO:-0500
TZNAME:CDT
DTSTART:20250309T080000
END:DAYLIGHT
BEGIN:STANDARD
TZOFFSETFROM:-0500
TZOFFSETTO:-0600
TZNAME:CST
DTSTART:20251102T070000
END:STANDARD
BEGIN:DAYLIGHT
TZOFFSETFROM:-0600
TZOFFSETTO:-0500
TZNAME:CDT
DTSTART:20260308T080000
END:DAYLIGHT
BEGIN:STANDARD
TZOFFSETFROM:-0500
TZOFFSETTO:-0600
TZNAME:CST
DTSTART:20261101T070000
END:STANDARD
END:VTIMEZONE
BEGIN:VEVENT
DTSTART;TZID=America/Chicago:20250120T103000
DTEND;TZID=America/Chicago:20250120T130000
DTSTAMP:20260424T192501
CREATED:20241213T010556Z
LAST-MODIFIED:20250113T014626Z
UID:10003756-1737369000-1737378000@mcdougalsewing.com
SUMMARY:Kids Novice Sewing Ages 7-17
DESCRIPTION:Just for kids and teens\, Learn to use that new machine you got for Christmas! You will learn to thread the machine\, wind a bobbin\, stitch straight seams\, corners\, and curves\, and complete a small project\, We will also review the tools you will need in your sewing kit. \nNovice sewing Supply list \nPlease read the Class and Refund Policies before signing up for the class.
URL:https://mcdougalsewing.com/event/kids-novice-sewing-ages-7-17-3/
LOCATION:McDougal Main Store\, 20141 Park Row\, Katy\, TX\, 77449\, United States
CATEGORIES:Main Store
ORGANIZER;CN="McDougal Sewing Center":MAILTO:karen.welch@mcdougalsewing.com
GEO:29.789449;-95.7261697
X-APPLE-STRUCTURED-LOCATION;VALUE=URI;X-ADDRESS=McDougal Main Store 20141 Park Row Katy TX 77449 United States;X-APPLE-RADIUS=500;X-TITLE=20141 Park Row:geo:-95.7261697,29.789449
END:VEVENT
BEGIN:VEVENT
DTSTART;TZID=America/Chicago:20250120T140000
DTEND;TZID=America/Chicago:20250120T163000
DTSTAMP:20260424T192501
CREATED:20241213T012840Z
LAST-MODIFIED:20250113T041525Z
UID:10003759-1737381600-1737390600@mcdougalsewing.com
SUMMARY:Kids Learn to Sew Ages7-17
DESCRIPTION:KIDS Learn to SewJust for Kids and teens\, This class picks up where NOVICE SEWING leaves off. Kids must have taken Novice Sewing OR be able to complete the actions listed in the Novice Sewing description to attend this class. You will learn about machine settings\, how to change the foot and needle\nand learn to stitch curves. We will learn about the properties of fabric\, grainlines and some basic sewing vocabulary and finish up with a small project. \nSupply List: KIDS Learn to Sew \nPlease read the Class and Refund Policies before signing up for the class.
URL:https://mcdougalsewing.com/event/kids-learn-to-sew-ages7-17-2/
LOCATION:McDougal Main Store\, 20141 Park Row\, Katy\, TX\, 77449\, United States
CATEGORIES:Main Store
ORGANIZER;CN="McDougal Sewing Center":MAILTO:karen.welch@mcdougalsewing.com
GEO:29.789449;-95.7261697
X-APPLE-STRUCTURED-LOCATION;VALUE=URI;X-ADDRESS=McDougal Main Store 20141 Park Row Katy TX 77449 United States;X-APPLE-RADIUS=500;X-TITLE=20141 Park Row:geo:-95.7261697,29.789449
END:VEVENT
BEGIN:VEVENT
DTSTART;TZID=America/Chicago:20250121T103000
DTEND;TZID=America/Chicago:20250121T160000
DTSTAMP:20260424T192501
CREATED:20241210T230626Z
LAST-MODIFIED:20250115T000346Z
UID:10003744-1737455400-1737475200@mcdougalsewing.com
SUMMARY:How to Use a Pattern
DESCRIPTION:How to use a pattern\nDo you wonder what all those symbols on a pattern mean? This class covers that and more! Learn to use the information on the pattern envelope to determine your size and fabric requirements. We’ll use a pattern to cut and construct a pair of elastic waist leisure pants for you or someone else. \nSupply List: 102 How to Use a Pattern Supply list \nPlease read the Class and Refund Policies before signing up for the class.
URL:https://mcdougalsewing.com/event/how-to-use-a-pattern-2/
LOCATION:McDougal Main Store\, 20141 Park Row\, Katy\, TX\, 77449\, United States
CATEGORIES:Main Store
ORGANIZER;CN="McDougal Sewing Center":MAILTO:karen.welch@mcdougalsewing.com
GEO:29.789449;-95.7261697
X-APPLE-STRUCTURED-LOCATION;VALUE=URI;X-ADDRESS=McDougal Main Store 20141 Park Row Katy TX 77449 United States;X-APPLE-RADIUS=500;X-TITLE=20141 Park Row:geo:-95.7261697,29.789449
END:VEVENT
BEGIN:VEVENT
DTSTART;TZID=America/Chicago:20250124T100000
DTEND;TZID=America/Chicago:20250124T123000
DTSTAMP:20260424T192501
CREATED:20241213T030313Z
LAST-MODIFIED:20250113T041052Z
UID:10003769-1737712800-1737721800@mcdougalsewing.com
SUMMARY:Beginning Quilting
DESCRIPTION:Welcome to Beginning Quilting.  In this class\, we will be covering pressing\, cutting\, piecing\, and sashing.\n\nSupply List: Beginning Quilt\n\nPlease read the Class and Refund Policies before signing up for the class.
URL:https://mcdougalsewing.com/event/beginning-quilting-4/
LOCATION:McDougal Main Store\, 20141 Park Row\, Katy\, TX\, 77449\, United States
CATEGORIES:Main Store
ATTACH;FMTTYPE=image/png:https://mcdougalsewing.com/wp-content/uploads/2024/09/BeginningQuilting.png
ORGANIZER;CN="McDougal Sewing Center":MAILTO:karen.welch@mcdougalsewing.com
GEO:29.789449;-95.7261697
X-APPLE-STRUCTURED-LOCATION;VALUE=URI;X-ADDRESS=McDougal Main Store 20141 Park Row Katy TX 77449 United States;X-APPLE-RADIUS=500;X-TITLE=20141 Park Row:geo:-95.7261697,29.789449
END:VEVENT
END:VCALENDAR