BEGIN:VCALENDAR
VERSION:2.0
PRODID:-//McDougal Sewing Center - ECPv6.15.17.1//NONSGML v1.0//EN
CALSCALE:GREGORIAN
METHOD:PUBLISH
X-WR-CALNAME:McDougal Sewing Center
X-ORIGINAL-URL:https://mcdougalsewing.com
X-WR-CALDESC:Events for McDougal Sewing Center
REFRESH-INTERVAL;VALUE=DURATION:PT1H
X-Robots-Tag:noindex
X-PUBLISHED-TTL:PT1H
BEGIN:VTIMEZONE
TZID:America/Chicago
BEGIN:DAYLIGHT
TZOFFSETFROM:-0600
TZOFFSETTO:-0500
TZNAME:CDT
DTSTART:20240310T080000
END:DAYLIGHT
BEGIN:STANDARD
TZOFFSETFROM:-0500
TZOFFSETTO:-0600
TZNAME:CST
DTSTART:20241103T070000
END:STANDARD
BEGIN:DAYLIGHT
TZOFFSETFROM:-0600
TZOFFSETTO:-0500
TZNAME:CDT
DTSTART:20250309T080000
END:DAYLIGHT
BEGIN:STANDARD
TZOFFSETFROM:-0500
TZOFFSETTO:-0600
TZNAME:CST
DTSTART:20251102T070000
END:STANDARD
BEGIN:DAYLIGHT
TZOFFSETFROM:-0600
TZOFFSETTO:-0500
TZNAME:CDT
DTSTART:20260308T080000
END:DAYLIGHT
BEGIN:STANDARD
TZOFFSETFROM:-0500
TZOFFSETTO:-0600
TZNAME:CST
DTSTART:20261101T070000
END:STANDARD
END:VTIMEZONE
BEGIN:VEVENT
DTSTART;TZID=America/Chicago:20250128T103000
DTEND;TZID=America/Chicago:20250128T133000
DTSTAMP:20260420T112916
CREATED:20241210T231946Z
LAST-MODIFIED:20250115T004252Z
UID:10003748-1738060200-1738071000@mcdougalsewing.com
SUMMARY:Stretch Sewing Techniques
DESCRIPTION:Stretch sewing techniques\nPrerequisite: How to use a pattern class or experience with patterns Use a pattern to construct a sweatshirt or t-shirt with a knit fabric of your choice. Learn techniques to sew on knits and finish seams. You’ll also learn to apply rib knit at the neckline\, cuffs and hem. \nSupply List: Stretch Sewing Techniques-Supply List \nPlease read the \nPlease read the Class and Refund Policies before signing up for the class.
URL:https://mcdougalsewing.com/event/stretch-sewing-techniques-3/
LOCATION:McDougal Main Store\, 20141 Park Row\, Katy\, TX\, 77449\, United States
CATEGORIES:Main Store
ORGANIZER;CN="McDougal Sewing Center":MAILTO:karen.welch@mcdougalsewing.com
GEO:29.789449;-95.7261697
X-APPLE-STRUCTURED-LOCATION;VALUE=URI;X-ADDRESS=McDougal Main Store 20141 Park Row Katy TX 77449 United States;X-APPLE-RADIUS=500;X-TITLE=20141 Park Row:geo:-95.7261697,29.789449
END:VEVENT
BEGIN:VEVENT
DTSTART;TZID=America/Chicago:20250201T100000
DTEND;TZID=America/Chicago:20250201T120000
DTSTAMP:20260420T112916
CREATED:20241117T212829Z
LAST-MODIFIED:20250113T040757Z
UID:10003729-1738404000-1738411200@mcdougalsewing.com
SUMMARY:Feet Fetish-Applique-Satin and Blanket Stitch
DESCRIPTION:Let’s continue our 2025 blocks by going back to the basics with some tricks for Satin Stitch Applique and Blanket Stitch Applique techniques. We still have our hand-dyed Batiks in our kits to create gorgeous Hexagons! \nSupply list and kit options coming soon to this page. \nPlease read the Class and Refund Policies before signing up for this class.
URL:https://mcdougalsewing.com/event/feet-fetish-applique-satin-and-blanket/
LOCATION:McDougal Main Store\, 20141 Park Row\, Katy\, TX\, 77449\, United States
CATEGORIES:Main Store
ATTACH;FMTTYPE=application/pdf:https://mcdougalsewing.com/wp-content/uploads/2024/11/F.F.applique-block-2-2025.HEIC.pdf
ORGANIZER;CN="McDougal Sewing Center":MAILTO:karen.welch@mcdougalsewing.com
GEO:29.789449;-95.7261697
X-APPLE-STRUCTURED-LOCATION;VALUE=URI;X-ADDRESS=McDougal Main Store 20141 Park Row Katy TX 77449 United States;X-APPLE-RADIUS=500;X-TITLE=20141 Park Row:geo:-95.7261697,29.789449
END:VEVENT
BEGIN:VEVENT
DTSTART;TZID=America/Chicago:20250201T130000
DTEND;TZID=America/Chicago:20250201T150000
DTSTAMP:20260420T112916
CREATED:20241117T174602Z
LAST-MODIFIED:20250113T052308Z
UID:10003706-1738414800-1738422000@mcdougalsewing.com
SUMMARY:Serger Basics
DESCRIPTION:Welcome to the world of serging!  \nThis class is for all serger owners\, featuring 4-thread and 3-thread techniques. We will learn how a serger works\, threading steps\, and basic serger skills. \nThis class is open to customers who purchased a qualifying Serger from any McDougal Sewing location. McDougal Sewing does NOT participate in the free guide class for Singer sergers\, so this class is not for Singer sergers. We do offer a Serger 101 class that is open to the public for a fee for sergers not purchased at McDougal Sewing. \nYou must present a sales receipt from McDougal Sewing to take this free class. \nFor those that have a chain-stitch or cover-stitch serger\, contact rebecca.joseph@mcdougalsewing.com for this class. \nDownload Supply List: Serger Basics Supply List \nPlease read Class and Refund Policies.
URL:https://mcdougalsewing.com/event/serger-basics-29/
LOCATION:McDougal Main Store\, 20141 Park Row\, Katy\, TX\, 77449\, United States
CATEGORIES:Main Store
ATTACH;FMTTYPE=image/jpeg:https://mcdougalsewing.com/wp-content/uploads/2024/05/PfaffAdmireAir7000.jpg
ORGANIZER;CN="McDougal Sewing Center":MAILTO:karen.welch@mcdougalsewing.com
GEO:29.789449;-95.7261697
X-APPLE-STRUCTURED-LOCATION;VALUE=URI;X-ADDRESS=McDougal Main Store 20141 Park Row Katy TX 77449 United States;X-APPLE-RADIUS=500;X-TITLE=20141 Park Row:geo:-95.7261697,29.789449
END:VEVENT
END:VCALENDAR