BEGIN:VCALENDAR
VERSION:2.0
PRODID:-//McDougal Sewing Center - ECPv6.15.17.1//NONSGML v1.0//EN
CALSCALE:GREGORIAN
METHOD:PUBLISH
X-WR-CALNAME:McDougal Sewing Center
X-ORIGINAL-URL:https://mcdougalsewing.com
X-WR-CALDESC:Events for McDougal Sewing Center
REFRESH-INTERVAL;VALUE=DURATION:PT1H
X-Robots-Tag:noindex
X-PUBLISHED-TTL:PT1H
BEGIN:VTIMEZONE
TZID:America/Chicago
BEGIN:DAYLIGHT
TZOFFSETFROM:-0600
TZOFFSETTO:-0500
TZNAME:CDT
DTSTART:20240310T080000
END:DAYLIGHT
BEGIN:STANDARD
TZOFFSETFROM:-0500
TZOFFSETTO:-0600
TZNAME:CST
DTSTART:20241103T070000
END:STANDARD
BEGIN:DAYLIGHT
TZOFFSETFROM:-0600
TZOFFSETTO:-0500
TZNAME:CDT
DTSTART:20250309T080000
END:DAYLIGHT
BEGIN:STANDARD
TZOFFSETFROM:-0500
TZOFFSETTO:-0600
TZNAME:CST
DTSTART:20251102T070000
END:STANDARD
BEGIN:DAYLIGHT
TZOFFSETFROM:-0600
TZOFFSETTO:-0500
TZNAME:CDT
DTSTART:20260308T080000
END:DAYLIGHT
BEGIN:STANDARD
TZOFFSETFROM:-0500
TZOFFSETTO:-0600
TZNAME:CST
DTSTART:20261101T070000
END:STANDARD
END:VTIMEZONE
BEGIN:VEVENT
DTSTART;TZID=America/Chicago:20250315T100000
DTEND;TZID=America/Chicago:20250315T120000
DTSTAMP:20260421T045910
CREATED:20250216T074158Z
LAST-MODIFIED:20250305T155710Z
UID:10003813-1742032800-1742040000@mcdougalsewing.com
SUMMARY:Advanced Sewing Techniques-Part 1
DESCRIPTION:MASTER TECHNIQUE CLASS FOR ALL SEWING MACHINES SOLD AT MCDOUGAL SEWING \nLearn some different techniques your sewing machine is capable of in this 2-hour class offered FREE with a sewing machine purchase from McDougal Sewing.  This is a dynamic class that may change each session depending on what most people want to learn.  Some techniques will be demoed\, but most will be hands-on. If you don’t want to bring your machine\, you can just sign up and watch the techniques.  $10 kit fee due on day of class. \nTechniques that will be taught in this class. \n\nHow to do ruffling.\nHow to do gathering.\nHow to do different hems\n\nBasic Advanced Class Supply List \n✓ Your new machine with foot control and power cord \n✓ Owner’s Manual \n✓ All presser feet and accessories that originally came with the machine\, including \nbobbins and spool caps \n✓ Scissors \n✓ Empty bobbin \n✓ Notepad and pen or pencil \n    Neutral thread color such as beige or grey in top and bobbin. \n$10 cash only kit fee will have fabric. \nPrerequisite: Machine Basics  \nSupply List: MasterClassAllMachines \nPlease read Class and Refund Policies
URL:https://mcdougalsewing.com/event/advanced-sewing-techniques-part-1/
LOCATION:McDougal Main Store\, 20141 Park Row\, Katy\, TX\, 77449\, United States
CATEGORIES:Main Store
ATTACH;FMTTYPE=image/png:https://mcdougalsewing.com/wp-content/uploads/2023/02/FF-JUNE-FOOT2.png
ORGANIZER;CN="McDougal Sewing Center":MAILTO:karen.welch@mcdougalsewing.com
GEO:29.789449;-95.7261697
X-APPLE-STRUCTURED-LOCATION;VALUE=URI;X-ADDRESS=McDougal Main Store 20141 Park Row Katy TX 77449 United States;X-APPLE-RADIUS=500;X-TITLE=20141 Park Row:geo:-95.7261697,29.789449
END:VEVENT
END:VCALENDAR