BEGIN:VCALENDAR
VERSION:2.0
PRODID:-//McDougal Sewing Center - ECPv6.15.17.1//NONSGML v1.0//EN
CALSCALE:GREGORIAN
METHOD:PUBLISH
X-WR-CALNAME:McDougal Sewing Center
X-ORIGINAL-URL:https://mcdougalsewing.com
X-WR-CALDESC:Events for McDougal Sewing Center
REFRESH-INTERVAL;VALUE=DURATION:PT1H
X-Robots-Tag:noindex
X-PUBLISHED-TTL:PT1H
BEGIN:VTIMEZONE
TZID:America/Chicago
BEGIN:DAYLIGHT
TZOFFSETFROM:-0600
TZOFFSETTO:-0500
TZNAME:CDT
DTSTART:20240310T080000
END:DAYLIGHT
BEGIN:STANDARD
TZOFFSETFROM:-0500
TZOFFSETTO:-0600
TZNAME:CST
DTSTART:20241103T070000
END:STANDARD
BEGIN:DAYLIGHT
TZOFFSETFROM:-0600
TZOFFSETTO:-0500
TZNAME:CDT
DTSTART:20250309T080000
END:DAYLIGHT
BEGIN:STANDARD
TZOFFSETFROM:-0500
TZOFFSETTO:-0600
TZNAME:CST
DTSTART:20251102T070000
END:STANDARD
BEGIN:DAYLIGHT
TZOFFSETFROM:-0600
TZOFFSETTO:-0500
TZNAME:CDT
DTSTART:20260308T080000
END:DAYLIGHT
BEGIN:STANDARD
TZOFFSETFROM:-0500
TZOFFSETTO:-0600
TZNAME:CST
DTSTART:20261101T070000
END:STANDARD
END:VTIMEZONE
BEGIN:VEVENT
DTSTART;TZID=America/Chicago:20251129T130000
DTEND;TZID=America/Chicago:20251129T150000
DTSTAMP:20260420T064132
CREATED:20250805T013024Z
LAST-MODIFIED:20250808T214028Z
UID:10003947-1764421200-1764428400@mcdougalsewing.com
SUMMARY:Advanced Sewing Techniques-Part 4
DESCRIPTION:Advanced Techniques Part 4- Piping\, Zipper Insertion\, Custom buttonholes\, Button sewing \nMASTER TECHNIQUE CLASS FOR ALL SEWING MACHINES SOLD AT MCDOUGAL SEWING\nIn this class\, you will learn about Zipper insertion\, Custom buttonholes\, Button sewing\, Piping insertion.  Feet you can use are the zipper foot\,  piping foot\, manual buttonhole foot\, button sewing foot.  If you have an invisible zipper you can buy/bring an invisible zipper foot and use that instead of a standard zipper. \nYou must be comfortable using your sewing machine\, know how to thread it and wind a bobbin and where length\, width and tension are located. This is NOT a beginner class. \nThere is a $10 kit fee for this class.  The kit includes all fabric and a standard zipper and a button. \nPlease bring your machine in good working order\, all pressure feet you have\, a neutral top and bobbin thread\, small scissors for threads and a new Universal needle in machine. Pins and a fabric marker
URL:https://mcdougalsewing.com/event/advanced-sewing-techniques-part-4/
LOCATION:McDougal Main Store\, 20141 Park Row\, Katy\, TX\, 77449\, United States
CATEGORIES:Main Store
ATTACH;FMTTYPE=image/jpeg:https://mcdougalsewing.com/wp-content/uploads/2020/12/Zippers.jpg
ORGANIZER;CN="McDougal Sewing Center":MAILTO:karen.welch@mcdougalsewing.com
GEO:29.789449;-95.7261697
X-APPLE-STRUCTURED-LOCATION;VALUE=URI;X-ADDRESS=McDougal Main Store 20141 Park Row Katy TX 77449 United States;X-APPLE-RADIUS=500;X-TITLE=20141 Park Row:geo:-95.7261697,29.789449
END:VEVENT
END:VCALENDAR