BEGIN:VCALENDAR
VERSION:2.0
PRODID:-//McDougal Sewing Center - ECPv6.15.17.1//NONSGML v1.0//EN
CALSCALE:GREGORIAN
METHOD:PUBLISH
X-WR-CALNAME:McDougal Sewing Center
X-ORIGINAL-URL:https://mcdougalsewing.com
X-WR-CALDESC:Events for McDougal Sewing Center
REFRESH-INTERVAL;VALUE=DURATION:PT1H
X-Robots-Tag:noindex
X-PUBLISHED-TTL:PT1H
BEGIN:VTIMEZONE
TZID:America/Chicago
BEGIN:DAYLIGHT
TZOFFSETFROM:-0600
TZOFFSETTO:-0500
TZNAME:CDT
DTSTART:20250309T080000
END:DAYLIGHT
BEGIN:STANDARD
TZOFFSETFROM:-0500
TZOFFSETTO:-0600
TZNAME:CST
DTSTART:20251102T070000
END:STANDARD
BEGIN:DAYLIGHT
TZOFFSETFROM:-0600
TZOFFSETTO:-0500
TZNAME:CDT
DTSTART:20260308T080000
END:DAYLIGHT
BEGIN:STANDARD
TZOFFSETFROM:-0500
TZOFFSETTO:-0600
TZNAME:CST
DTSTART:20261101T070000
END:STANDARD
BEGIN:DAYLIGHT
TZOFFSETFROM:-0600
TZOFFSETTO:-0500
TZNAME:CDT
DTSTART:20270314T080000
END:DAYLIGHT
BEGIN:STANDARD
TZOFFSETFROM:-0500
TZOFFSETTO:-0600
TZNAME:CST
DTSTART:20271107T070000
END:STANDARD
END:VTIMEZONE
BEGIN:VEVENT
DTSTART;TZID=America/Chicago:20260622T103000
DTEND;TZID=America/Chicago:20260622T130000
DTSTAMP:20260423T142839
CREATED:20260421T003758Z
LAST-MODIFIED:20260421T005630Z
UID:10004078-1782124200-1782133200@mcdougalsewing.com
SUMMARY:Beach Towel and Bucket Hat Beginner++
DESCRIPTION:Ages 9-12 \nJune 22-24 \nCampers should be able to operate a machine or have taken any of the Beginner or Beginner+ camps before enrolling in this camp. We will elevate an ordinary beach towel to a carry- and- go towel with an attached pillow. We’ll also make a reversible bucket beach hat\, to match your towel if you choose. \nSupply List: BeachTowelSupplyList
URL:https://mcdougalsewing.com/event/beach-towel-and-bucket-hat-beginner/
LOCATION:McDougal Main Store\, 20141 Park Row\, Katy\, TX\, 77449\, United States
CATEGORIES:Main Store,Events
ATTACH;FMTTYPE=image/jpeg:https://mcdougalsewing.com/wp-content/uploads/2026/04/BeachTowel.jpg
ORGANIZER;CN="McDougal Sewing Center":MAILTO:karen.welch@mcdougalsewing.com
GEO:29.789449;-95.7261697
X-APPLE-STRUCTURED-LOCATION;VALUE=URI;X-ADDRESS=McDougal Main Store 20141 Park Row Katy TX 77449 United States;X-APPLE-RADIUS=500;X-TITLE=20141 Park Row:geo:-95.7261697,29.789449
END:VEVENT
BEGIN:VEVENT
DTSTART;TZID=America/Chicago:20260623T103000
DTEND;TZID=America/Chicago:20260623T130000
DTSTAMP:20260423T142839
CREATED:20260421T003955Z
LAST-MODIFIED:20260421T005318Z
UID:10004079-1782210600-1782219600@mcdougalsewing.com
SUMMARY:Beach Towel and Bucket Hat Beginner++
DESCRIPTION:Ages 9-12 \nJune 22-24 \nCampers should be able to operate a machine or have taken any of the Beginner or Beginner+ camps before enrolling in this camp. We will elevate an ordinary beach towel to a carry- and- go towel with an attached pillow. We’ll also make a reversible bucket beach hat\, to match your towel if you choose. \nSupply List: BeachTowelSupplyList \nClick here to purchase tickets for this Camp.
URL:https://mcdougalsewing.com/event/beach-towel-and-bucket-hat-beginner-2/
LOCATION:McDougal Main Store\, 20141 Park Row\, Katy\, TX\, 77449\, United States
CATEGORIES:Main Store
ORGANIZER;CN="McDougal Sewing Center":MAILTO:karen.welch@mcdougalsewing.com
GEO:29.789449;-95.7261697
X-APPLE-STRUCTURED-LOCATION;VALUE=URI;X-ADDRESS=McDougal Main Store 20141 Park Row Katy TX 77449 United States;X-APPLE-RADIUS=500;X-TITLE=20141 Park Row:geo:-95.7261697,29.789449
END:VEVENT
BEGIN:VEVENT
DTSTART;TZID=America/Chicago:20260624T103000
DTEND;TZID=America/Chicago:20260624T130000
DTSTAMP:20260423T142839
CREATED:20260421T005018Z
LAST-MODIFIED:20260421T005249Z
UID:10004080-1782297000-1782306000@mcdougalsewing.com
SUMMARY:Beach Towel and Bucket Hat Beginner++
DESCRIPTION:Ages 9-12 \nJune 22-24 \nCampers should be able to operate a machine or have taken any of the Beginner or Beginner+ camps before enrolling in this camp. We will elevate an ordinary beach towel to a carry- and- go towel with an attached pillow. We’ll also make a reversible bucket beach hat\, to match your towel if you choose. \nSupply List: BeachTowelSupplyList \nClick here to purchase tickets for this Camp.
URL:https://mcdougalsewing.com/event/beach-towel-and-bucket-hat-beginner-3/
LOCATION:McDougal Main Store\, 20141 Park Row\, Katy\, TX\, 77449\, United States
CATEGORIES:Main Store
ORGANIZER;CN="McDougal Sewing Center":MAILTO:karen.welch@mcdougalsewing.com
GEO:29.789449;-95.7261697
X-APPLE-STRUCTURED-LOCATION;VALUE=URI;X-ADDRESS=McDougal Main Store 20141 Park Row Katy TX 77449 United States;X-APPLE-RADIUS=500;X-TITLE=20141 Park Row:geo:-95.7261697,29.789449
END:VEVENT
BEGIN:VEVENT
DTSTART;TZID=America/Chicago:20260626T100000
DTEND;TZID=America/Chicago:20260626T130000
DTSTAMP:20260423T142839
CREATED:20260220T233919Z
LAST-MODIFIED:20260220T233919Z
UID:10004029-1782468000-1782478800@mcdougalsewing.com
SUMMARY:Viking/Pfaff Computer Machine Basics
DESCRIPTION:Sew… You have a new Machine! \nCongratulations on the purchase of your new machine. We are honored that you have placed your confidence in McDougal Sewing Centers as your home for creativity. To make the most of your new machine\, it is highly encouraged that you attend our “quick start” programs designed to help you get acquainted with your machine. Each session has been developed to gain familiarity with the basic features/functions of your new machine\, to get you creating quickly. These sessions are our gift to you with the purchase of a new machine from McDougal Sewing Center. \nJoin talented Education Team members for a “get acquainted” new machine mixer. The goal of this two-part session is to provide you with the information and knowledge needed to get the most from your new machine. \nWe will cover machine navigation (where is that stitch!)\, TNT (threading\, needles\, tension adjustment)\, and equip you to use your machine with confidence.  \nThis class is open to customers who purchased a qualifying sewing\, embroidery\, and/or combo machine from any McDougal’s location. \nYou must present a sales receipt to take this free class. \nDownload Supply List: Computer Machine Basics Supply List \nPlease read Class and Refund Policies \n\n\n\n\n Add to calendar
URL:https://mcdougalsewing.com/event/viking-pfaff-computer-machine-basics-27/
LOCATION:McDougal Main Store\, 20141 Park Row\, Katy\, TX\, 77449\, United States
CATEGORIES:Main Store
ATTACH;FMTTYPE=image/jpeg:https://mcdougalsewing.com/wp-content/uploads/2019/06/Epic2-Burgundy-S.jpg
ORGANIZER;CN="McDougal Sewing Center":MAILTO:karen.welch@mcdougalsewing.com
GEO:29.789449;-95.7261697
X-APPLE-STRUCTURED-LOCATION;VALUE=URI;X-ADDRESS=McDougal Main Store 20141 Park Row Katy TX 77449 United States;X-APPLE-RADIUS=500;X-TITLE=20141 Park Row:geo:-95.7261697,29.789449
END:VEVENT
BEGIN:VEVENT
DTSTART;TZID=America/Chicago:20260626T140000
DTEND;TZID=America/Chicago:20260626T163000
DTSTAMP:20260423T142839
CREATED:20260221T011415Z
LAST-MODIFIED:20260221T011415Z
UID:10004042-1782482400-1782491400@mcdougalsewing.com
SUMMARY:Viking/Pfaff Machine Embroidery Basics
DESCRIPTION:Join McDougal Sewing Centers Embroidery Specialists for a hands-on embroidery quick start session. This workshop will cover:\n\n\n\nNavigating your embroidery machine\nThreading for embroidery\nProper hooping and basic stabilization\nLettering\n\nBring your machine and its basic embroidery setup\, check the supply list below for other supplies needed. \nPre-requisite: Viking Computer Machine Basics \nCourse Level: All Levels \nThis class is open to customers who purchased a qualifying sewing\, embroidery\, and/or combo machine from any McDougal’s location. You must present a sales receipt to take this free class. \nSupply List: Machine Embroidery Basics Supply List \nPlease read Class and Refund Policies.
URL:https://mcdougalsewing.com/event/viking-pfaff-machine-embroidery-basics-18/
LOCATION:McDougal Main Store\, 20141 Park Row\, Katy\, TX\, 77449\, United States
CATEGORIES:Main Store
ATTACH;FMTTYPE=image/png:https://mcdougalsewing.com/wp-content/uploads/2025/08/nwq-pic.png
ORGANIZER;CN="McDougal Sewing Center":MAILTO:karen.welch@mcdougalsewing.com
GEO:29.789449;-95.7261697
X-APPLE-STRUCTURED-LOCATION;VALUE=URI;X-ADDRESS=McDougal Main Store 20141 Park Row Katy TX 77449 United States;X-APPLE-RADIUS=500;X-TITLE=20141 Park Row:geo:-95.7261697,29.789449
END:VEVENT
BEGIN:VEVENT
DTSTART;TZID=America/Chicago:20260627T100000
DTEND;TZID=America/Chicago:20260627T120000
DTSTAMP:20260423T142839
CREATED:20260221T004832Z
LAST-MODIFIED:20260221T005132Z
UID:10004039-1782554400-1782561600@mcdougalsewing.com
SUMMARY:Advanced Embroidery Techniques-Jeans
DESCRIPTION:Advanced Embroidery Techniques – Jeans \nTBA
URL:https://mcdougalsewing.com/event/advanced-embroidery-techniques-jeans/
LOCATION:McDougal Main Store\, 20141 Park Row\, Katy\, TX\, 77449\, United States
CATEGORIES:Main Store
ORGANIZER;CN="McDougal Sewing Center":MAILTO:karen.welch@mcdougalsewing.com
GEO:29.789449;-95.7261697
X-APPLE-STRUCTURED-LOCATION;VALUE=URI;X-ADDRESS=McDougal Main Store 20141 Park Row Katy TX 77449 United States;X-APPLE-RADIUS=500;X-TITLE=20141 Park Row:geo:-95.7261697,29.789449
END:VEVENT
END:VCALENDAR