BEGIN:VCALENDAR
VERSION:2.0
PRODID:-//McDougal Sewing Center - ECPv6.15.17.1//NONSGML v1.0//EN
CALSCALE:GREGORIAN
METHOD:PUBLISH
X-ORIGINAL-URL:https://mcdougalsewing.com
X-WR-CALDESC:Events for McDougal Sewing Center
REFRESH-INTERVAL;VALUE=DURATION:PT1H
X-Robots-Tag:noindex
X-PUBLISHED-TTL:PT1H
BEGIN:VTIMEZONE
TZID:America/Chicago
BEGIN:DAYLIGHT
TZOFFSETFROM:-0600
TZOFFSETTO:-0500
TZNAME:CDT
DTSTART:20250309T080000
END:DAYLIGHT
BEGIN:STANDARD
TZOFFSETFROM:-0500
TZOFFSETTO:-0600
TZNAME:CST
DTSTART:20251102T070000
END:STANDARD
BEGIN:DAYLIGHT
TZOFFSETFROM:-0600
TZOFFSETTO:-0500
TZNAME:CDT
DTSTART:20260308T080000
END:DAYLIGHT
BEGIN:STANDARD
TZOFFSETFROM:-0500
TZOFFSETTO:-0600
TZNAME:CST
DTSTART:20261101T070000
END:STANDARD
BEGIN:DAYLIGHT
TZOFFSETFROM:-0600
TZOFFSETTO:-0500
TZNAME:CDT
DTSTART:20270314T080000
END:DAYLIGHT
BEGIN:STANDARD
TZOFFSETFROM:-0500
TZOFFSETTO:-0600
TZNAME:CST
DTSTART:20271107T070000
END:STANDARD
END:VTIMEZONE
BEGIN:VEVENT
DTSTART;TZID=America/Chicago:20260629T133000
DTEND;TZID=America/Chicago:20260629T163000
DTSTAMP:20260424T035229
CREATED:20260421T011620Z
LAST-MODIFIED:20260421T011640Z
UID:10004084-1782739800-1782750600@mcdougalsewing.com
SUMMARY:Cross Body Bag Resign Beginner+++
DESCRIPTION:Age 10-Teens \nJune 29 – July 1 \nCampers should be able to operate a machine or have taken any of the Beginner or Beginner+ camps before enrolling in this camp. Campers will all start with a basic bag and move on independently from there according to skill level. For instance a beginner may stick to the basic bag\, and a little more experienced sewer might want to add a ruffle and bow while an even more experienced sewer may choose to make it two dimensional with a bottom and sides (gusset) and a magnetic snap. Embellish your bag as you’d like! \nSupply List:  CrossbodyBagSupplyList
URL:https://mcdougalsewing.com/event/cross-body-bag-resign-beginner/
LOCATION:McDougal Main Store\, 20141 Park Row\, Katy\, TX\, 77449\, United States
CATEGORIES:Main Store,Events
ATTACH;FMTTYPE=image/jpeg:https://mcdougalsewing.com/wp-content/uploads/2026/04/CrossBodyBagRedisign.jpg
ORGANIZER;CN="McDougal Sewing Center":MAILTO:karen.welch@mcdougalsewing.com
GEO:29.789449;-95.7261697
X-APPLE-STRUCTURED-LOCATION;VALUE=URI;X-ADDRESS=McDougal Main Store 20141 Park Row Katy TX 77449 United States;X-APPLE-RADIUS=500;X-TITLE=20141 Park Row:geo:-95.7261697,29.789449
END:VEVENT
BEGIN:VEVENT
DTSTART;TZID=America/Chicago:20260630T133000
DTEND;TZID=America/Chicago:20260630T163000
DTSTAMP:20260424T035229
CREATED:20260421T011951Z
LAST-MODIFIED:20260421T012039Z
UID:10004085-1782826200-1782837000@mcdougalsewing.com
SUMMARY:Cross Body Bag Resign Beginner+++
DESCRIPTION:Age 10-Teens \nJune 29 – July 1 \nCampers should be able to operate a machine or have taken any of the Beginner or Beginner+ camps before enrolling in this camp. Campers will all start with a basic bag and move on independently from there according to skill level. For instance a beginner may stick to the basic bag\, and a little more experienced sewer might want to add a ruffle and bow while an even more experienced sewer may choose to make it two dimensional with a bottom and sides (gusset) and a magnetic snap. Embellish your bag as you’d like! \nSupply List:  CrossbodyBagSupplyList \nClick here to purchase tickets for this Camp. 
URL:https://mcdougalsewing.com/event/cross-body-bag-resign-beginner-2/
LOCATION:McDougal Main Store\, 20141 Park Row\, Katy\, TX\, 77449\, United States
CATEGORIES:Main Store
ORGANIZER;CN="McDougal Sewing Center":MAILTO:karen.welch@mcdougalsewing.com
GEO:29.789449;-95.7261697
X-APPLE-STRUCTURED-LOCATION;VALUE=URI;X-ADDRESS=McDougal Main Store 20141 Park Row Katy TX 77449 United States;X-APPLE-RADIUS=500;X-TITLE=20141 Park Row:geo:-95.7261697,29.789449
END:VEVENT
BEGIN:VEVENT
DTSTART;TZID=America/Chicago:20260701T133000
DTEND;TZID=America/Chicago:20260701T163000
DTSTAMP:20260424T035229
CREATED:20260421T012133Z
LAST-MODIFIED:20260421T012133Z
UID:10004086-1782912600-1782923400@mcdougalsewing.com
SUMMARY:Cross Body Bag Resign Beginner+++
DESCRIPTION:Age 10-Teens \nJune 29 – July 1 \nCampers should be able to operate a machine or have taken any of the Beginner or Beginner+ camps before enrolling in this camp. Campers will all start with a basic bag and move on independently from there according to skill level. For instance a beginner may stick to the basic bag\, and a little more experienced sewer might want to add a ruffle and bow while an even more experienced sewer may choose to make it two dimensional with a bottom and sides (gusset) and a magnetic snap. Embellish your bag as you’d like! \nSupply List:  CrossbodyBagSupplyList \nClick here to purchase tickets for this Camp. 
URL:https://mcdougalsewing.com/event/cross-body-bag-resign-beginner-3/
LOCATION:McDougal Main Store\, 20141 Park Row\, Katy\, TX\, 77449\, United States
CATEGORIES:Main Store
ORGANIZER;CN="McDougal Sewing Center":MAILTO:karen.welch@mcdougalsewing.com
GEO:29.789449;-95.7261697
X-APPLE-STRUCTURED-LOCATION;VALUE=URI;X-ADDRESS=McDougal Main Store 20141 Park Row Katy TX 77449 United States;X-APPLE-RADIUS=500;X-TITLE=20141 Park Row:geo:-95.7261697,29.789449
END:VEVENT
END:VCALENDAR